Workbook
Name case: Input!$J$6
Name date: Info!$N$7
Name switch: Info!$N$12
Name Switch2: Input!$F$5

Sheet Welcome
A2: Debenhams LBO model
A5: This document is for training purposes only. Financial Edge accepts no responsibility or liability for any other purpose or usage.
A7: © 2025 Financial Edge Training

Sheet Info
A1: =Welcome!A2 -> Debenhams LBO model
A2: Model information
B4: Features | L4: Model Details
B5: ◦ | C5: LBO Model
L6: Target | N6: Debenhams
L7: Analysis date | N7: 42496
L8: Acquirer latest year end | N8: 42369
L10: Units | N10: Millions
L11: Analyst Name | N11: Firstname Lastname
L12: Circular Switch | N12: 0
B15: Tab Structure | O15: Formatting
B16: Tab name here | D16: Tab description here
P17: Input
P18: Hard coded
P19: Formulas

Sheet LBO
A1: ="Debenhams LBO - "&case -> Debenhams LBO - Management case
A2: Figures in MMs | C2: Hist. | D2: Hist. | E2: Hist. | F2: Hist. | J2: Proj. | K2: Proj. | L2: Proj. | M2: Proj. | N2: Proj. | O2: Proj. | P2: Proj. | Q2: Proj.
A3: LBO | C3: =EDATE(D3,-12) -> 41274 | D3: =EDATE(E3,-12) -> 41639 | E3: =EDATE(F3,-12) -> 42004 | F3: 42369 | G3: Accounting | H3: Financing | I3: Combo | J3: =EDATE(F3,12) -> 42735 | K3: =EDATE(J3,12) -> 43100 | L3: =EDATE(K3,12) -> 43465 | M3: =EDATE(L3,12) -> 43830 | N3: =EDATE(M3,12) -> 44196 | O3: =EDATE(N3,12) -> 44561 | P3: =EDATE(O3,12) -> 44926 | Q3: =EDATE(P3,12) -> 45291
A5: Key assumptions
B6: Historic EBITDA | F6: =IS!F14 -> 238.6 | H6: Fees % EV | J6: 0.03
B7: EV/LTM EBITDA | F7: 7.5 | H7: LIBOR | J7: 0.007
B8: Acquisition EV | H8: 8 year GILT | J8: 0.01
B9: Net debt | F9: =BS!F17+BS!F21-BS!F5 -> 302.4 | H9: Exit year | J9: 7
B10: Acquisition equity value | H10: % cash sweep | J10: 0.75
B11: EBITDA improvement (% net sales) | F11: 0.02
A13: Sources and uses | H13: Debt/EBITDA | I13: % total | J13: Spread | K13: Rate | L13: Avg. life | M13: Repaid by year
B14: =B10 -> Acquisition equity value | E14: Revolver | G14: 0 | H14: =G14/$F$6 -> 0 | I14: =G14/$G$21 -> #DIV/0! | J14: 0.05 | K14: =J14+$J$7 -> 0.057
B15: Refinanced net debt | E15: First Lien | G15: 400 | H15: =G15/$F$6+H14 -> 1.6764459 | I15: =G15/$G$21 -> #DIV/0! | J15: 0.05 | K15: =J15+$J$7 -> 0.057
B16: Fees | E16: Second Lien | G16: 511 | H16: =G16/$F$6+H15 -> 3.8181056 | I16: =G16/$G$21 -> #DIV/0! | J16: 0.09 | K16: =J16+$J$7 -> 0.097
B17: Total uses | E17: Junior notes | G17: 0 | H17: =G17/$F$6+H16 -> 3.8181056 | I17: =G17/$G$21 -> #DIV/0! | J17: 0.09 | K17: =J17+J8 -> 0.1
E18: Mezzanine | G18: 300 | H18: =G18/$F$6+H17 -> 5.0754401 | I18: =G18/$G$21 -> #DIV/0! | K18: 0.12 | L18: PIK
E19: Prefs | I19: =G19/$G$21 -> #DIV/0! | K19: 0.12 | L19: PIK
E20: Common equity | G20: 10 | I20: =G20/$G$21 -> #DIV/0!
E21: Total sources
A23: Ownership | C23: At entry | D23: At exit | F23: Goodwill
B24: Institutions | C24: =1-C25-C26 -> 0.9 | D24: =C24*(C27-D25) -> 0.855 | F24: Equity purchase price
B25: Mezzanine | C25: 0 | D25: 0.05 | F25: Net identifiable assets
B26: Management | C26: 0.1 | D26: =C26*(C27-D25) -> 0.095 | F26: Goodwill
B27: Total | C27: =SUM(C24:C26) -> 1 | D27: =SUM(D24:D26) -> 1
A30: Equity returns
B31: Year count | J31: 1 | K31: =J31+1 -> 2 | L31: =K31+1 -> 3 | M31: =L31+1 -> 4 | N31: =M31+1 -> 5 | O31: =N31+1 -> 6 | P31: =O31+1 -> 7 | Q31: =P31+1 -> 8
B32: Adjusted EBITDA
B33: Enterprise value
B34: + Cash
B35: - Total debt excluding mezzanine
B36: - Mezzanine
B37: - Preference shares
B38: = Equity value
B40: Mezzanine
B41: Equity value of warrants
B42: Value of mezzanine loan
B43: Mezzanine cash flows
B44: IRR
... B53: Management cash flows

Sheet Input
A1: ="Debenhams LBO - "&case -> Debenhams LBO - Management case
A2: Figures in MMs | C2: Hist. | D2: Hist. | E2: Hist. | F2: Hist. | J2: Proj. | K2: Proj. | L2: Proj. | M2: Proj. | N2: Proj. | O2: Proj. | P2: Proj. | Q2: Proj.
A3: Assumptions | C3: =EDATE(D3,-12) -> 41274 | D3: =EDATE(E3,-12) -> 41639 | E3: =EDATE(F3,-12) -> 42004 | F3: 42369 | G3: Accounting | H3: Financing | I3: Combo | J3: =EDATE(F3,12) -> 42735 | K3: =EDATE(J3,12) -> 43100 | L3: =EDATE(K3,12) -> 43465 | M3: =EDATE(L3,12) -> 43830 | N3: =EDATE(M3,12) -> 44196 | O3: =EDATE(N3,12) -> 44561 | P3: =EDATE(O3,12) -> 44926 | Q3: =EDATE(P3,12) -> 45291
B5: Circ switch | F5: 0
B6: SG&A % sales | J6: Management case
B7: Bank case | J7: -0.07 | K7: -0.07 | L7: -0.07 | M7: -0.07 | N7: -0.07 | O7: -0.07 | P7: -0.07 | Q7: -0.07
B8: Management case | J8: -0.06 | K8: -0.05 | L8: -0.05 | M8: -0.05 | N8: -0.05 | O8: -0.05 | P8: -0.05 | Q8: -0.05
A10: Income statement assumptions
B11: Sales growth rate | D11: =IS!D5/IS!C5-1 -> 0.023499865 | E11: =IS!E5/IS!D5-1 -> 0.013364298 | F11: =IS!F5/IS!E5-1 -> 0.0043239504 | J11: 0.013 | K11: 0.004 | L11: 0.25 | M11: 0.017 | N11: 0.016 | O11: 0.016 | P11: 0.016 | Q11: 0.016
B12: COGS % sales | C12: =IS!C6/IS!C5 -> -0.86510001 | D12: =IS!D6/IS!D5 -> -0.86951187 | E12: =IS!E6/IS!E5 -> -0.88022657 | F12: =IS!F6/IS!F5 -> -0.8725621 | J12: -0.873 | K12: -0.873 | L12: -0.873 | M12: -0.873 | N12: -0.873 | O12: -0.873 | P12: -0.873 | Q12: -0.873
B13: Depreciation % of last year's net PP&E | F13: =Calc!F8/Calc!E9 -> #DIV/0! | J13: -0.109 | K13: -0.109 | L13: -0.109 | M13: -0.109 | N13: -0.109 | O13: -0.109 | P13: -0.109 | Q13: -0.109
B14: Amortization amount | C14: =IS!C13 -> 0 | D14: =IS!D13 -> -11.4 | E14: =IS!E13 -> 0 | F14: =IS!F13 -> 0 | J14: 0 | K14: 0 | L14: 0 | M14: 0 | N14: 0 | O14: 0 | P14: 0 | Q14: 0
B15: SG&A % sales | C15: =IS!C9/IS!C5 -> -0.056327922 | D15: =IS!D9/IS!D5 -> -0.062308299 | E15: =IS!E9/IS!E5 -> -0.06356207 | F15: =IS!F9/IS!F5 -> -0.069574202 | J15: =CHOOSE(MATCH($J$6,$B$7:$B$8,0),J7,J8) -> -0.06 | K15: =CHOOSE(MATCH($J$6,$B$7:$B$8,0),K7,K8) -> -0.05 | L15: =CHOOSE(MATCH($J$6,$B$7:$B$8,0),L7,L8) -> -0.05 | M15: =CHOOSE(MATCH($J$6,$B$7:$B$8,0),M7,M8) -> -0.05 | N15: =CHOOSE(MATCH($J$6,$B$7:$B$8,0),N7,N8) -> -0.05 | O15: =CHOOSE(MATCH($J$6,$B$7:$B$8,0),O7,O8) -> -0.05 | P15: =CHOOSE(MATCH($J$6,$B$7:$B$8,0),P7,P8) -> -0.05 | Q15: =CHOOSE(MATCH($J$6,$B$7:$B$8,0),Q7,Q8) -> -0.05
B16: Effective tax rate | C16: =IS!C22/IS!C20 -> -0.20560748 | D16: =IS!D22/IS!D20 -> -0.16108787 | E16: =IS!E22/IS!E20 -> -0.16258741 | F16: =IS!F22/IS!F20 -> -0.17361111 | J16: -0.2 | K16: -0.2 | L16: -0.2 | M16: -0.2 | N16: -0.2 | O16: -0.2 | P16: -0.2 | Q16: -0.2
A18: Balance sheet assumptions
B19: Inventory days | C19: =BS!C7/IS!C6*365 -> -62.876879 | D19: =BS!D7/IS!D6*365 -> -65.830226 | E19: =BS!E7/IS!E6*365 -> -61.983838 | F19: =BS!F7/IS!F6*365 -> -59.719741 | J19: -59.7 | K19: -59.7 | L19: -59.7 | M19: -59.7 | N19: -59.7 | O19: -59.7 | P19: -59.7 | Q19: -59.7
B20: Receivable days | C20: =BS!C6/IS!C5*365 -> 3.4211588 | D20: =BS!D6/IS!D5*365 -> 3.1666813 | E20: =BS!E6/IS!E5*365 -> 3.992952 | F20: =BS!F6/IS!F5*365 -> 3.9129031 | J20: 3.9 | K20: 3.9 | L20: 3.9 | M20: 3.9 | N20: 3.9 | O20: 3.9 | P20: 3.9 | Q20: 3.9
B21: Other current assets % of sales | C21: =BS!C8/IS!C5 -> 0.024441654 | D21: =BS!D8/IS!D5 -> 0.025633161 | E21: =BS!E8/IS!E5 -> 0.021360315 | F21: =BS!F8/IS!F5 -> 0.022861325 | J21: 0.023 | K21: 0.023 | L21: 0.023 | M21: 0.023 | N21: 0.023 | O21: 0.023 | P21: 0.023 | Q21: 0.023
B22: Capex % sales | C22: =Calc!C7/IS!C5 -> 0.04547493 | D22: =Calc!D7/IS!D5 -> 0.049820349 | E22: =Calc!E7/IS!E5 -> 0.044234012 | F22: =Calc!F7/IS!F5 -> 0.034270461 | J22: 0.034 | K22: 0.034 | L22: 0.034 | M22: 0.034 | N22: 0.034 | O22: 0.034 | P22: 0.034 | Q22: 0.034
B23: Other LT assets amount | C23: =BS!C13 -> 105.2 | D23: =BS!D13 -> 93.7 | E23: =BS!E13 -> 80.1 | F23: =BS!F13 -> 76.1 | J23: 76.1 | K23: 76.1 | L23: 76.1 | M23: 76.1 | N23: 76.1 | O23: 76.1 | P23: 76.1 | Q23: 76.1
B25: Payable days | C25: =BS!C18/IS!C6*365 -> -60.227838 | D25: =BS!D18/IS!D6*365 -> -63.457468 | E25: =BS!E18/IS!E6*365 -> -58.487498 | F25: =BS!F18/IS!F6*365 -> -58.837272 | J25: -58.8 | K25: -58.8 | L25: -58.8 | M25: -58.8 | N25: -58.8 | O25: -58.8 | P25: -58.8 | Q25: -58.8
B26: Other LT liabilities amount | C26: =BS!C27 -> 699.2 | D26: =BS!D27 -> 644.4 | E26: =BS!E27 -> 628.9 | F26: =BS!F27 -> 610.1 | J26: 610.1 | K26: 610.1 | L26: 610.1 | M26: 610.1 | N26: 610.1 | O26: 610.1 | P26: 610.1 | Q26: 610.1

Sheet Calc
A1: ="Debenhams LBO - "&case -> Debenhams LBO - Management case
A2: Figures in MMs | C2: Hist. | D2: Hist. | E2: Hist. | F2: Hist. | J2: Proj. | K2: Proj. | L2: Proj. | M2: Proj. | N2: Proj. | O2: Proj. | P2: Proj. | Q2: Proj.
A3: LBO | C3: =EDATE(D3,-12) -> 41274 | D3: =EDATE(E3,-12) -> 41639 | E3: =EDATE(F3,-12) -> 42004 | F3: 42369 | G3: Accounting | H3: Financing | I3: Combo | J3: =EDATE(F3,12) -> 42735 | K3: =EDATE(J3,12) -> 43100 | L3: =EDATE(K3,12) -> 43465 | M3: =EDATE(L3,12) -> 43830 | N3: =EDATE(M3,12) -> 44196 | O3: =EDATE(N3,12) -> 44561 | P3: =EDATE(O3,12) -> 44926 | Q3: =EDATE(P3,12) -> 45291
A5: Net PP&E
B6: Beginning | J6: =I9 -> 0 | K6: =J9 -> 79.998433 | L6: =K9 -> 151.59703 | M6: =L9 -> 235.47099 | N6: =M9 -> 311.90945 | O6: =N9 -> 381.6498 | P6: =O9 -> 445.44826 | Q6: =P9 -> 503.97907
B7: Capex | C7: 101.4 | D7: 113.7 | E7: 102.3 | F7: 79.6 | J7: =Input!J22*IS!J5 -> 79.998433 | K7: =Input!K22*IS!K5 -> 80.318427 | L7: =Input!L22*IS!L5 -> 100.39803 | M7: =Input!M22*IS!M5 -> 102.1048 | N7: =Input!N22*IS!N5 -> 103.73848 | O7: =Input!O22*IS!O5 -> 105.39829 | P7: =Input!P22*IS!P5 -> 107.08467 | Q7: =Input!Q22*IS!Q5 -> 108.79802
B8: Depreciation | J8: =Input!J13*Calc!J6 -> 0 | K8: =Input!K13*Calc!K6 -> -8.7198292 | L8: =Input!L13*Calc!L6 -> -16.524076 | M8: =Input!M13*Calc!M6 -> -25.666338 | N8: =Input!N13*Calc!N6 -> -33.99813 | O8: =Input!O13*Calc!O6 -> -41.599828 | P8: =Input!P13*Calc!P6 -> -48.553861 | Q8: =Input!Q13*Calc!Q6 -> -54.933718
B9: Ending | I9: =BS!I11 -> 0 | J9: =SUM(J6:J8) -> 79.998433 | K9: =SUM(K6:K8) -> 151.59703 | L9: =SUM(L6:L8) -> 235.47099 | M9: =SUM(M6:M8) -> 311.90945 | N9: =SUM(N6:N8) -> 381.6498 | O9: =SUM(O6:O8) -> 445.44826 | P9: =SUM(P6:P8) -> 503.97907 | Q9: =SUM(Q6:Q8) -> 557.84337
A12: Equity
B13: Beginning | J13: =I16 -> 0 | K13: =J16 -> 126.11518 | L13: =K16 -> 271.63327 | M13: =L16 -> 453.53088 | N13: =M16 -> 638.52076 | O13: =N16 -> 826.47047 | P13: =O16 -> 1017.4274 | Q13: =P16 -> 1211.4396
B14: Net income | J14: =IS!J23 -> 126.11518 | K14: =IS!K23 -> 145.51809 | L14: =IS!L23 -> 181.89761 | M14: =IS!M23 -> 184.98987 | N14: =IS!N23 -> 187.94971 | O14: =IS!O23 -> 190.95691 | P14: =IS!P23 -> 194.01222 | Q14: =IS!Q23 -> 197.11641
B15: Preference dividends
B16: Ending | I16: =BS!I30 -> 0 | J16: =SUM(J13:J15) -> 126.11518 | K16: =SUM(K13:K15) -> 271.63327 | L16: =SUM(L13:L15) -> 453.53088 | M16: =SUM(M13:M15) -> 638.52076 | N16: =SUM(N13:N15) -> 826.47047 | O16: =SUM(O13:O15) -> 1017.4274 | P16: =SUM(P13:P15) -> 1211.4396 | Q16: =SUM(Q13:Q15) -> 1408.556
A18: Operating working capital
B19: =BS!B6 -> Accounts receivable | I19: =BS!I6 -> 0 | J19: =BS!J6 -> 25.140523 | K19: =BS!K6 -> 25.241085 | L19: =BS!L6 -> 31.551356 | M19: =BS!M6 -> 32.087729 | N19: =BS!N6 -> 32.601133 | O19: =BS!O6 -> 33.122751 | P19: =BS!P6 -> 33.652715 | Q19: =BS!Q6 -> 34.191159
B20: =BS!B7 -> Inventories | I20: =BS!I7 -> 0 | J20: =BS!J7 -> 335.96828 | K20: =BS!K7 -> 337.31215 | L20: =BS!L7 -> 421.64019 | M20: =BS!M7 -> 428.80807 | N20: =BS!N7 -> 435.669 | O20: =BS!O7 -> 442.63971 | P20: =BS!P7 -> 449.72194 | Q20: =BS!Q7 -> 456.91749
B21: =BS!B8 -> Other current assets | I21: =BS!I8 -> 0 | J21: =BS!J8 -> 54.116587 | K21: =BS!K8 -> 54.333054 | L21: =BS!L8 -> 67.916317 | M21: =BS!M8 -> 69.070894 | N21: =BS!N8 -> 70.176029 | O21: =BS!O8 -> 71.298845 | P21: =BS!P8 -> 72.439627 | Q21: =BS!Q8 -> 73.598661
B22: =BS!B18 -> Accounts payable | I22: =BS!I18 -> 0 | J22: =BS!J18 -> 330.90343 | K22: =BS!K18 -> 332.22705 | L22: =BS!L18 -> 415.28381 | M22: =BS!M18 -> 422.34363 | N22: =BS!N18 -> 429.10113 | O22: =BS!O18 -> 435.96675 | P22: =BS!P18 -> 442.94222 | Q22: =BS!Q18 -> 450.02929
B23: OWC | I23: =SUM(I19:I21)-I22 -> 0 | J23: =SUM(J19:J21)-J22 -> 84.321959 | K23: =SUM(K19:K21)-K22 -> 84.659247 | L23: =SUM(L19:L21)-L22 -> 105.82406 | M23: =SUM(M19:M21)-M22 -> 107.62307 | N23: =SUM(N19:N21)-N22 -> 109.34504 | O23: =SUM(O19:O21)-O22 -> 111.09456 | P23: =SUM(P19:P21)-P22 -> 112.87207 | Q23: =SUM(Q19:Q21)-Q22 -> 114.67802

Sheet IS
A1: ="Debenhams LBO - "&case -> Debenhams LBO - Management case
A2: Figures in MMs | C2: Hist. | D2: Hist. | E2: Hist. | F2: Hist. | J2: Proj. | K2: Proj. | L2: Proj. | M2: Proj. | N2: Proj. | O2: Proj. | P2: Proj. | Q2: Proj.
A3: Income statement | C3: =EDATE(D3,-12) -> 41274 | D3: =EDATE(E3,-12) -> 41639 | E3: =EDATE(F3,-12) -> 42004 | F3: 42369 | G3: Accounting | H3: Financing | I3: Combo | J3: =EDATE(F3,12) -> 42735 | K3: =EDATE(J3,12) -> 43100 | L3: =EDATE(K3,12) -> 43465 | M3: =EDATE(L3,12) -> 43830 | N3: =EDATE(M3,12) -> 44196 | O3: =EDATE(N3,12) -> 44561 | P3: =EDATE(O3,12) -> 44926 | Q3: =EDATE(P3,12) -> 45291
B5: Net sales | C5: 2229.8 | D5: 2282.2 | E5: 2312.7 | F5: 2322.7 | J5: =(Input!J11+1)*IS!F5 -> 2352.8951 | K5: =(Input!K11+1)*IS!J5 -> 2362.3067 | L5: =(Input!L11+1)*IS!K5 -> 2952.8834 | M5: =(Input!M11+1)*IS!L5 -> 3003.0824 | N5: =(Input!N11+1)*IS!M5 -> 3051.1317 | O5: =(Input!O11+1)*IS!N5 -> 3099.9498 | P5: =(Input!P11+1)*IS!O5 -> 3149.549 | Q5: =(Input!Q11+1)*IS!P5 -> 3199.9418
B6: Cost of sales | C6: -1929 | D6: -1984.4 | E6: -2035.7 | F6: -2026.7 | J6: =Input!J12*IS!J5 -> -2054.0774 | K6: =Input!K12*IS!K5 -> -2062.2937 | L6: =Input!L12*IS!L5 -> -2577.8672 | M6: =Input!M12*IS!M5 -> -2621.6909 | N6: =Input!N12*IS!N5 -> -2663.638 | O6: =Input!O12*IS!O5 -> -2706.2562 | P6: =Input!P12*IS!P5 -> -2749.5563 | Q6: =Input!Q12*IS!Q5 -> -2793.5492
B7: Gross profit | C7: =SUM(C5:C6) -> 300.8 | D7: =SUM(D5:D6) -> 297.8 | E7: =SUM(E5:E6) -> 277 | F7: =SUM(F5:F6) -> 296 | J7: =SUM(J5:J6) -> 298.81768 | K7: =SUM(K5:K6) -> 300.01295 | L7: =SUM(L5:L6) -> 375.01619 | M7: =SUM(M5:M6) -> 381.39146 | N7: =SUM(N5:N6) -> 387.49372 | O7: =SUM(O5:O6) -> 393.69362 | P7: =SUM(P5:P6) -> 399.99272 | Q7: =SUM(Q5:Q6) -> 406.39261
B9: SG&A | C9: -125.6 | D9: -142.2 | E9: -147 | F9: -161.6 | J9: =Input!J15*IS!J5 -> -141.17371 | K9: =Input!K15*IS!K5 -> -118.11533 | L9: =Input!L15*IS!L5 -> -147.64417 | M9: =Input!M15*IS!M5 -> -150.15412 | N9: =Input!N15*IS!N5 -> -152.55658 | O9: =Input!O15*IS!O5 -> -154.99749 | P9: =Input!P15*IS!P5 -> -157.47745 | Q9: =Input!Q15*IS!Q5 -> -159.99709
B10: EBIT | C10: =C7+C9 -> 175.2 | D10: =D7+D9 -> 155.6 | E10: =E7+E9 -> 130 | F10: =F7+F9 -> 134.4 | J10: =J7+J9 -> 157.64397 | K10: =K7+K9 -> 181.89761 | L10: =L7+L9 -> 227.37202 | M10: =M7+M9 -> 231.23734 | N10: =N7+N9 -> 234.93714 | O10: =O7+O9 -> 238.69613 | P10: =P7+P9 -> 242.51527 | Q10: =Q7+Q9 -> 246.39552
B12: Depreciation | C12: -91.6 | D12: -94.6 | E12: -100.8 | F12: -104.2 | J12: =Calc!J8 -> 0 | K12: =Calc!K8 -> -8.7198292 | L12: =Calc!L8 -> -16.524076 | M12: =Calc!M8 -> -25.666338 | N12: =Calc!N8 -> -33.99813 | O12: =Calc!O8 -> -41.599828 | P12: =Calc!P8 -> -48.553861 | Q12: =Calc!Q8 -> -54.933718
B13: Amortization | C13: 0 | D13: -11.4 | E13: 0 | F13: 0 | J13: =Input!J14 -> 0 | K13: =Input!K14 -> 0 | L13: =Input!L14 -> 0 | M13: =Input!M14 -> 0 | N13: =Input!N14 -> 0 | O13: =Input!O14 -> 0 | P13: =Input!P14 -> 0 | Q13: =Input!Q14 -> 0
B14: EBITDA | C14: =C10-C12-C13 -> 266.8 | D14: =D10-D12-D13 -> 261.6 | E14: =E10-E12-E13 -> 230.8 | F14: =F10-F12-F13 -> 238.6 | J14: =J10-J12-J13 -> 157.64397 | K14: =K10-K12-K13 -> 190.61744 | L14: =L10-L12-L13 -> 243.89609 | M14: =M10-M12-M13 -> 256.90368 | N14: =N10-N12-N13 -> 268.93527 | O14: =O10-O12-O13 -> 280.29596 | P14: =P10-P12-P13 -> 291.06913 | Q14: =Q10-Q12-Q13 -> 301.32923
B16: EBITDA improvements | C16: 0 | D16: 0 | E16: 0 | F16: 0
B17: Adjusted EBITDA | C17: =C14+C16 -> 266.8 | D17: =D14+D16 -> 261.6 | E17: =E14+E16 -> 230.8 | F17: =F14+F16 -> 238.6 | J17: =J14+J16 -> 157.64397 | K17: =K14+K16 -> 190.61744 | L17: =L14+L16 -> 243.89609 | M17: =M14+M16 -> 256.90368 | N17: =N14+N16 -> 268.93527 | O17: =O14+O16 -> 280.29596 | P17: =P14+P16 -> 291.06913 | Q17: =Q14+Q16 -> 301.32923
B19: Interest expense | C19: -14.7 | D19: -12.2 | E19: -15.6 | F19: -19.2
B20: Income before tax | C20: =SUM(C10,C19:C19) -> 160.5 | D20: =SUM(D10,D19:D19) -> 143.4 | E20: =SUM(E10,E19:E19) -> 114.4 | F20: =SUM(F10,F19:F19) -> 115.2 | J20: =SUM(J10,J16,J19:J19) -> 157.64397 | K20: =SUM(K10,K16,K19:K19) -> 181.89761 | L20: =SUM(L10,L16,L19:L19) -> 227.37202 | M20: =SUM(M10,M16,M19:M19) -> 231.23734 | N20: =SUM(N10,N16,N19:N19) -> 234.93714 | O20: =SUM(O10,O16,O19:O19) -> 238.69613 | P20: =SUM(P10,P16,P19:P19) -> 242.51527 | Q20: =SUM(Q10,Q16,Q19:Q19) -> 246.39552
B22: Provision for income taxes | C22: -33 | D22: -23.1 | E22: -18.6 | F22: -20 | J22: =Input!J16*IS!J20 -> -31.528794 | K22: =Input!K16*IS!K20 -> -36.379523 | L22: =Input!L16*IS!L20 -> -45.474404 | M22: =Input!M16*IS!M20 -> -46.247468 | N22: =Input!N16*IS!N20 -> -46.987428 | O22: =Input!O16*IS!O20 -> -47.739227 | P22: =Input!P16*IS!P20 -> -48.503054 | Q22: =Input!Q16*IS!Q20 -> -49.279103
B23: Net income | C23: =C20+C22 -> 127.5 | D23: =D20+D22 -> 120.3 | E23: =E20+E22 -> 95.8 | F23: =F20+F22 -> 95.2 | J23: =J20+J22 -> 126.11518 | K23: =K20+K22 -> 145.51809 | L23: =L20+L22 -> 181.89761 | M23: =M20+M22 -> 184.98987 | N23: =N20+N22 -> 187.94971 | O23: =O20+O22 -> 190.95691 | P23: =P20+P22 -> 194.01222 | Q23: =Q20+Q22 -> 197.11641

Sheet BS
A1: ="Debenhams LBO - "&case -> Debenhams LBO - Management case
A2: Figures in MMs | C2: Hist. | D2: Hist. | E2: Hist. | F2: Hist. | J2: Proj. | K2: Proj. | L2: Proj. | M2: Proj. | N2: Proj. | O2: Proj. | P2: Proj. | Q2: Proj.
A3: Balance sheet | C3: =EDATE(D3,-12) -> 41274 | D3: =EDATE(E3,-12) -> 41639 | E3: =EDATE(F3,-12) -> 42004 | F3: 42369 | G3: Accounting | H3: Financing | I3: Combo | J3: =EDATE(F3,12) -> 42735 | K3: =EDATE(J3,12) -> 43100 | L3: =EDATE(K3,12) -> 43465 | M3: =EDATE(L3,12) -> 43830 | N3: =EDATE(M3,12) -> 44196 | O3: =EDATE(N3,12) -> 44561 | P3: =EDATE(O3,12) -> 44926 | Q3: =EDATE(P3,12) -> 45291
B5: Cash | C5: 51.8 | D5: 34.3 | E5: 65.9 | F5: 50.1
B6: Accounts receivable | C6: 20.9 | D6: 19.8 | E6: 25.3 | F6: 24.9 | J6: =Input!J20/365*IS!J5 -> 25.140523 | K6: =Input!K20/365*IS!K5 -> 25.241085 | L6: =Input!L20/365*IS!L5 -> 31.551356 | M6: =Input!M20/365*IS!M5 -> 32.087729 | N6: =Input!N20/365*IS!N5 -> 32.601133 | O6: =Input!O20/365*IS!O5 -> 33.122751 | P6: =Input!P20/365*IS!P5 -> 33.652715 | Q6: =Input!Q20/365*IS!Q5 -> 34.191159
B7: Inventories | C7: 332.3 | D7: 357.9 | E7: 345.7 | F7: 331.6 | J7: =Input!J19/365*IS!J6 -> 335.96828 | K7: =Input!K19/365*IS!K6 -> 337.31215 | L7: =Input!L19/365*IS!L6 -> 421.64019 | M7: =Input!M19/365*IS!M6 -> 428.80807 | N7: =Input!N19/365*IS!N6 -> 435.669 | O7: =Input!O19/365*IS!O6 -> 442.63971 | P7: =Input!P19/365*IS!P6 -> 449.72194 | Q7: =Input!Q19/365*IS!Q6 -> 456.91749
B8: Other current assets | C8: 54.5 | D8: 58.5 | E8: 49.4 | F8: 53.1 | J8: =Input!J21*IS!J5 -> 54.116587 | K8: =Input!K21*IS!K5 -> 54.333054 | L8: =Input!L21*IS!L5 -> 67.916317 | M8: =Input!M21*IS!M5 -> 69.070894 | N8: =Input!N21*IS!N5 -> 70.176029 | O8: =Input!O21*IS!O5 -> 71.298845 | P8: =Input!P21*IS!P5 -> 72.439627 | Q8: =Input!Q21*IS!Q5 -> 73.598661
B9: Total current assets | C9: =SUM(C5:C8) -> 459.5 | D9: =SUM(D5:D8) -> 470.5 | E9: =SUM(E5:E8) -> 486.3 | F9: =SUM(F5:F8) -> 459.7 | J9: =SUM(J5:J8) -> 415.22539 | K9: =SUM(K5:K8) -> 416.88629 | L9: =SUM(L5:L8) -> 521.10786 | M9: =SUM(M5:M8) -> 529.9667 | N9: =SUM(N5:N8) -> 538.44617 | O9: =SUM(O5:O8) -> 547.0613 | P9: =SUM(P5:P8) -> 555.81428 | Q9: =SUM(Q5:Q8) -> 564.70731
B11: PP&E | C11: 661.6 | D11: 692.1 | E11: 689.2 | F11: 675.3 | J11: =Calc!J9 -> 79.998433 | K11: =Calc!K9 -> 151.59703 | L11: =Calc!L9 -> 235.47099 | M11: =Calc!M9 -> 311.90945 | N11: =Calc!N9 -> 381.6498 | O11: =Calc!O9 -> 445.44826 | P11: =Calc!P9 -> 503.97907 | Q11: =Calc!Q9 -> 557.84337
B12: Intangible assets | C12: 864.9 | D12: 876.5 | E12: 892.8 | F12: 931.5 | J12: =I12+IS!J13 -> 0 | K12: =J12+IS!K13 -> 0 | L12: =K12+IS!L13 -> 0 | M12: =L12+IS!M13 -> 0 | N12: =M12+IS!N13 -> 0 | O12: =N12+IS!O13 -> 0 | P12: =O12+IS!P13 -> 0 | Q12: =P12+IS!Q13 -> 0
B13: Other LT assets | C13: 105.2 | D13: 93.7 | E13: 80.1 | F13: 76.1 | J13: =Input!J23 -> 76.1 | K13: =Input!K23 -> 76.1 | L13: =Input!L23 -> 76.1 | M13: =Input!M23 -> 76.1 | N13: =Input!N23 -> 76.1 | O13: =Input!O23 -> 76.1 | P13: =Input!P23 -> 76.1 | Q13: =Input!Q23 -> 76.1
B14: Goodwill | C14: 0 | D14: 0 | E14: 0 | F14: 0
B15: Total assets | C15: =SUM(C9,C11:C14) -> 2091.2 | D15: =SUM(D9,D11:D14) -> 2132.8 | E15: =SUM(E9,E11:E14) -> 2148.4 | F15: =SUM(F9,F11:F14) -> 2142.6 | J15: =SUM(J9,J11:J14) -> 571.32382 | K15: =SUM(K9,K11:K14) -> 644.58332 | L15: =SUM(L9,L11:L14) -> 832.67885 | M15: =SUM(M9,M11:M14) -> 917.97615 | N15: =SUM(N9,N11:N14) -> 996.19596 | O15: =SUM(O9,O11:O14) -> 1068.6096 | P15: =SUM(P9,P11:P14) -> 1135.8934 | Q15: =SUM(Q9,Q11:Q14) -> 1198.6507
B17: Revolver | C17: 163.4 | D17: 163.1 | E17: 202.1 | F17: 155.4
B18: Accounts payable | C18: 318.3 | D18: 345 | E18: 326.2 | F18: 326.7 | J18: =Input!J25/365*IS!J6 -> 330.90343 | K18: =Input!K25/365*IS!K6 -> 332.22705 | L18: =Input!L25/365*IS!L6 -> 415.28381 | M18: =Input!M25/365*IS!M6 -> 422.34363 | N18: =Input!N25/365*IS!N6 -> 429.10113 | O18: =Input!O25/365*IS!O6 -> 435.96675 | P18: =Input!P25/365*IS!P6 -> 442.94222 | Q18: =Input!Q25/365*IS!Q6 -> 450.02929
B19: Total current liabilities | C19: =SUM(C17:C18) -> 481.7 | D19: =SUM(D17:D18) -> 508.1 | E19: =SUM(E17:E18) -> 528.3 | F19: =SUM(F17:F18) -> 482.1 | J19: =SUM(J17:J18) -> 330.90343 | K19: =SUM(K17:K18) -> 332.22705 | L19: =SUM(L17:L18) -> 415.28381 | M19: =SUM(M17:M18) -> 422.34363 | N19: =SUM(N17:N18) -> 429.10113 | O19: =SUM(O17:O18) -> 435.96675 | P19: =SUM(P17:P18) -> 442.94222 | Q19: =SUM(Q17:Q18) -> 450.02929
B21: Debt | C21: 249.3 | D21: 235.9 | E21: 223.8 | F21: 197.1
B22: =LBO!E15 -> First Lien
B23: =LBO!E16 -> Second Lien
B24: =LBO!E17 -> Junior notes
B25: =LBO!E18 -> Mezzanine
B26: =LBO!E19 -> Prefs
B27: Other LT liabilities | C27: 699.2 | D27: 644.4 | E27: 628.9 | F27: 610.1 | J27: =Input!J26 -> 610.1 | K27: =Input!K26 -> 610.1 | L27: =Input!L26 -> 610.1 | M27: =Input!M26 -> 610.1 | N27: =Input!N26 -> 610.1 | O27: =Input!O26 -> 610.1 | P27: =Input!P26 -> 610.1 | Q27: =Input!Q26 -> 610.1
B28: Total liabilities | C28: =SUM(C19,C21:C27) -> 1430.2 | D28: =SUM(D19,D21:D27) -> 1388.4 | E28: =SUM(E19,E21:E27) -> 1381 | F28: =SUM(F19,F21:F27) -> 1289.3 | J28: =SUM(J19,J21:J27) -> 941.00343 | K28: =SUM(K19,K21:K27) -> 942.32705 | L28: =SUM(L19,L21:L27) -> 1025.3838 | M28: =SUM(M19,M21:M27) -> 1032.4436 | N28: =SUM(N19,N21:N27) -> 1039.2011 | O28: =SUM(O19,O21:O27) -> 1046.0667 | P28: =SUM(P19,P21:P27) -> 1053.0422 | Q28: =SUM(Q19,Q21:Q27) -> 1060.1293
B30: Equity | C30: 661 | D30: 744.4 | E30: 767.4 | F30: 853.3 | J30: =Calc!J16 -> 126.11518 | K30: =Calc!K16 -> 271.63327 | L30: =Calc!L16 -> 453.53088 | M30: =Calc!M16 -> 638.52076 | N30: =Calc!N16 -> 826.47047 | O30: =Calc!O16 -> 1017.4274 | P30: =Calc!P16 -> 1211.4396 | Q30: =Calc!Q16 -> 1408.556
B31: Total liabilities and equity | C31: =SUM(C28,C30) -> 2091.2 | D31: =SUM(D28,D30) -> 2132.8 | E31: =SUM(E28,E30) -> 2148.4 | F31: =SUM(F28,F30) -> 2142.6 | J31: =J28+J30 -> 1067.1186 | K31: =K28+K30 -> 1213.9603 | L31: =L28+L30 -> 1478.9147 | M31: =M28+M30 -> 1670.9644 | N31: =N28+N30 -> 1865.6716 | O31: =O28+O30 -> 2063.4941 | P31: =P28+P30 -> 2264.4818 | Q31: =Q28+Q30 -> 2468.6853
B33: Balance? | C33: =IF(C31=C15,"OK",C15-C31) -> OK | D33: =IF(D31=D15,"OK",D15-D31) -> OK | E33: =IF(E31=E15,"OK",E15-E31) -> OK | F33: =IF(F31=F15,"OK",F15-F31) -> OK | J33: =IF(J31=J15,"OK",J15-J31) -> -495.79479 | K33: =IF(K31=K15,"OK",K15-K31) -> -569.37699 | L33: =IF(L31=L15,"OK",L15-L31) -> -646.23584 | M33: =IF(M31=M15,"OK",M15-M31) -> -752.98824 | N33: =IF(N31=N15,"OK",N15-N31) -> -869.47563 | O33: =IF(O31=O15,"OK",O15-O31) -> -994.88456 | P33: =IF(P31=P15,"OK",P15-P31) -> -1128.5885 | Q33: =IF(Q31=Q15,"OK",Q15-Q31) -> -1270.0346

Sheet CFS
A1: ="Debenhams LBO - "&case -> Debenhams LBO - Management case
A2: Figures in MMs | C2: Hist. | D2: Hist. | E2: Hist. | F2: Hist. | J2: Proj. | K2: Proj. | L2: Proj. | M2: Proj. | N2: Proj. | O2: Proj. | P2: Proj. | Q2: Proj.
A3: Cash flow statement | C3: =EDATE(D3,-12) -> 41274 | D3: =EDATE(E3,-12) -> 41639 | E3: =EDATE(F3,-12) -> 42004 | F3: 42369 | G3: Accounting | H3: Financing | I3: Combo | J3: =EDATE(F3,12) -> 42735 | K3: =EDATE(J3,12) -> 43100 | L3: =EDATE(K3,12) -> 43465 | M3: =EDATE(L3,12) -> 43830 | N3: =EDATE(M3,12) -> 44196 | O3: =EDATE(N3,12) -> 44561 | P3: =EDATE(O3,12) -> 44926 | Q3: =EDATE(P3,12) -> 45291
B5: =IS!B17 -> Adjusted EBITDA
B6: Cash interest
B7: Tax expense
B8: (Inc) dec in other LT assets
B9: Inc (dec) in other LT liabilities
B10: (Inc) dec in OWC
B11: Cash flow from operations
B13: (Capex)
B14: Cash flow from investing activities
B16: Inc (dec) in revolver
B17: Inc (dec) in LT debt
B18: ="Inc (dec) in "&BS!B22 -> Inc (dec) in First Lien
B19: ="Inc (dec) in "&BS!B23 -> Inc (dec) in Second Lien
B20: ="Inc (dec) in "&BS!B24 -> Inc (dec) in Junior notes
B21: Cash flow from financing activities
B23: Beginning cash
B24: Net cash flow
B25: Ending cash | I25: =BS!I5 -> 0

Sheet Debt
A1: ="Debenhams LBO - "&TEXT(case,0) -> Debenhams LBO - Management case
A2: Figures in MMs | C2: Hist. | D2: Hist. | E2: Hist. | F2: Hist. | J2: Proj. | K2: Proj. | L2: Proj. | M2: Proj. | N2: Proj. | O2: Proj. | P2: Proj. | Q2: Proj.
A3: Debt | C3: =EDATE(D3,-12) -> 41274 | D3: =EDATE(E3,-12) -> 41639 | E3: =EDATE(F3,-12) -> 42004 | F3: 42369 | G3: Accounting | H3: Financing | I3: Combo | J3: =EDATE(F3,12) -> 42735 | K3: =EDATE(J3,12) -> 43100 | L3: =EDATE(K3,12) -> 43465 | M3: =EDATE(L3,12) -> 43830 | N3: =EDATE(M3,12) -> 44196 | O3: =EDATE(N3,12) -> 44561 | P3: =EDATE(O3,12) -> 44926 | Q3: =EDATE(P3,12) -> 45291
A5: Mandatory repayment assumptions
B6: =BS!B22 -> First Lien | J6: 0.124 | K6: 0.137 | L6: 0.112 | M6: 0.178 | N6: 0.198 | O6: 0.219 | P6: 0.032 | Q6: 0
B7: =BS!B23 -> Second Lien | J7: 0 | K7: 0 | L7: 0 | M7: 0 | N7: 0 | O7: 0 | P7: 0 | Q7: 1
B8: =BS!B24 -> Junior notes | J8: 0 | K8: 0 | L8: 0 | M8: 0 | N8: 0 | O8: 0 | P8: 0 | Q8: 0
A10: Cash flow
B11: Beginning cash balance
B12: Cash flow from operations
B13: Cash flow from investing
B14: Cash flow for debt repayment
B16: Mandatory repayments
B17: =B6 -> First Lien
B18: =B7 -> Second Lien
B19: =B8 -> Junior notes
B20: Cash flow for revolver
B22: Revolver
B23: Beginning
B24: Issuance (repayment)
B25: Ending | I25: =BS!I17 -> 0
B26: Interest expense
B28: Cash flow for first lien acceleration
B30: First Lien
B31: Beginning balance
B32: Mandatory repayment
B33: Accelerated repayment
B34: Ending balance | I34: =BS!H22 -> 0
B35: Interest expense
B37: Cash flow for second lien acceleration
B39: Second Lien
B40: Beginning balance
B41: Mandatory repayment
B42: Accelerated repayment
B43: Ending balance | I43: =BS!H23 -> 0
B44: Interest expense
B46: Junior notes
B47: Beginning
B48: Repayment
B49: Ending | I49: =BS!H24 -> 0
...
