Workbook
Name CircSwitch: Info!$N$10

Sheet Welcome
A2: Nike Valuation Model
A5: This document is for training purposes only. Financial Edge accepts no responsibility or liability for any other purpose or usage.
A7: ="© "&YEAR(TODAY())&" Financial Edge Training" -> © 2026 Financial Edge Training
A8: www.fe.training

Sheet Info
A1: =Welcome!A2 -> Nike Valuation Model
A2: Model information
B4: Features | L4: Model Details
B5: ◦ | C5: Historical financials and forecast revenue | L5: Company name | N5: Nike
B6: ◦ | C6: Financial forecast model | L6: Date | N6: 46311
B7: ◦ | C7: Weighted average cost of capital | L7: Currency | N7: USD
B8: ◦ | C8: Discounted cash flow analysis | L8: Units | N8: Millions
L9: Analyst Name | N9: Firstname Lastname
L10: Circular Switch | N10: 1
B13: Tab Structure | O13: Formatting
B14: Financials | D14: =C5 -> Historical financials and forecast revenue | P14: Input
B15: 3SM | D15: =C6 -> Financial forecast model | P15: Hard coded
B16: WACC | D16: =C7 -> Weighted average cost of capital | P16: Formulas
B17: DCF | D17: =C8 -> Discounted cash flow analysis | P17: Cross-sheet link

Sheet Financials
A1: Historical Financials & Forecast Revenue
C2: =IF(C3<Info!$N$6,"Actual", "Projected") -> Actual | D2: =IF(D3<Info!$N$6,"Actual", "Projected") -> Actual | E2: =IF(E3<Info!$N$6,"Actual", "Projected") -> Actual | F2: =IF(F3<Info!$N$6,"Actual", "Projected") -> Projected | G2: =IF(G3<Info!$N$6,"Actual", "Projected") -> Projected | H2: =IF(H3<Info!$N$6,"Actual", "Projected") -> Projected | I2: =IF(I3<Info!$N$6,"Actual", "Projected") -> Projected | J2: =IF(J3<Info!$N$6,"Actual", "Projected") -> Projected | ... O2: =IF(O3<Info!$N$6,"Actual", "Projected") -> Projected
B3: All numbers in USDm unless otherwise stated | C3: =EOMONTH(D3,-12) -> 45443 | D3: =EOMONTH(E3,-12) -> 45808 | E3: =EOMONTH(F3,-12) -> 46173 | F3: =DATE(YEAR(Info!N6)+1,5,31) -> 46538 | G3: =EOMONTH(F3,12) -> 46904 | H3: =EOMONTH(G3,12) -> 47269 | I3: =EOMONTH(H3,12) -> 47634 | J3: =EOMONTH(I3,12) -> 47999 | K3: =EOMONTH(J3,12) -> 48365 | L3: =EOMONTH(K3,12) -> 48730 | M3: =EOMONTH(L3,12) -> 49095 | N3: =EOMONTH(M3,12) -> 49460 | O3: =EOMONTH(N3,12) -> 49826
A5: Income statement
B6: Revenue
B7: Footwear | C7: =33427-42 -> 33385 | D7: =29510-97 -> 29413 | E7: =29525+2 -> 29527 | F7: 29171.3 | G7: 30078.7 | H7: 31922
B8: Apparel | C8: 13775 | D8: 12965 | E8: 13449 | F8: 13389.3 | G8: 13802.3 | H8: 14350
B9: Equipment | C9: 2075 | D9: 2191 | E9: 2199 | F9: 2196 | G9: 2254.67 | H9: 2402
B10: Global brand | C10: =2082+45 -> 2127 | D10: =1692+48 -> 1740 | E10: =1174+49 -> 1223 | F10: 918 | G10: 832 | H10: 755
B11: Total revenue | C11: =SUM(C7:C10) -> 51362 | D11: =SUM(D7:D10) -> 46309 | E11: =SUM(E7:E10) -> 46398
B13: Cost of goods sold excl. depreciation | C13: =-28475-C20 -> -27679 | D13: =-26519-D20 -> -25744 | E13: =-26487-E20 -> -25740
B14: Gross profit | C14: =C11+C13 -> 23683 | D14: =D11+D13 -> 20565 | E14: =E11+E13 -> 20658
B16: Operating overhead expense | C16: -12291 | D16: -11399 | E16: -11360
B17: Demand creation expense | C17: -4285 | D17: -4689 | E17: -4754
B18: EBITDA | C18: =C14+C16+C17 -> 7107 | D18: =D14+D16+D17 -> 4477 | E18: =E14+E16+E17 -> 4544
B20: Depreciation | C20: -796 | D20: -775 | E20: -747
B21: EBIT | C21: =C18+C20 -> 6311 | D21: =D18+D20 -> 3702 | E21: =E18+E20 -> 3797
B23: Net Interest expense | C23: 161 | D23: 107 | E23: 50
B24: Other financial income / (expense) | C24: 228 | D24: 76 | E24: 53
B25: Profit before tax | C25: =C21+SUM(C23:C24) -> 6700 | D25: =D21+SUM(D23:D24) -> 3885 | E25: =E21+SUM(E23:E24) -> 3900
B27: Tax expense | C27: -1000 | D27: -666 | E27: -792
B28: Net income | C28: =C25+C27 -> 5700 | D28: =D25+D27 -> 3219 | E28: =E25+E27 -> 3108
A30: Balance sheet
B31: Cash | C31: 9860 | D31: 7464 | E31: 7563
B32: Short term investments | C32: 1722 | D32: 1687 | E32: 1464
B33: Accounts receivable | C33: 4427 | D33: 4717 | E33: 5931
B34: Inventories | C34: 7519 | D34: 7489 | E34: 7501
B35: Other current assets | C35: 1854 | D35: 2005 | E35: 2144
B36: Total current assets | C36: =SUM(C31:C35) -> 25382 | D36: =SUM(D31:D35) -> 23362 | E36: =SUM(E31:E35) -> 24603
B38: Net PP&E | C38: 5000 | D38: 4828 | E38: 4796
B39: Operating lease assets | C39: 2718 | D39: 2712 | E39: 2838
B40: Goodwill | C40: 259 | D40: 259 | E40: 259
B41: Other intangibles assets | C41: 240 | D41: 240 | E41: 240
B42: Other operating assets | C42: 4511 | D42: 5178 | E42: 5674
B43: Total assets | C43: =C36+SUM(C38:C42) -> 38110 | D43: =D36+SUM(D38:D42) -> 36579 | E43: =E36+SUM(E38:E42) -> 38410
B45: Revolver | C45: 1000 | D45: 0 | E45: 2000
B46: Accounts payable | C46: 2851 | D46: 3479 | E46: 3600
B47: Accrued liabilities | C47: 5731 | D47: 5916 | E47: 6092
B48: Income taxes payable | C48: 534 | D48: 669 | E48: 377
B49: Total current liabilities | C49: =SUM(C45:C48) -> 10116 | D49: =SUM(D45:D48) -> 10064 | E49: =SUM(E45:E48) -> 12069
...

Sheet 3SM
A1: Financial Forecast Model
C2: =IF(C3<Info!$N$6,"Actual", "Projected") -> Actual | D2: =IF(D3<Info!$N$6,"Actual", "Projected") -> Actual | E2: =IF(E3<Info!$N$6,"Actual", "Projected") -> Actual | F2: =IF(F3<Info!$N$6,"Actual", "Projected") -> Projected | G2: =IF(G3<Info!$N$6,"Actual", "Projected") -> Projected | H2: =IF(H3<Info!$N$6,"Actual", "Projected") -> Projected | I2: =IF(I3<Info!$N$6,"Actual", "Projected") -> Projected | J2: =IF(J3<Info!$N$6,"Actual", "Projected") -> Projected | ... O2: =IF(O3<Info!$N$6,"Actual", "Projected") -> Projected
B3: All numbers in USDm unless otherwise stated | C3: =EOMONTH(D3,-12) -> 45443 | D3: =EOMONTH(E3,-12) -> 45808 | E3: =EOMONTH(F3,-12) -> 46173 | F3: =DATE(YEAR(Info!N6)+1,5,31) -> 46538 | G3: =EOMONTH(F3,12) -> 46904 | H3: =EOMONTH(G3,12) -> 47269 | I3: =EOMONTH(H3,12) -> 47634 | J3: =EOMONTH(I3,12) -> 47999 | K3: =EOMONTH(J3,12) -> 48365 | L3: =EOMONTH(K3,12) -> 48730 | M3: =EOMONTH(L3,12) -> 49095 | N3: =EOMONTH(M3,12) -> 49460 | O3: =EOMONTH(N3,12) -> 49826
A5: Assumptions
B6: Key inputs
B7: Long-term revenue growth rate | C7: 0.025
B8: Days in year | C8: 365

Sheet WACC
A1: Weighted Average Cost of Capital
A5: Key inputs
B6: Target debt % | C6: 0.15
B7: Marginal tax rate | C7: 0.234
B8: Risk free rate | C8: 0.0527
B9: Credit spread (BBB) | C9: 0.0064
B10: Equity market risk premium | C10: 0.06
B11: Unlevered beta | C11: 0.94

Sheet DCF
A1: Discounted Cash Flow Model
C2: =IF(C3<Info!$N$6,"Actual", "Projected") -> Actual | D2: =IF(D3<Info!$N$6,"Actual", "Projected") -> Actual | E2: =IF(E3<Info!$N$6,"Actual", "Projected") -> Actual | F2: =IF(F3<Info!$N$6,"Actual", "Projected") -> Projected | G2: =IF(G3<Info!$N$6,"Actual", "Projected") -> Projected | H2: =IF(H3<Info!$N$6,"Actual", "Projected") -> Projected | I2: =IF(I3<Info!$N$6,"Actual", "Projected") -> Projected | J2: =IF(J3<Info!$N$6,"Actual", "Projected") -> Projected | ... O2: =IF(O3<Info!$N$6,"Actual", "Projected") -> Projected
B3: All numbers in USDm unless otherwise stated | C3: =EOMONTH(D3,-12) -> 45443 | D3: =EOMONTH(E3,-12) -> 45808 | E3: =EOMONTH(F3,-12) -> 46173 | F3: =DATE(YEAR(Info!N6)+1,5,31) -> 46538 | G3: =EOMONTH(F3,12) -> 46904 | H3: =EOMONTH(G3,12) -> 47269 | I3: =EOMONTH(H3,12) -> 47634 | J3: =EOMONTH(I3,12) -> 47999 | K3: =EOMONTH(J3,12) -> 48365 | L3: =EOMONTH(K3,12) -> 48730 | M3: =EOMONTH(L3,12) -> 49095 | N3: =EOMONTH(M3,12) -> 49460 | O3: =EOMONTH(N3,12) -> 49826
A5: Key inputs
B6: Valuation date | C6: =Info!N6 -> 46311
B7: WACC
B8: Long term growth rate | C8: ='3SM'!C7 -> 0.025
B9: Exit EBITDA multiple | C9: 10
