Workbook
Name date: Info!#REF!
Name switch: Info!$N$11
Name target_yrend: Info!$N$8
Name Title: Info!$A$1

Sheet Welcome
A2: Morrisons LBO
A5: This document is for training purposes only. Financial Edge accepts no responsibility or liability for any other purpose or usage.
A7: © 2025 Financial Edge Training

Sheet Info
A1: Morrisons LBO
A2: {=MID(CELL("filename",C1),FIND("]",CELL("filename",C1))+1,255)} -> Info
B4: Features | L4: Model Details
B5: ◦ | C5: LBO Model
B6: ◦ | C6: Consolidation | L6: Target | N6: Morrisons
B7: ◦ | C7: Financing package scenarios | L7: Acquisition date | N7: 44500
B8: ◦ | C8: Non-cash items | L8: Last target year end | N8: 44500
B9: ◦ | C9: IFRS leases | L9: Units | N9: £ MM
B10: ◦ | C10: Multiple stakeholder IRRs | L10: Analyst Name | N10: Firstname Lastname
B11: ◦ | C11: Sensitivity table | L11: Circular Switch | N11: 1
B14: Tab Structure | O14: Formatting
B15: LBO
B16: Input | P16: Input
B17: Calculations | P17: Hard coded
B18: Income statement | P18: Formulas
B19: Balance sheet
B20: Cashflow statement
B21: Debt

Sheet LBO
A1: =Title -> Morrisons LBO
A2: =Info!N9 -> £ MM | C2: Hist. | G2: Proj. | H2: Proj. | I2: Proj. | J2: Proj. | K2: Proj. | L2: Proj. | M2: Proj. | N2: Proj.
A3: {=MID(CELL("filename",#REF!),FIND("]",CELL("filename",#REF!))+1,255)} -> #REF! | C3: =target_yrend -> 44500 | D3: Accounting | E3: Financing | F3: Combo | G3: =EDATE(C3,12) -> 44865 | H3: =EDATE(G3,12) -> 45230 | I3: =EDATE(H3,12) -> 45596 | J3: =EDATE(I3,12) -> 45961 | K3: =EDATE(J3,12) -> 46326 | L3: =EDATE(K3,12) -> 46691 | M3: =EDATE(L3,12) -> 47057 | N3: =EDATE(M3,12) -> 47422
A5: Key assumptions
B6: Share price (£) | F6: 1.78
B7: Premium | F7: 0.6
B8: Acquisition share price (£) | F8: =F6*(1+F7) -> 2.848
B9: Basic shares outstanding (MM) | F9: =2419457489/1000000 -> 2419.4575
B10: Dilution adjustment | F10: =SUM(E30:E32) -> 55.529635
B11: Diluted shares outstanding | F11: =SUM(F9:F10) -> 2474.9871
B12: Acquisition equity value | F12: =F8*F11 -> 7048.7633
B13: Net debt (incl lease) | F13: =BS!C18+BS!C23+BS!C24-BS!C5 -> 3012
B14: Pension deficit | F14: 1.3
B15: Acquisition EV | F15: =SUM(F12:F14) -> 10062.063
B16: Historic EBITDA | F16: =IS!C20 -> 693.3
B17: Entry EV/LTM EBITDA | F17: =F15/F16 -> 14.513289
B18: Exit EV/LTM EBITDA | F18: =F17 -> 14.513289
B19: Fees % EV | F19: 0.02
B20: SOFR | F20: 0.0005
B21: Exit year | F21: 5
B22: % cash sweep | F22: 0.75
B23: Maximum synergies as a % of LTM sales | F23: 0.03
B24: Maximum synergies achieved in year | F24: 3
B25: Mezzanine warrant equity on exit | F25: 0.05
B26: Cash interest rate | F26: 0.005
A28: Dilution adjustment
B29: Instrument | C29: # | D29: Price | E29: Dilution
B30: Sharesaver scheme | C30: 51 | D30: 1.83 | E30: =C30*MAX(0,($F$8-D30)/$F$8) -> 18.229635
B31: LTIP | C31: 34 | D31: 0 | E31: =C31*MAX(0,($F$8-D31)/$F$8) -> 34
B32: Deferred share bonus | C32: 3.3 | D32: 0 | E32: =C32*MAX(0,($F$8-D32)/$F$8) -> 3.3
A34: Financing package options
B35: Instrument | C35: Package 1 | D35: Package 2
B36: Revolver | C36: 0 | D36: 0
B37: Term loan B | C37: 2800 | D37: 500
B38: Subordinated loan | C38: 800 | D38: 100
B39: Senior bonds | C39: 0 | D39: 6000
B40: Mezzanine | C40: 1000 | D40: 0
B41: Preference shares | C41: =C43-C42-SUM(C36:C40) -> 2878.0046 | D41: =D43-D42-SUM(D36:D40) -> 878.0046
B42: Common equity | C42: 1500 | D42: 1500
B43: Total sources | C43: =$D$49 -> 8978.0046 | D43: =$D$49 -> 8978.0046
...

Sheet Input
A1: =Title -> Morrisons LBO
A2: =Info!N9 -> £ MM | C2: Hist. | G2: Proj. | H2: Proj. | I2: Proj. | J2: Proj. | K2: Proj. | L2: Proj. | M2: Proj. | N2: Proj.
A3: {=MID(CELL("filename",#REF!),FIND("]",CELL("filename",#REF!))+1,255)} -> #REF! | C3: =target_yrend -> 44500 | D3: Accounting | E3: Financing | F3: Combo | G3: =EDATE(C3,12) -> 44865 | H3: =EDATE(G3,12) -> 45230 | I3: =EDATE(H3,12) -> 45596 | J3: =EDATE(I3,12) -> 45961 | K3: =EDATE(J3,12) -> 46326 | L3: =EDATE(K3,12) -> 46691 | M3: =EDATE(L3,12) -> 47057 | N3: =EDATE(M3,12) -> 47422
B5: Scenario selected | C5: 2
A7: Income statement assumptions
B8: Bank case sales growth | G8: 0.01 | H8: 0.02 | I8: 0.025 | J8: =I8 -> 0.025 | K8: =J8 -> 0.025 | L8: =K8 -> 0.025 | M8: =L8 -> 0.025 | N8: =M8 -> 0.025
B9: Base case sales growth | G9: 0.03 | H9: =G9 -> 0.03 | I9: =H9 -> 0.03 | J9: =I9 -> 0.03 | K9: =J9 -> 0.03 | L9: =K9 -> 0.03 | M9: =L9 -> 0.03 | N9: =M9 -> 0.03
B10: Sales growth | G10: {=INDEX(G8:G9,$C$5,)} -> 0.03 | H10: {=INDEX(H8:H9,$C$5,)} -> 0.03 | I10: {=INDEX(I8:I9,$C$5,)} -> 0.03 | J10: {=INDEX(J8:J9,$C$5,)} -> 0.03 | K10: {=INDEX(K8:K9,$C$5,)} -> 0.03 | L10: {=INDEX(L8:L9,$C$5,)} -> 0.03 | M10: {=INDEX(M8:M9,$C$5,)} -> 0.03 | N10: {=INDEX(N8:N9,$C$5,)} -> 0.03
B11: Bank case COS % sales | G11: -0.98 | H11: =G11 -> -0.98 | I11: =H11 -> -0.98 | J11: =I11 -> -0.98 | K11: =J11 -> -0.98 | L11: =K11 -> -0.98 | M11: =L11 -> -0.98 | N11: =M11 -> -0.98
B12: Base case COS % sales | G12: -0.9761918 | H12: -0.9761918 | I12: -0.9761918 | J12: -0.9761918 | K12: -0.9761918 | L12: -0.9761918 | M12: -0.9761918 | N12: -0.9761918
B13: Cost of sales % sales | C13: =IS!C6/IS!C5 -> -0.9761918 | G13: {=INDEX(G11:G12,$C$5,)} -> -0.9761918 | H13: {=INDEX(H11:H12,$C$5,)} -> -0.9761918 | I13: {=INDEX(I11:I12,$C$5,)} -> -0.9761918 | J13: {=INDEX(J11:J12,$C$5,)} -> -0.9761918 | K13: {=INDEX(K11:K12,$C$5,)} -> -0.9761918 | L13: {=INDEX(L11:L12,$C$5,)} -> -0.9761918 | M13: {=INDEX(M11:M12,$C$5,)} -> -0.9761918 | N13: {=INDEX(N11:N12,$C$5,)} -> -0.9761918
B14: SG&A % sales | C14: =IS!C8/IS!C5 -> -0.014184792 | G14: -0.014 | H14: -0.014 | I14: -0.014 | J14: -0.014 | K14: -0.014 | L14: -0.014 | M14: -0.014 | N14: -0.014
B15: Synergies as a % of last historical year sales | G15: =MIN(COLUMNS($G$15:G15),LBO!$F$24)*LBO!$F$23/LBO!$F$24 -> 0.01 | H15: =MIN(COLUMNS($G$15:H15),LBO!$F$24)*LBO!$F$23/LBO!$F$24 -> 0.02 | I15: =MIN(COLUMNS($G$15:I15),LBO!$F$24)*LBO!$F$23/LBO!$F$24 -> 0.03 | J15: =MIN(COLUMNS($G$15:J15),LBO!$F$24)*LBO!$F$23/LBO!$F$24 -> 0.03 | K15: =MIN(COLUMNS($G$15:K15),LBO!$F$24)*LBO!$F$23/LBO!$F$24 -> 0.03 | L15: =MIN(COLUMNS($G$15:L15),LBO!$F$24)*LBO!$F$23/LBO!$F$24 -> 0.03 | M15: =MIN(COLUMNS($G$15:M15),LBO!$F$24)*LBO!$F$23/LBO!$F$24 -> 0.03 | N15: =MIN(COLUMNS($G$15:N15),LBO!$F$24)*LBO!$F$23/LBO!$F$24 -> 0.03
B16: PPE depn % opening | G16: -0.06 | H16: =G16 -> -0.06 | I16: =H16 -> -0.06 | J16: =I16 -> -0.06 | K16: =J16 -> -0.06 | L16: =K16 -> -0.06 | M16: =L16 -> -0.06 | N16: =M16 -> -0.06
B17: Amort % of opening | G17: -0.15 | H17: -0.15 | I17: -0.15 | J17: -0.15 | K17: -0.15 | L17: -0.15 | M17: -0.15 | N17: -0.15
B18: Other expenses | C18: =IS!C9 -> -49 | G18: 0 | H18: 0 | I18: 0 | J18: 0 | K18: 0 | L18: 0 | M18: 0 | N18: 0
B19: Lease interest rate | G19: 0.035 | H19: 0.035 | I19: 0.035 | J19: 0.035 | K19: 0.035 | L19: 0.035 | M19: 0.035 | N19: 0.035
B20: Lease depn % opening | G20: -0.04 | H20: -0.04 | I20: -0.04 | J20: -0.04 | K20: -0.04 | L20: -0.04 | M20: -0.04 | N20: -0.04
B21: Effective tax rate | C21: =IS!C14/IS!C13*-1 -> -1.0434783 | G21: -0.05 | H21: -0.19 | I21: =H21 -> -0.19 | J21: =I21 -> -0.19 | K21: =J21 -> -0.19 | L21: =K21 -> -0.19 | M21: =L21 -> -0.19 | N21: =M21 -> -0.19
A23: Balance sheet assumptions
B24: Inventory days | C24: =BS!C7/IS!C6*365 -> -18.760613 | G24: =C24 -> -18.760613 | H24: =G24 -> -18.760613 | I24: =H24 -> -18.760613 | J24: =I24 -> -18.760613 | K24: =J24 -> -18.760613 | L24: =K24 -> -18.760613 | M24: =L24 -> -18.760613 | N24: =M24 -> -18.760613
B25: Receivable days | C25: =BS!C6/IS!C5*365 -> 9.7457863 | G25: =C25 -> 9.7457863 | H25: =G25 -> 9.7457863 | I25: =H25 -> 9.7457863 | J25: =I25 -> 9.7457863 | K25: =J25 -> 9.7457863 | L25: =K25 -> 9.7457863 | M25: =L25 -> 9.7457863 | N25: =M25 -> 9.7457863
B26: Other current assets % of sales | C26: =BS!C8/IS!C5 -> 0.0018913056 | G26: =C26 -> 0.0018913056 | H26: =G26 -> 0.0018913056 | I26: =H26 -> 0.0018913056 | J26: =I26 -> 0.0018913056 | K26: =J26 -> 0.0018913056 | L26: =K26 -> 0.0018913056 | M26: =L26 -> 0.0018913056 | N26: =M26 -> 0.0018913056
B27: Capex % sales | C27: =Calc!C7/IS!C5 -> 0.020025588 | G27: =C27 -> 0.020025588 | H27: =G27 -> 0.020025588 | I27: =H27 -> 0.020025588 | J27: =I27 -> 0.020025588 | K27: =J27 -> 0.020025588 | L27: =K27 -> 0.020025588 | M27: =L27 -> 0.020025588 | N27: =M27 -> 0.020025588
B28: Lease capex % sales | G28: 0.005 | H28: =G28 -> 0.005 | I28: =H28 -> 0.005 | J28: =I28 -> 0.005 | K28: =J28 -> 0.005 | L28: =K28 -> 0.005 | M28: =L28 -> 0.005 | N28: =M28 -> 0.005
B29: Intangibles amount | C29: =BS!C13 -> 310 | G29: =C29 -> 310 | H29: =G29 -> 310 | I29: =H29 -> 310 | J29: =I29 -> 310 | K29: =J29 -> 310 | L29: =K29 -> 310 | M29: =L29 -> 310 | N29: =M29 -> 310
B30: Other LT assets amount | C30: =BS!C14 -> 1214 | G30: =C30 -> 1214 | H30: =G30 -> 1214 | I30: =H30 -> 1214 | J30: =I30 -> 1214 | K30: =J30 -> 1214 | L30: =K30 -> 1214 | M30: =L30 -> 1214 | N30: =M30 -> 1214
B31: Payable days | C31: =BS!C19/IS!C6*365 -> -55.32509 | G31: =C31 -> -55.32509 | H31: =G31 -> -55.32509 | I31: =H31 -> -55.32509 | J31: =I31 -> -55.32509 | K31: =J31 -> -55.32509 | L31: =K31 -> -55.32509 | M31: =L31 -> -55.32509 | N31: =M31 -> -55.32509
B32: Other current lia % sales | C32: =BS!C20/IS!C5 -> 0.029482116 | G32: =C32 -> 0.029482116 | H32: =G32 -> 0.029482116 | I32: =H32 -> 0.029482116 | J32: =I32 -> 0.029482116 | K32: =J32 -> 0.029482116 | L32: =K32 -> 0.029482116 | M32: =L32 -> 0.029482116 | N32: =M32 -> 0.029482116
B33: Other LT liabilities amount | C33: =BS!C30 -> 831 | G33: =C33 -> 831 | H33: =G33 -> 831 | I33: =H33 -> 831 | J33: =I33 -> 831 | K33: =J33 -> 831 | L33: =K33 -> 831 | M33: =L33 -> 831 | N33: =M33 -> 831
A35: End

Sheet Calc
A1: =Title -> Morrisons LBO
A2: =Info!N9 -> £ MM | C2: Hist. | G2: Proj. | H2: Proj. | I2: Proj. | J2: Proj. | K2: Proj. | L2: Proj. | M2: Proj. | N2: Proj.
A3: Calcuations | C3: =target_yrend -> 44500 | D3: Accounting | E3: Financing | F3: Combo | G3: =EDATE(C3,12) -> 44865 | H3: =EDATE(G3,12) -> 45230 | I3: =EDATE(H3,12) -> 45596 | J3: =EDATE(I3,12) -> 45961 | K3: =EDATE(J3,12) -> 46326 | L3: =EDATE(K3,12) -> 46691 | M3: =EDATE(L3,12) -> 47057 | N3: =EDATE(M3,12) -> 47422
A5: PP&E
B6: Beginning | G6: =F9 -> 6324 | H6: =G9 -> 6315.36 | I6: =H9 -> 6318.3624 | J6: =I9 -> 6332.6424 | K6: =J9 -> 6357.867 | L6: =K9 -> 6393.7337 | M6: =L9 -> 6439.9685 | N6: =M9 -> 6496.3249
B7: CAPEX | C7: 360 | G7: =Input!G27*IS!G5 -> 370.8 | H7: =Input!H27*IS!H5 -> 381.924 | I7: =Input!I27*IS!I5 -> 393.38172 | J7: =Input!J27*IS!J5 -> 405.18317 | K7: =Input!K27*IS!K5 -> 417.33867 | L7: =Input!L27*IS!L5 -> 429.85883 | M7: =Input!M27*IS!M5 -> 442.75459 | N7: =Input!N27*IS!N5 -> 456.03723
B8: Depreciation | C8: -427 | G8: =Input!G16*Calc!G6 -> -379.44 | H8: =Input!H16*Calc!H6 -> -378.9216 | I8: =Input!I16*Calc!I6 -> -379.10174 | J8: =Input!J16*Calc!J6 -> -379.95854 | K8: =Input!K16*Calc!K6 -> -381.47202 | L8: =Input!L16*Calc!L6 -> -383.62402 | M8: =Input!M16*Calc!M6 -> -386.39811 | N8: =Input!N16*Calc!N6 -> -389.7795
B9: Ending | F9: =BS!F11 -> 6324 | G9: =SUM(G6:G8) -> 6315.36 | H9: =SUM(H6:H8) -> 6318.3624 | I9: =SUM(I6:I8) -> 6332.6424 | J9: =SUM(J6:J8) -> 6357.867 | K9: =SUM(K6:K8) -> 6393.7337 | L9: =SUM(L6:L8) -> 6439.9685 | M9: =SUM(M6:M8) -> 6496.3249 | N9: =SUM(N6:N8) -> 6562.5827
A11: Intangibles
B12: Beginning | G12: =F14 -> 310 | H12: =G14 -> 263.5 | I12: =H14 -> 223.975 | J12: =I14 -> 190.37875 | K12: =J14 -> 161.82194 | L12: =K14 -> 137.54865 | M12: =L14 -> 116.91635 | N12: =M14 -> 99.378897
B13: Amortization | C13: -69 | G13: =G12*Input!G17 -> -46.5 | H13: =H12*Input!H17 -> -39.525 | I13: =I12*Input!I17 -> -33.59625 | J13: =J12*Input!J17 -> -28.556812 | K13: =K12*Input!K17 -> -24.273291 | L13: =L12*Input!L17 -> -20.632297 | M13: =M12*Input!M17 -> -17.537452 | N13: =N12*Input!N17 -> -14.906835
B14: Ending | F14: =BS!F13 -> 310 | G14: =SUM(G12:G13) -> 263.5 | H14: =SUM(H12:H13) -> 223.975 | I14: =SUM(I12:I13) -> 190.37875 | J14: =SUM(J12:J13) -> 161.82194 | K14: =SUM(K12:K13) -> 137.54865 | L14: =SUM(L12:L13) -> 116.91635 | M14: =SUM(M12:M13) -> 99.378897 | N14: =SUM(N12:N13) -> 84.472063
A16: Right of use assets
B17: Beginning | G17: =F20 -> 1943 | H17: =G20 -> 1957.8616 | I17: =H20 -> 1974.9061 | J17: =I20 -> 1994.1296 | K17: =J20 -> 2015.5308 | L17: =K20 -> 2039.1109 | M17: =L20 -> 2064.8739 | N17: =M20 -> 2092.8261
B18: Lease CAPEX | G18: =Input!G28*IS!G5 -> 92.58155 | H18: =Input!H28*IS!H5 -> 95.358997 | I18: =Input!I28*IS!I5 -> 98.219766 | J18: =Input!J28*IS!J5 -> 101.16636 | K18: =Input!K28*IS!K5 -> 104.20135 | L18: =Input!L28*IS!L5 -> 107.32739 | M18: =Input!M28*IS!M5 -> 110.54721 | N18: =Input!N28*IS!N5 -> 113.86363
B19: Lease depreciation | G19: =G17*Input!G20 -> -77.72 | H19: =H17*Input!H20 -> -78.314462 | I19: =I17*Input!I20 -> -78.996243 | J19: =J17*Input!J20 -> -79.765184 | K19: =K17*Input!K20 -> -80.621231 | L19: =L17*Input!L20 -> -81.564436 | M19: =M17*Input!M20 -> -82.594954 | N19: =N17*Input!N20 -> -83.713045
B20: Ending | F20: =BS!F12 -> 1943 | G20: =SUM(G17:G19) -> 1957.8616 | H20: =SUM(H17:H19) -> 1974.9061 | I20: =SUM(I17:I19) -> 1994.1296 | J20: =SUM(J17:J19) -> 2015.5308 | K20: =SUM(K17:K19) -> 2039.1109 | L20: =SUM(L17:L19) -> 2064.8739 | M20: =SUM(M17:M19) -> 2092.8261 | N20: =SUM(N17:N19) -> 2122.9767
A22: Lease liabilities
B23: Beginning | G23: =F27 -> 1284 | H23: =G27 -> 1298.8616 | I23: =H27 -> 1315.9061 | J23: =I27 -> 1335.1296 | K23: =J27 -> 1356.5308 | L23: =K27 -> 1380.1109 | M23: =L27 -> 1405.8739 | N23: =M27 -> 1433.8261
B24: Lease CAPEX | G24: =G18 -> 92.58155 | H24: =H18 -> 95.358997 | I24: =I18 -> 98.219766 | J24: =J18 -> 101.16636 | K24: =K18 -> 104.20135 | L24: =L18 -> 107.32739 | M24: =M18 -> 110.54721 | N24: =N18 -> 113.86363
B25: Lease interest | G25: =G23*Input!G19 -> 44.94 | H25: =H23*Input!H19 -> 45.460154 | I25: =I23*Input!I19 -> 46.056713 | J25: =J23*Input!J19 -> 46.729536 | K25: =K23*Input!K19 -> 47.478577 | L25: =L23*Input!L19 -> 48.303882 | M25: =M23*Input!M19 -> 49.205585 | N25: =N23*Input!N19 -> 50.183914
B26: Lease repayments | G26: =G27-SUM(G23:G25) -> -122.66 | H26: =H27-SUM(H23:H25) -> -123.77462 | I26: =I27-SUM(I23:I25) -> -125.05296 | J26: =J27-SUM(J23:J25) -> -126.49472 | K26: =K27-SUM(K23:K25) -> -128.09981 | L26: =L27-SUM(L23:L25) -> -129.86832 | M26: =M27-SUM(M23:M25) -> -131.80054 | N26: =N27-SUM(N23:N25) -> -133.89696
B27: Ending | F27: =BS!F24 -> 1284 | G27: =F27+G20-F20 -> 1298.8616 | H27: =G27+H20-G20 -> 1315.9061 | I27: =H27+I20-H20 -> 1335.1296 | J27: =I27+J20-I20 -> 1356.5308 | K27: =J27+K20-J20 -> 1380.1109 | L27: =K27+L20-K20 -> 1405.8739 | M27: =L27+M20-L20 -> 1433.8261 | N27: =M27+N20-M20 -> 1463.9767
A29: Preference shares
B30: Beginning | G30: =F32 -> 2878.0046 | H30: =G32 -> 3223.3651 | I30: =H32 -> 3610.169 | J30: =I32 -> 4043.3892 | K30: =J32 -> 4528.5959 | L30: =K32 -> 5072.0275 | M30: =L32 -> 5680.6708 | N30: =M32 -> 6362.3512
B31: PIK dividends | G31: =G30*LBO!$H$60 -> 345.36055 | H31: =H30*LBO!$H$60 -> 386.80382 | I31: =I30*LBO!$H$60 -> 433.22028 | J31: =J30*LBO!$H$60 -> 485.20671 | K31: =K30*LBO!$H$60 -> 543.43151 | L31: =L30*LBO!$H$60 -> 608.6433 | M31: =M30*LBO!$H$60 -> 681.68049 | N31: =N30*LBO!$H$60 -> 763.48215
B32: Ending | F32: =BS!E29 -> 2878.0046 | G32: =SUM(G30:G31) -> 3223.3651 | H32: =SUM(H30:H31) -> 3610.169 | I32: =SUM(I30:I31) -> 4043.3892 | J32: =SUM(J30:J31) -> 4528.5959 | K32: =SUM(K30:K31) -> 5072.0275 | L32: =SUM(L30:L31) -> 5680.6708 | M32: =SUM(M30:M31) -> 6362.3512 | N32: =SUM(N30:N31) -> 7125.8334
A34: Equity
B35: Beginning | G35: =F38 -> 1298.7587 | H35: =G38 -> 965.84754 | I35: =H38 -> 735.6275 | J35: =I38 -> 608.56679 | K35: =J38 -> 434.43877 | L35: =K38 -> 205.28881 | M35: =L38 -> -86.469039 | N35: =M38 -> -444.74534
B36: PIK dividends | G36: =G31*-1 -> -345.36055 | H36: =H31*-1 -> -386.80382 | I36: =I31*-1 -> -433.22028 | J36: =J31*-1 -> -485.20671 | K36: =K31*-1 -> -543.43151 | L36: =L31*-1 -> -608.6433 | M36: =M31*-1 -> -681.68049 | N36: =N31*-1 -> -763.48215
B37: Net income | G37: =IS!G15 -> 12.449354 | H37: =IS!H15 -> 156.58378 | I37: =IS!I15 -> 306.15956 | J37: =IS!J15 -> 311.07869 | K37: =IS!K15 -> 314.28155 | L37: =IS!L15 -> 316.88545 | M37: =IS!M15 -> 323.40419 | N37: =IS!N15 -> 323.63216
B38: Ending | F38: =BS!F33 -> 1298.7587 | G38: =SUM(G35:G37) -> 965.84754 | H38: =SUM(H35:H37) -> 735.6275 | I38: =SUM(I35:I37) -> 608.56679 | J38: =SUM(J35:J37) -> 434.43877 | K38: =SUM(K35:K37) -> 205.28881 | L38: =SUM(L35:L37) -> -86.469039 | M38: =SUM(M35:M37) -> -444.74534 | N38: =SUM(N35:N37) -> -884.59533
A40: Operating working capital
B41: =BS!B6 -> Accounts receivable | F41: =BS!F6 -> 480 | G41: =BS!G6 -> 494.4 | H41: =BS!H6 -> 509.232 | I41: =BS!I6 -> 524.50896 | J41: =BS!J6 -> 540.24423 | K41: =BS!K6 -> 556.45156 | L41: =BS!L6 -> 573.1451 | M41: =BS!M6 -> 590.33946 | N41: =BS!N6 -> 608.04964
B42: =BS!B7 -> Inventories | F42: =BS!F7 -> 902 | G42: =BS!G7 -> 929.06 | H42: =BS!H7 -> 956.9318 | I42: =BS!I7 -> 985.63975 | J42: =BS!J7 -> 1015.2089 | K42: =BS!K7 -> 1045.6652 | L42: =BS!L7 -> 1077.0352 | M42: =BS!M7 -> 1109.3462 | N42: =BS!N7 -> 1142.6266
B43: =BS!B8 -> Other current assets | F43: =BS!F8 -> 34 | G43: =BS!G8 -> 35.02 | H43: =BS!H8 -> 36.0706 | I43: =BS!I8 -> 37.152718 | J43: =BS!J8 -> 38.2673 | K43: =BS!K8 -> 39.415319 | L43: =BS!L8 -> 40.597778 | M43: =BS!M8 -> 41.815711 | N43: =BS!N8 -> 43.070183
B44: =BS!B19 -> Accounts payable | F44: =BS!F19 -> 2660 | G44: =BS!G19 -> 2739.8 | H44: =BS!H19 -> 2821.994 | I44: =BS!I19 -> 2906.6538 | J44: =BS!J19 -> 2993.8534 | K44: =BS!K19 -> 3083.669 | L44: =BS!L19 -> 3176.1791 | M44: =BS!M19 -> 3271.4645 | N44: =BS!N19 -> 3369.6084
B45: Other current lia | F45: =BS!F20 -> 530 | G45: =BS!G20 -> 545.9 | H45: =BS!H20 -> 562.277 | I45: =BS!I20 -> 579.14531 | J45: =BS!J20 -> 596.51967 | K45: =BS!K20 -> 614.41526 | L45: =BS!L20 -> 632.84772 | M45: =BS!M20 -> 651.83315 | N45: =BS!N20 -> 671.38814
B46: OWC | F46: =SUM(F41:F43)-SUM(F44:F45) -> -1774 | G46: =SUM(G41:G43)-SUM(G44:G45) -> -1827.22 | H46: =SUM(H41:H43)-SUM(H44:H45) -> -1882.0366 | I46: =SUM(I41:I43)-SUM(I44:I45) -> -1938.4977 | J46: =SUM(J41:J43)-SUM(J44:J45) -> -1996.6526 | K46: =SUM(K41:K43)-SUM(K44:K45) -> -2056.5522 | L46: =SUM(L41:L43)-SUM(L44:L45) -> -2118.2488 | M46: =SUM(M41:M43)-SUM(M44:M45) -> -2181.7962 | N46: =SUM(N41:N43)-SUM(N44:N45) -> -2247.2501
A48: End

Sheet IS
A1: =Title -> Morrisons LBO
A2: =Info!N9 -> £ MM | C2: Hist. | G2: Proj. | H2: Proj. | I2: Proj. | J2: Proj. | K2: Proj. | L2: Proj. | M2: Proj. | N2: Proj.
A3: Income statement | C3: =target_yrend -> 44500 | D3: Accounting | E3: Financing | F3: Combo | G3: =EDATE(C3,12) -> 44865 | H3: =EDATE(G3,12) -> 45230 | I3: =EDATE(H3,12) -> 45596 | J3: =EDATE(I3,12) -> 45961 | K3: =EDATE(J3,12) -> 46326 | L3: =EDATE(K3,12) -> 46691 | M3: =EDATE(L3,12) -> 47057 | N3: =EDATE(M3,12) -> 47422
B5: Net sales | C5: 17977 | G5: =(1+Input!G10)*IS!C5 -> 18516.31 | H5: =(1+Input!H10)*G5 -> 19071.799 | I5: =(1+Input!I10)*H5 -> 19643.953 | J5: =(1+Input!J10)*I5 -> 20233.272 | K5: =(1+Input!K10)*J5 -> 20840.27 | L5: =(1+Input!L10)*K5 -> 21465.478 | M5: =(1+Input!M10)*L5 -> 22109.442 | N5: =(1+Input!N10)*M5 -> 22772.726
B6: COGS | C6: -17549 | G6: =G5*Input!G13 -> -18075.47 | H6: =H5*Input!H13 -> -18617.734 | I6: =I5*Input!I13 -> -19176.266 | J6: =J5*Input!J13 -> -19751.554 | K6: =K5*Input!K13 -> -20344.101 | L6: =L5*Input!L13 -> -20954.424 | M6: =M5*Input!M13 -> -21583.056 | N6: =N5*Input!N13 -> -22230.548
B7: Gross profit | C7: =SUM(C5:C6) -> 428 | G7: =SUM(G5:G6) -> 440.84 | H7: =SUM(H5:H6) -> 454.0652 | I7: =SUM(I5:I6) -> 467.68716 | J7: =SUM(J5:J6) -> 481.71777 | K7: =SUM(K5:K6) -> 496.1693 | L7: =SUM(L5:L6) -> 511.05438 | M7: =SUM(M5:M6) -> 526.38601 | N7: =SUM(N5:N6) -> 542.17759
B8: SG&A | C8: -255 | G8: =G5*Input!G14 -> -259.22834 | H8: =H5*Input!H14 -> -267.00519 | I8: =I5*Input!I14 -> -275.01535 | J8: =J5*Input!J14 -> -283.26581 | K8: =K5*Input!K14 -> -291.76378 | L8: =L5*Input!L14 -> -300.51669 | M8: =M5*Input!M14 -> -309.53219 | N8: =N5*Input!N14 -> -318.81816
B9: Other expenses | C9: -49 | G9: =Input!G18 -> 0 | H9: =Input!H18 -> 0 | I9: =Input!I18 -> 0 | J9: =Input!J18 -> 0 | K9: =Input!K18 -> 0 | L9: =Input!L18 -> 0 | M9: =Input!M18 -> 0 | N9: =Input!N18 -> 0
B10: Synergies | G10: =Input!G15*IS!$C$5 -> 179.77 | H10: =Input!H15*IS!$C$5 -> 359.54 | I10: =Input!I15*IS!$C$5 -> 539.31 | J10: =Input!J15*IS!$C$5 -> 539.31 | K10: =Input!K15*IS!$C$5 -> 539.31 | L10: =Input!L15*IS!$C$5 -> 539.31 | M10: =Input!M15*IS!$C$5 -> 539.31 | N10: =Input!N15*IS!$C$5 -> 539.31
B11: Operating profit | C11: =SUM(C7:C10) -> 124 | G11: =SUM(G7:G10) -> 361.38166 | H11: =SUM(H7:H10) -> 546.60001 | I11: =SUM(I7:I10) -> 731.98181 | J11: =SUM(J7:J10) -> 737.76196 | K11: =SUM(K7:K10) -> 743.71552 | L11: =SUM(L7:L10) -> 749.84769 | M11: =SUM(M7:M10) -> 756.16382 | N11: =SUM(N7:N10) -> 762.66943
B12: Net interest expense | C12: =83-111-257 -> -285 | G12: =IF(switch=1,Debt!G67+Debt!G74,0) -> -348.27708 | H12: =IF(switch=1,Debt!H67+Debt!H74,0) -> -353.2867 | I12: =IF(switch=1,Debt!I67+Debt!I74,0) -> -354.00705 | J12: =IF(switch=1,Debt!J67+Debt!J74,0) -> -353.71419 | K12: =IF(switch=1,Debt!K67+Debt!K74,0) -> -355.71361 | L12: =IF(switch=1,Debt!L67+Debt!L74,0) -> -358.63109 | M12: =IF(switch=1,Debt!M67+Debt!M74,0) -> -356.89938 | N12: =IF(switch=1,Debt!N67+Debt!N74,0) -> -363.12356
B13: Income before tax | C13: =SUM(C11:C12) -> -161 | G13: =SUM(G11:G12) -> 13.104583 | H13: =SUM(H11:H12) -> 193.31331 | I13: =SUM(I11:I12) -> 377.97476 | J13: =SUM(J11:J12) -> 384.04777 | K13: =SUM(K11:K12) -> 388.00192 | L13: =SUM(L11:L12) -> 391.2166 | M13: =SUM(M11:M12) -> 399.26444 | N13: =SUM(N11:N12) -> 399.54587
B14: Provision for income taxes | C14: -168 | G14: =Input!G21*IS!G13 -> -0.65522915 | H14: =Input!H21*IS!H13 -> -36.72953 | I14: =Input!I21*IS!I13 -> -71.815205 | J14: =Input!J21*IS!J13 -> -72.969076 | K14: =Input!K21*IS!K13 -> -73.720364 | L14: =Input!L21*IS!L13 -> -74.331154 | M14: =Input!M21*IS!M13 -> -75.860243 | N14: =Input!N21*IS!N13 -> -75.913716
B15: Net income | C15: =C13+C14 -> -329 | G15: =G13+G14 -> 12.449354 | H15: =H13+H14 -> 156.58378 | I15: =I13+I14 -> 306.15956 | J15: =J13+J14 -> 311.07869 | K15: =K13+K14 -> 314.28155 | L15: =L13+L14 -> 316.88545 | M15: =M13+M14 -> 323.40419 | N15: =N13+N14 -> 323.63216
B17: Operating profit | C17: =C11 -> 124 | G17: =G11 -> 361.38166 | H17: =H11 -> 546.60001 | I17: =I11 -> 731.98181 | J17: =J11 -> 737.76196 | K17: =K11 -> 743.71552 | L17: =L11 -> 749.84769 | M17: =M11 -> 756.16382 | N17: =N11 -> 762.66943
B18: Depreciation | C18: =569.3-C19 -> 500.3 | G18: =-Calc!G8-Calc!G19 -> 457.16 | H18: =-Calc!H8-Calc!H19 -> 457.23606 | I18: =-Calc!I8-Calc!I19 -> 458.09799 | J18: =-Calc!J8-Calc!J19 -> 459.72373 | K18: =-Calc!K8-Calc!K19 -> 462.09325 | L18: =-Calc!L8-Calc!L19 -> 465.18846 | M18: =-Calc!M8-Calc!M19 -> 468.99306 | N18: =-Calc!N8-Calc!N19 -> 473.49254
B19: Amortization | C19: =Calc!C13*-1 -> 69 | G19: =Calc!G13*-1 -> 46.5 | H19: =Calc!H13*-1 -> 39.525 | I19: =Calc!I13*-1 -> 33.59625 | J19: =Calc!J13*-1 -> 28.556812 | K19: =Calc!K13*-1 -> 24.273291 | L19: =Calc!L13*-1 -> 20.632297 | M19: =Calc!M13*-1 -> 17.537452 | N19: =Calc!N13*-1 -> 14.906835
B20: EBITDA | C20: =SUM(C17:C19) -> 693.3 | G20: =SUM(G17:G19) -> 865.04166 | H20: =SUM(H17:H19) -> 1043.3611 | I20: =SUM(I17:I19) -> 1223.676 | J20: =SUM(J17:J19) -> 1226.0425 | K20: =SUM(K17:K19) -> 1230.0821 | L20: =SUM(L17:L19) -> 1235.6684 | M20: =SUM(M17:M19) -> 1242.6943 | N20: =SUM(N17:N19) -> 1251.0688
A22: End

Sheet BS
A1: =Title -> Morrisons LBO
A2: =Info!N9 -> £ MM | C2: Hist. | G2: Proj. | H2: Proj. | I2: Proj. | J2: Proj. | K2: Proj. | L2: Proj. | M2: Proj. | N2: Proj.
A3: Balance sheet | C3: =target_yrend -> 44500 | D3: Accounting | E3: Financing | F3: Combo | G3: =EDATE(C3,12) -> 44865 | H3: =EDATE(G3,12) -> 45230 | I3: =EDATE(H3,12) -> 45596 | J3: =EDATE(I3,12) -> 45961 | K3: =EDATE(J3,12) -> 46326 | L3: =EDATE(K3,12) -> 46691 | M3: =EDATE(L3,12) -> 47057 | N3: =EDATE(M3,12) -> 47422
B5: Cash | C5: 296 | E5: =-C5 -> -296 | F5: =SUM(C5:E5) -> 0 | G5: =CFS!G26 -> 34.702338 | H5: =CFS!H26 -> 37.381331 | I5: =CFS!I26 -> 41.328815 | J5: =CFS!J26 -> 31.367809 | K5: =CFS!K26 -> 32.479288 | L5: =CFS!L26 -> 30.243841 | M5: =CFS!M26 -> 162.25757 | N5: =CFS!N26 -> 583.11452
B6: Accounts receivable | C6: 480 | F6: =SUM(C6:E6) -> 480 | G6: =Input!G25/365*IS!G5 -> 494.4 | H6: =Input!H25/365*IS!H5 -> 509.232 | I6: =Input!I25/365*IS!I5 -> 524.50896 | J6: =Input!J25/365*IS!J5 -> 540.24423 | K6: =Input!K25/365*IS!K5 -> 556.45156 | L6: =Input!L25/365*IS!L5 -> 573.1451 | M6: =Input!M25/365*IS!M5 -> 590.33946 | N6: =Input!N25/365*IS!N5 -> 608.04964
B7: Inventories | C7: 902 | F7: =SUM(C7:E7) -> 902 | G7: =Input!G24/365*IS!G6 -> 929.06 | H7: =Input!H24/365*IS!H6 -> 956.9318 | I7: =Input!I24/365*IS!I6 -> 985.63975 | J7: =Input!J24/365*IS!J6 -> 1015.2089 | K7: =Input!K24/365*IS!K6 -> 1045.6652 | L7: =Input!L24/365*IS!L6 -> 1077.0352 | M7: =Input!M24/365*IS!M6 -> 1109.3462 | N7: =Input!N24/365*IS!N6 -> 1142.6266
B8: Other current assets | C8: 34 | F8: =SUM(C8:E8) -> 34 | G8: =Input!G26*IS!G5 -> 35.02 | H8: =Input!H26*IS!H5 -> 36.0706 | I8: =Input!I26*IS!I5 -> 37.152718 | J8: =Input!J26*IS!J5 -> 38.2673 | K8: =Input!K26*IS!K5 -> 39.415319 | L8: =Input!L26*IS!L5 -> 40.597778 | M8: =Input!M26*IS!M5 -> 41.815711 | N8: =Input!N26*IS!N5 -> 43.070183
B9: Total current assets | C9: =SUM(C5:C8) -> 1712 | F9: =SUM(F5:F8) -> 1416 | G9: =SUM(G5:G8) -> 1493.1823 | H9: =SUM(H5:H8) -> 1539.6157 | I9: =SUM(I5:I8) -> 1588.6302 | J9: =SUM(J5:J8) -> 1625.0883 | K9: =SUM(K5:K8) -> 1674.0114 | L9: =SUM(L5:L8) -> 1721.0219 | M9: =SUM(M5:M8) -> 1903.759 | N9: =SUM(N5:N8) -> 2376.861
B11: PP&E | C11: =8267-C12 -> 6324 | F11: =SUM(C11:E11) -> 6324 | G11: =Calc!G9 -> 6315.36 | H11: =Calc!H9 -> 6318.3624 | I11: =Calc!I9 -> 6332.6424 | J11: =Calc!J9 -> 6357.867 | K11: =Calc!K9 -> 6393.7337 | L11: =Calc!L9 -> 6439.9685 | M11: =Calc!M9 -> 6496.3249 | N11: =Calc!N9 -> 6562.5827
B12: Right of use assets | C12: 1943 | F12: =SUM(C12:E12) -> 1943 | G12: =Calc!G20 -> 1957.8616 | H12: =Calc!H20 -> 1974.9061 | I12: =Calc!I20 -> 1994.1296 | J12: =Calc!J20 -> 2015.5308 | K12: =Calc!K20 -> 2039.1109 | L12: =Calc!L20 -> 2064.8739 | M12: =Calc!M20 -> 2092.8261 | N12: =Calc!N20 -> 2122.9767
B13: Intangible assets | C13: 310 | F13: =SUM(C13:E13) -> 310 | G13: =Calc!G14 -> 263.5 | H13: =Calc!H14 -> 223.975 | I13: =Calc!I14 -> 190.37875 | J13: =Calc!J14 -> 161.82194 | K13: =Calc!K14 -> 137.54865 | L13: =Calc!L14 -> 116.91635 | M13: =Calc!M14 -> 99.378897 | N13: =Calc!N14 -> 84.472063
B14: Other LT assets | C14: =995+219 -> 1214 | F14: =SUM(C14:E14) -> 1214 | G14: =Input!G30 -> 1214 | H14: =Input!H30 -> 1214 | I14: =Input!I30 -> 1214 | J14: =Input!J30 -> 1214 | K14: =Input!K30 -> 1214 | L14: =Input!L30 -> 1214 | M14: =Input!M30 -> 1214 | N14: =Input!N30 -> 1214
B15: Goodwill | C15: 10 | D15: =-C15+LBO!D74 -> 2864.7633 | F15: =SUM(C15:E15) -> 2874.7633 | G15: =F15 -> 2874.7633 | H15: =G15 -> 2874.7633 | I15: =H15 -> 2874.7633 | J15: =I15 -> 2874.7633 | K15: =J15 -> 2874.7633 | L15: =K15 -> 2874.7633 | M15: =L15 -> 2874.7633 | N15: =M15 -> 2874.7633
B16: Total assets | C16: =SUM(C9,C11:C15) -> 11513 | F16: =SUM(F9,F11:F15) -> 14081.763 | G16: =SUM(G9,G11:G15) -> 14118.667 | H16: =SUM(H9,H11:H15) -> 14145.623 | I16: =SUM(I9,I11:I15) -> 14194.544 | J16: =SUM(J9,J11:J15) -> 14249.071 | K16: =SUM(K9,K11:K15) -> 14333.168 | L16: =SUM(L9,L11:L15) -> 14431.544 | M16: =SUM(M9,M11:M15) -> 14681.052 | N16: =SUM(N9,N11:N15) -> 15235.656
B18: Short term debt | C18: =838+79 -> 917 | E18: =-C18+LBO!C55 -> -917 | F18: =SUM(C18:E18) -> 0 | G18: =Debt!G27 -> 0 | H18: =Debt!H27 -> 0 | I18: =Debt!I27 -> 0 | J18: =Debt!J27 -> 0 | K18: =Debt!K27 -> 0 | L18: =Debt!L27 -> 0 | M18: =Debt!M27 -> 0 | N18: =Debt!N27 -> 0
B19: Accounts payable | C19: 2660 | F19: =SUM(C19:E19) -> 2660 | G19: =Input!G31/365*IS!G6 -> 2739.8 | H19: =Input!H31/365*IS!H6 -> 2821.994 | I19: =Input!I31/365*IS!I6 -> 2906.6538 | J19: =Input!J31/365*IS!J6 -> 2993.8534 | K19: =Input!K31/365*IS!K6 -> 3083.669 | L19: =Input!L31/365*IS!L6 -> 3176.1791 | M19: =Input!M31/365*IS!M6 -> 3271.4645 | N19: =Input!N31/365*IS!N6 -> 3369.6084
B20: Other current liabilities | C20: 530 | F20: =SUM(C20:E20) -> 530 | G20: =Input!G32*IS!G5 -> 545.9 | H20: =Input!H32*IS!H5 -> 562.277 | I20: =Input!I32*IS!I5 -> 579.14531 | J20: =Input!J32*IS!J5 -> 596.51967 | K20: =Input!K32*IS!K5 -> 614.41526 | L20: =Input!L32*IS!L5 -> 632.84772 | M20: =Input!M32*IS!M5 -> 651.83315 | N20: =Input!N32*IS!N5 -> 671.38814
B21: Total current liabilities | C21: =SUM(C18:C20) -> 4107 | F21: =SUM(F18:F20) -> 3190 | G21: =SUM(G18:G20) -> 3285.7 | H21: =SUM(H18:H20) -> 3384.271 | I21: =SUM(I18:I20) -> 3485.7991 | J21: =SUM(J18:J20) -> 3590.3731 | K21: =SUM(K18:K20) -> 3698.0843 | L21: =SUM(L18:L20) -> 3809.0268 | M21: =SUM(M18:M20) -> 3923.2976 | N21: =SUM(N18:N20) -> 4040.9966
B23: LT Debt | C23: 1107 | E23: =-C23 -> -1107 | F23: =SUM(C23:E23) -> 0 | G23: =F23 -> 0 | H23: =G23 -> 0 | I23: =H23 -> 0 | J23: =I23 -> 0 | K23: =J23 -> 0 | L23: =K23 -> 0 | M23: =L23 -> 0 | N23: =M23 -> 0
B24: Lease liability | C24: 1284 | F24: =SUM(C24:E24) -> 1284 | G24: =Calc!G27 -> 1298.8616 | H24: =Calc!H27 -> 1315.9061 | I24: =Calc!I27 -> 1335.1296 | J24: =Calc!J27 -> 1356.5308 | K24: =Calc!K27 -> 1380.1109 | L24: =Calc!L27 -> 1405.8739 | M24: =Calc!M27 -> 1433.8261 | N24: =Calc!N27 -> 1463.9767
B25: =LBO!B56 -> Term loan B | E25: =LBO!C56 -> 2800 | F25: =SUM(C25:E25) -> 2800 | G25: =Debt!G36 -> 2583.893 | H25: =Debt!H36 -> 2191.749 | I25: =Debt!I36 -> 1647.7625 | J25: =Debt!J36 -> 1077.6591 | K25: =Debt!K36 -> 504.22126 | L25: =Debt!L36 -> 0 | M25: =Debt!M36 -> 0 | N25: =Debt!N36 -> 0
B26: =LBO!B57 -> Subordinated loan | E26: =LBO!C57 -> 800 | F26: =SUM(C26:E26) -> 800 | G26: =Debt!G45 -> 800 | H26: =Debt!H45 -> 800 | I26: =Debt!I45 -> 800 | J26: =Debt!J45 -> 800 | K26: =Debt!K45 -> 800 | L26: =Debt!L45 -> 709.48973 | M26: =Debt!M45 -> 222.71709 | N26: =Debt!N45 -> 0
B27: Senior bonds | E27: =LBO!C58 -> 0 | F27: =SUM(C27:E27) -> 0 | G27: =Debt!G54 -> 0 | H27: =Debt!H54 -> 0 | I27: =Debt!I54 -> 0 | J27: =Debt!J54 -> 0 | K27: =Debt!K54 -> 0 | L27: =Debt!L54 -> 0 | M27: =Debt!M54 -> 0 | N27: =Debt!N54 -> 0
B28: Mezzanine | E28: =LBO!C59 -> 1000 | F28: =SUM(C28:E28) -> 1000 | G28: =Debt!G60 -> 1130 | H28: =Debt!H60 -> 1276.9 | I28: =Debt!I60 -> 1442.897 | J28: =Debt!J60 -> 1630.4736 | K28: =Debt!K60 -> 1842.4352 | L28: =Debt!L60 -> 2081.9518 | M28: =Debt!M60 -> 2352.6055 | N28: =Debt!N60 -> 2658.4442
B29: Preference shares | E29: =LBO!C60 -> 2878.0046 | F29: =SUM(C29:E29) -> 2878.0046 | G29: =Calc!G32 -> 3223.3651 | H29: =Calc!H32 -> 3610.169 | I29: =Calc!I32 -> 4043.3892 | J29: =Calc!J32 -> 4528.5959 | K29: =Calc!K32 -> 5072.0275 | L29: =Calc!L32 -> 5680.6708 | M29: =Calc!M32 -> 6362.3512 | N29: =Calc!N32 -> 7125.8334
B30: Other LT liabilities | C30: =83+746+2 -> 831 | F30: =SUM(C30:E30) -> 831 | G30: =Input!G33 -> 831 | H30: =Input!H33 -> 831 | I30: =Input!I33 -> 831 | J30: =Input!J33 -> 831 | K30: =Input!K33 -> 831 | L30: =Input!L33 -> 831 | M30: =Input!M33 -> 831 | N30: =Input!N33 -> 831
B31: Total liabilities | C31: =SUM(C21,C23:C30) -> 7329 | F31: =SUM(F21,F23:F30) -> 12783.005 | G31: =SUM(G21,G23:G30) -> 13152.82 | H31: =SUM(H21,H23:H30) -> 13409.995 | I31: =SUM(I21,I23:I30) -> 13585.978 | J31: =SUM(J21,J23:J30) -> 13814.633 | K31: =SUM(K21,K23:K30) -> 14127.879 | L31: =SUM(L21,L23:L30) -> 14518.013 | M31: =SUM(M21,M23:M30) -> 15125.798 | N31: =SUM(N21,N23:N30) -> 16120.251
B33: Equity | C33: 4184 | D33: =-C33-LBO!D48 -> -4385.2413 | E33: =LBO!C61 -> 1500 | F33: =SUM(C33:E33) -> 1298.7587 | G33: =Calc!G38 -> 965.84754 | H33: =Calc!H38 -> 735.6275 | I33: =Calc!I38 -> 608.56679 | J33: =Calc!J38 -> 434.43877 | K33: =Calc!K38 -> 205.28881 | L33: =Calc!L38 -> -86.469039 | M33: =Calc!M38 -> -444.74534 | N33: =Calc!N38 -> -884.59534
B34: Total liabilities and equity | C34: =SUM(C31,C33) -> 11513 | F34: =F31+F33 -> 14081.763 | G34: =G31+G33 -> 14118.667 | H34: =H31+H33 -> 14145.623 | I34: =I31+I33 -> 14194.544 | J34: =J31+J33 -> 14249.071 | K34: =K31+K33 -> 14333.168 | L34: =L31+L33 -> 14431.544 | M34: =M31+M33 -> 14681.052 | N34: =N31+N33 -> 15235.656
B36: Balance? | C36: =C16-C34 -> 0 | F36: =F16-F34 -> 0 | G36: =G16-G34 -> 0 | H36: =H16-H34 -> 0 | I36: =I16-I34 -> 0 | J36: =J16-J34 -> 0 | K36: =K16-K34 -> 0 | L36: =L16-L34 -> -2.5556801e-08 | M36: =M16-M34 -> 1.6410329e-05 | N36: =N16-N34 -> 0.00020758999
A38: End

Sheet CFS
A1: =Title -> Morrisons LBO
A2: =Info!N9 -> £ MM | C2: Hist. | G2: Proj. | H2: Proj. | I2: Proj. | J2: Proj. | K2: Proj. | L2: Proj. | M2: Proj. | N2: Proj.
A3: Cashflow statement | C3: =target_yrend -> 44500 | D3: Accounting | E3: Financing | F3: Combo | G3: =EDATE(C3,12) -> 44865 | H3: =EDATE(G3,12) -> 45230 | I3: =EDATE(H3,12) -> 45596 | J3: =EDATE(I3,12) -> 45961 | K3: =EDATE(J3,12) -> 46326 | L3: =EDATE(K3,12) -> 46691 | M3: =EDATE(L3,12) -> 47057 | N3: =EDATE(M3,12) -> 47422
B5: EBITDA post-synergies | G5: =IS!G20 -> 865.04166 | H5: =IS!H20 -> 1043.3611 | I5: =IS!I20 -> 1223.676 | J5: =IS!J20 -> 1226.0425 | K5: =IS!K20 -> 1230.0821 | L5: =IS!L20 -> 1235.6684 | M5: =IS!M20 -> 1242.6943 | N5: =IS!N20 -> 1251.0688
B6: Net cash interest | G6: =IF(switch=1,Debt!G68+Debt!G74,0) -> -218.27708 | H6: =IF(switch=1,Debt!H68+Debt!H74,0) -> -206.3867 | I6: =IF(switch=1,Debt!I68+Debt!I74,0) -> -188.01005 | J6: =IF(switch=1,Debt!J68+Debt!J74,0) -> -166.13758 | K6: =IF(switch=1,Debt!K68+Debt!K74,0) -> -143.75204 | L6: =IF(switch=1,Debt!L68+Debt!L74,0) -> -119.11452 | M6: =IF(switch=1,Debt!M68+Debt!M74,0) -> -86.245656 | N6: =IF(switch=1,Debt!N68+Debt!N74,0) -> -57.284848
B7: Tax expense | G7: =IS!G14 -> -0.65522915 | H7: =IS!H14 -> -36.72953 | I7: =IS!I14 -> -71.815205 | J7: =IS!J14 -> -72.969076 | K7: =IS!K14 -> -73.720364 | L7: =IS!L14 -> -74.331154 | M7: =IS!M14 -> -75.860243 | N7: =IS!N14 -> -75.913716
B8: (Inc) dec in other LT assets | G8: =BS!F14-BS!G14 -> 0 | H8: =BS!G14-BS!H14 -> 0 | I8: =BS!H14-BS!I14 -> 0 | J8: =BS!I14-BS!J14 -> 0 | K8: =BS!J14-BS!K14 -> 0 | L8: =BS!K14-BS!L14 -> 0 | M8: =BS!L14-BS!M14 -> 0 | N8: =BS!M14-BS!N14 -> 0
B9: Inc (dec) in other LT liabilities | G9: =BS!G30-BS!F30 -> 0 | H9: =BS!H30-BS!G30 -> 0 | I9: =BS!I30-BS!H30 -> 0 | J9: =BS!J30-BS!I30 -> 0 | K9: =BS!K30-BS!J30 -> 0 | L9: =BS!L30-BS!K30 -> 0 | M9: =BS!M30-BS!L30 -> 0 | N9: =BS!N30-BS!M30 -> 0
B10: (Inc) dec in OWC | G10: =Calc!F46-Calc!G46 -> 53.22 | H10: =Calc!G46-Calc!H46 -> 54.8166 | I10: =Calc!H46-Calc!I46 -> 56.461098 | J10: =Calc!I46-Calc!J46 -> 58.154931 | K10: =Calc!J46-Calc!K46 -> 59.899579 | L10: =Calc!K46-Calc!L46 -> 61.696566 | M10: =Calc!L46-Calc!M46 -> 63.547463 | N10: =Calc!M46-Calc!N46 -> 65.453887
B11: Cash flow from operations | G11: =SUM(G5:G10) -> 699.32935 | H11: =SUM(H5:H10) -> 855.06145 | I11: =SUM(I5:I10) -> 1020.3119 | J11: =SUM(J5:J10) -> 1045.0908 | K11: =SUM(K5:K10) -> 1072.5092 | L11: =SUM(L5:L10) -> 1103.9193 | M11: =SUM(M5:M10) -> 1144.1359 | N11: =SUM(N5:N10) -> 1183.3241
B13: (Capex) | G13: =-Calc!G7 -> -370.8 | H13: =-Calc!H7 -> -381.924 | I13: =-Calc!I7 -> -393.38172 | J13: =-Calc!J7 -> -405.18317 | K13: =-Calc!K7 -> -417.33867 | L13: =-Calc!L7 -> -429.85883 | M13: =-Calc!M7 -> -442.75459 | N13: =-Calc!N7 -> -456.03723
B14: Cash flow from investing activities | G14: =G13 -> -370.8 | H14: =H13 -> -381.924 | I14: =I13 -> -393.38172 | J14: =J13 -> -405.18317 | K14: =K13 -> -417.33867 | L14: =L13 -> -429.85883 | M14: =M13 -> -442.75459 | N14: =N13 -> -456.03723
B16: Inc (dec) in short term debt | G16: =BS!G18-BS!F18 -> 0 | H16: =BS!H18-BS!G18 -> 0 | I16: =BS!I18-BS!H18 -> 0 | J16: =BS!J18-BS!I18 -> 0 | K16: =BS!K18-BS!J18 -> 0 | L16: =BS!L18-BS!K18 -> 0 | M16: =BS!M18-BS!L18 -> 0 | N16: =BS!N18-BS!M18 -> 0
B17: Inc (dec) in LT debt | G17: =BS!G23-BS!F23 -> 0 | H17: =BS!H23-BS!G23 -> 0 | I17: =BS!I23-BS!H23 -> 0 | J17: =BS!J23-BS!I23 -> 0 | K17: =BS!K23-BS!J23 -> 0 | L17: =BS!L23-BS!K23 -> 0 | M17: =BS!M23-BS!L23 -> 0 | N17: =BS!N23-BS!M23 -> 0
B18: ="Inc (dec) in "&BS!B25 -> Inc (dec) in Term loan B | G18: =BS!G25-BS!F25 -> -216.10702 | H18: =BS!H25-BS!G25 -> -392.14399 | I18: =BS!I25-BS!H25 -> -543.98645 | J18: =BS!J25-BS!I25 -> -570.10343 | K18: =BS!K25-BS!J25 -> -573.43787 | L18: =BS!L25-BS!K25 -> -504.22126 | M18: =BS!M25-BS!L25 -> 0 | N18: =BS!N25-BS!M25 -> 0
B19: ="Inc (dec) in "&BS!B26 -> Inc (dec) in Subordinated loan | G19: =BS!G26-BS!F26 -> 0 | H19: =BS!H26-BS!G26 -> 0 | I19: =BS!I26-BS!H26 -> 0 | J19: =BS!J26-BS!I26 -> 0 | K19: =BS!K26-BS!J26 -> 0 | L19: =BS!L26-BS!K26 -> -90.510267 | M19: =BS!M26-BS!L26 -> -486.77264 | N19: =BS!N26-BS!M26 -> -222.71709
B20: ="Inc (dec) in "&BS!B27 -> Inc (dec) in Senior bonds | G20: =BS!G27-BS!F27 -> 0 | H20: =BS!H27-BS!G27 -> 0 | I20: =BS!I27-BS!H27 -> 0 | J20: =BS!J27-BS!I27 -> 0 | K20: =BS!K27-BS!J27 -> 0 | L20: =BS!L27-BS!K27 -> 0 | M20: =BS!M27-BS!L27 -> 0 | N20: =BS!N27-BS!M27 -> 0
B21: Repayment of lease liabilities net of interest | G21: =Calc!G26+Calc!G25 -> -77.72 | H21: =Calc!H26+Calc!H25 -> -78.314462 | I21: =Calc!I26+Calc!I25 -> -78.996243 | J21: =Calc!J26+Calc!J25 -> -79.765184 | K21: =Calc!K26+Calc!K25 -> -80.621231 | L21: =Calc!L26+Calc!L25 -> -81.564436 | M21: =Calc!M26+Calc!M25 -> -82.594954 | N21: =Calc!N26+Calc!N25 -> -83.713045
B22: Cash flow from financing activities | G22: =SUM(G16:G21) -> -293.82702 | H22: =SUM(H16:H21) -> -470.45845 | I22: =SUM(I16:I21) -> -622.98269 | J22: =SUM(J16:J21) -> -649.86861 | K22: =SUM(K16:K21) -> -654.0591 | L22: =SUM(L16:L21) -> -676.29596 | M22: =SUM(M16:M21) -> -569.3676 | N22: =SUM(N16:N21) -> -306.43013
B24: Beginning cash | G24: =F26 -> 0 | H24: =G26 -> 34.702338 | I24: =H26 -> 37.381331 | J24: =I26 -> 41.328815 | K24: =J26 -> 31.367809 | L24: =K26 -> 32.479288 | M24: =L26 -> 30.243841 | N24: =M26 -> 162.25757
B25: Net cash flow | G25: =G11+G14+G22 -> 34.702338 | H25: =H11+H14+H22 -> 2.6789924 | I25: =I11+I14+I22 -> 3.9474846 | J25: =J11+J14+J22 -> -9.9610068 | K25: =K11+K14+K22 -> 1.1114798 | L25: =L11+L14+L22 -> -2.2354476 | M25: =M11+M14+M22 -> 132.01371 | N25: =N11+N14+N22 -> 420.85677
B26: Ending cash | F26: =BS!F5 -> 0 | G26: =SUM(G24:G25) -> 34.702338 | H26: =SUM(H24:H25) -> 37.381331 | I26: =SUM(I24:I25) -> 41.328815 | J26: =SUM(J24:J25) -> 31.367809 | K26: =SUM(K24:K25) -> 32.479288 | L26: =SUM(L24:L25) -> 30.243841 | M26: =SUM(M24:M25) -> 162.25755 | N26: =SUM(N24:N25) -> 583.11434
A28: End

Sheet Debt
A1: =Title -> Morrisons LBO
A2: =Info!N9 -> £ MM | C2: Hist. | G2: Proj. | H2: Proj. | I2: Proj. | J2: Proj. | K2: Proj. | L2: Proj. | M2: Proj. | N2: Proj.
A3: {=MID(CELL("filename",#REF!),FIND("]",CELL("filename",#REF!))+1,255)} -> #REF! | C3: =target_yrend -> 44500 | D3: Accounting | E3: Financing | F3: Combo | G3: =EDATE(C3,12) -> 44865 | H3: =EDATE(G3,12) -> 45230 | I3: =EDATE(H3,12) -> 45596 | J3: =EDATE(I3,12) -> 45961 | K3: =EDATE(J3,12) -> 46326 | L3: =EDATE(K3,12) -> 46691 | M3: =EDATE(L3,12) -> 47057 | N3: =EDATE(M3,12) -> 47422
A5: Mandatory repayment assumptions
B6: Term loan B repayment as a % of principal | G6: 0.04 | H6: 0.1 | I6: 0.15 | J6: 0.17 | K6: 0.17 | L6: 0.18 | M6: 0.19 | N6: 0
B7: Subordinated loan repayment as a % of principal | G7: 0 | H7: 0 | I7: 0 | J7: 0 | K7: 0 | L7: 0 | M7: 0 | N7: 1
B8: Senior bond repayment as a % of principal | G8: 0 | H8: 0 | I8: 0 | J8: 0 | K8: 0 | L8: 0 | M8: 1 | N8: 0
A10: Cash flow
B11: Beginning cash balance | G11: =BS!F5 -> 0 | H11: =BS!G5 -> 34.702338 | I11: =BS!H5 -> 37.381331 | J11: =BS!I5 -> 41.328815 | K11: =BS!J5 -> 31.367809 | L11: =BS!K5 -> 32.479288 | M11: =BS!L5 -> 30.243841 | N11: =BS!M5 -> 162.25757
B12: Cash flow from operations | G12: =CFS!G11 -> 699.32935 | H12: =CFS!H11 -> 855.06145 | I12: =CFS!I11 -> 1020.3119 | J12: =CFS!J11 -> 1045.0908 | K12: =CFS!K11 -> 1072.5092 | L12: =CFS!L11 -> 1103.9193 | M12: =CFS!M11 -> 1144.1359 | N12: =CFS!N11 -> 1183.3241
B13: Cash flow from investing | G13: =CFS!G14 -> -370.8 | H13: =CFS!H14 -> -381.924 | I13: =CFS!I14 -> -393.38172 | J13: =CFS!J14 -> -405.18317 | K13: =CFS!K14 -> -417.33867 | L13: =CFS!L14 -> -429.85883 | M13: =CFS!M14 -> -442.75459 | N13: =CFS!N14 -> -456.03723
B14: Repayment of lease liabilities net of interest | G14: =CFS!G21 -> -77.72 | H14: =CFS!H21 -> -78.314462 | I14: =CFS!I21 -> -78.996243 | J14: =CFS!J21 -> -79.765184 | K14: =CFS!K21 -> -80.621231 | L14: =CFS!L21 -> -81.564436 | M14: =CFS!M21 -> -82.594954 | N14: =CFS!N21 -> -83.713045
B15: Cash for debt repayment | G15: =SUM(G11:G14) -> 250.80935 | H15: =SUM(H11:H14) -> 429.52532 | I15: =SUM(I11:I14) -> 585.31526 | J15: =SUM(J11:J14) -> 601.47123 | K15: =SUM(K11:K14) -> 605.91715 | L15: =SUM(L11:L14) -> 624.97536 | M15: =SUM(M11:M14) -> 649.03019 | N15: =SUM(N11:N14) -> 805.83142
A17: Debt schedule
B18: Mandatory repayments
B19: Term loan B | G19: =G34 -> -112 | H19: =H34 -> -280 | I19: =I34 -> -420 | J19: =J34 -> -476 | K19: =K34 -> -476 | L19: =L34 -> -504 | M19: =M34 -> 0 | N19: =N34 -> 0
B20: Subordinated loan | G20: =G43 -> 0 | H20: =H43 -> 0 | I20: =I43 -> 0 | J20: =J43 -> 0 | K20: =K43 -> 0 | L20: =L43 -> 0 | M20: =M43 -> 0 | N20: =N43 -> -222.71711
B21: Senior bond | G21: =G52 -> 0 | H21: =H52 -> 0 | I21: =I52 -> 0 | J21: =J52 -> 0 | K21: =K52 -> 0 | L21: =L52 -> 0 | M21: =M52 -> 0 | N21: =N52 -> 0
B22: Cash for revolver | G22: =SUM(G15,G19:G21) -> 138.80935 | H22: =SUM(H15,H19:H21) -> 149.52532 | I22: =SUM(I15,I19:I21) -> 165.31526 | J22: =SUM(J15,J19:J21) -> 125.47123 | K22: =SUM(K15,K19:K21) -> 129.91715 | L22: =SUM(L15,L19:L21) -> 120.97536 | M22: =SUM(M15,M19:M21) -> 649.03019 | N22: =SUM(N15,N19:N21) -> 583.11432
B24: Short term debt
B25: Beginning | G25: =F27 -> 0 | H25: =G27 -> 0 | I25: =H27 -> 0 | J25: =I27 -> 0 | K25: =J27 -> 0 | L25: =K27 -> 0 | M25: =L27 -> 0 | N25: =M27 -> 0
B26: Issuance (repayment) | G26: =-MIN(G25,G22) -> 0 | H26: =-MIN(H25,H22) -> 0 | I26: =-MIN(I25,I22) -> 0 | J26: =-MIN(J25,J22) -> 0 | K26: =-MIN(K25,K22) -> 0 | L26: =-MIN(L25,L22) -> 0 | M26: =-MIN(M25,M22) -> 0 | N26: =-MIN(N25,N22) -> 0
B27: Ending | F27: =BS!F18 -> 0 | G27: =SUM(G25:G26) -> 0 | H27: =SUM(H25:H26) -> 0 | I27: =SUM(I25:I26) -> 0 | J27: =SUM(J25:J26) -> 0 | K27: =SUM(K25:K26) -> 0 | L27: =SUM(L25:L26) -> 0 | M27: =SUM(M25:M26) -> 0 | N27: =SUM(N25:N26) -> 0
B28: Interest expense | G28: =-LBO!$H$55*AVERAGE(Debt!F27:G27) -> 0 | H28: =-LBO!$H$55*AVERAGE(Debt!G27:H27) -> 0 | I28: =-LBO!$H$55*AVERAGE(Debt!H27:I27) -> 0 | J28: =-LBO!$H$55*AVERAGE(Debt!I27:J27) -> 0 | K28: =-LBO!$H$55*AVERAGE(Debt!J27:K27) -> 0 | L28: =-LBO!$H$55*AVERAGE(Debt!K27:L27) -> 0 | M28: =-LBO!$H$55*AVERAGE(Debt!L27:M27) -> 0 | N28: =-LBO!$H$55*AVERAGE(Debt!M27:N27) -> 0
B30: Cash for accelerated payments | G30: =(G22+G26)*LBO!$F$22 -> 104.10702 | H30: =(H22+H26)*LBO!$F$22 -> 112.14399 | I30: =(I22+I26)*LBO!$F$22 -> 123.98645 | J30: =(J22+J26)*LBO!$F$22 -> 94.103426 | K30: =(K22+K26)*LBO!$F$22 -> 97.437865 | L30: =(L22+L26)*LBO!$F$22 -> 90.731522 | M30: =(M22+M26)*LBO!$F$22 -> 486.77264 | N30: =(N22+N26)*LBO!$F$22 -> 437.33574
B32: Term loan B
B33: Beginning balance | G33: =F36 -> 2800 | H33: =G36 -> 2583.893 | I33: =H36 -> 2191.749 | J33: =I36 -> 1647.7625 | K33: =J36 -> 1077.6591 | L33: =K36 -> 504.22126 | M33: =L36 -> 0 | N33: =M36 -> 0
B34: Mandatory repayment | G34: =-MIN($F$36*G6,G33) -> -112 | H34: =-MIN($F$36*H6,H33) -> -280 | I34: =-MIN($F$36*I6,I33) -> -420 | J34: =-MIN($F$36*J6,J33) -> -476 | K34: =-MIN($F$36*K6,K33) -> -476 | L34: =-MIN($F$36*L6,L33) -> -504 | M34: =-MIN($F$36*M6,M33) -> 0 | N34: =-MIN($F$36*N6,N33) -> 0
B35: Accelerated repayment | D35: Sweep switch | E35: 1 | G35: =-MIN(G33+G34,G30)*$E$35 -> -104.10702 | H35: =-MIN(H33+H34,H30)*$E$35 -> -112.14399 | I35: =-MIN(I33+I34,I30)*$E$35 -> -123.98645 | J35: =-MIN(J33+J34,J30)*$E$35 -> -94.103426 | K35: =-MIN(K33+K34,K30)*$E$35 -> -97.437865 | L35: =-MIN(L33+L34,L30)*$E$35 -> -0.22125519 | M35: =-MIN(M33+M34,M30)*$E$35 -> 0 | N35: =-MIN(N33+N34,N30)*$E$35 -> 0
B36: Ending balance | F36: =BS!F25 -> 2800 | G36: =SUM(G33:G35) -> 2583.893 | H36: =SUM(H33:H35) -> 2191.749 | I36: =SUM(I33:I35) -> 1647.7625 | J36: =SUM(J33:J35) -> 1077.6591 | K36: =SUM(K33:K35) -> 504.22126 | L36: =SUM(L33:L35) -> 0 | M36: =SUM(M33:M35) -> 0 | N36: =SUM(N33:N35) -> 0
B37: Interest expense | G37: =-LBO!$H$56*AVERAGE(Debt!F36:G36) -> -109.02383 | H37: =-LBO!$H$56*AVERAGE(Debt!G36:H36) -> -96.70675 | I37: =-LBO!$H$56*AVERAGE(Debt!H36:I36) -> -77.750109 | J37: =-LBO!$H$56*AVERAGE(Debt!I36:J36) -> -55.189789 | K37: =-LBO!$H$56*AVERAGE(Debt!J36:K36) -> -32.033078 | L37: =-LBO!$H$56*AVERAGE(Debt!K36:L36) -> -10.21048 | M37: =-LBO!$H$56*AVERAGE(Debt!L36:M36) -> 0 | N37: =-LBO!$H$56*AVERAGE(Debt!M36:N36) -> 0
B39: Cash for accelerated payments | G39: =G30+G35 -> 0 | H39: =H30+H35 -> 0 | I39: =I30+I35 -> 0 | J39: =J30+J35 -> 0 | K39: =K30+K35 -> 0 | L39: =L30+L35 -> 90.510267 | M39: =M30+M35 -> 486.77264 | N39: =N30+N35 -> 437.33574
B41: Subordinated loan
B42: Beginning balance | G42: =F45 -> 800 | H42: =G45 -> 800 | I42: =H45 -> 800 | J42: =I45 -> 800 | K42: =J45 -> 800 | L42: =K45 -> 800 | M42: =L45 -> 709.48973 | N42: =M45 -> 222.71709
B43: Mandatory repayment | G43: =-MIN($F$45*G7,G42) -> 0 | H43: =-MIN($F$45*H7,H42) -> 0 | I43: =-MIN($F$45*I7,I42) -> 0 | J43: =-MIN($F$45*J7,J42) -> 0 | K43: =-MIN($F$45*K7,K42) -> 0 | L43: =-MIN($F$45*L7,L42) -> 0 | M43: =-MIN($F$45*M7,M42) -> 0 | N43: =-MIN($F$45*N7,N42) -> -222.71709
B44: Accelerated repayment | D44: Sweep switch | E44: 1 | G44: =-MIN(G42+G43,G39)*$E$44 -> 0 | H44: =-MIN(H42+H43,H39)*$E$44 -> 0 | I44: =-MIN(I42+I43,I39)*$E$44 -> 0 | J44: =-MIN(J42+J43,J39)*$E$44 -> 0 | K44: =-MIN(K42+K43,K39)*$E$44 -> 0 | L44: =-MIN(L42+L43,L39)*$E$44 -> -90.510267 | M44: =-MIN(M42+M43,M39)*$E$44 -> -486.77264 | N44: =-MIN(N42+N43,N39)*$E$44 -> 0
B45: Ending balance | F45: =BS!F26 -> 800 | G45: =SUM(G42:G44) -> 800 | H45: =SUM(H42:H44) -> 800 | I45: =SUM(I42:I44) -> 800 | J45: =SUM(J42:J44) -> 800 | K45: =SUM(K42:K44) -> 800 | L45: =SUM(L42:L44) -> 709.48973 | M45: =SUM(M42:M44) -> 222.71709 | N45: =SUM(N42:N44) -> 0
B46: Interest expense | G46: =-LBO!$H$57*AVERAGE(Debt!F45:G45) -> -64.4 | H46: =-LBO!$H$57*AVERAGE(Debt!G45:H45) -> -64.4 | I46: =-LBO!$H$57*AVERAGE(Debt!H45:I45) -> -64.4 | J46: =-LBO!$H$57*AVERAGE(Debt!I45:J45) -> -64.4 | K46: =-LBO!$H$57*AVERAGE(Debt!J45:K45) -> -64.4 | L46: =-LBO!$H$57*AVERAGE(Debt!K45:L45) -> -60.756962 | M46: =-LBO!$H$57*AVERAGE(Debt!L45:M45) -> -37.521325 | N46: =-LBO!$H$57*AVERAGE(Debt!M45:N45) -> -8.9643628
B48: Cash for accelerated payments | G48: =G39+G44 -> 0 | H48: =H39+H44 -> 0 | I48: =I39+I44 -> 0 | J48: =J39+J44 -> 0 | K48: =K39+K44 -> 0 | L48: =L39+L44 -> 0 | M48: =M39+M44 -> 0 | N48: =N39+N44 -> 437.33574
B50: Senior bonds
...
