Workbook
Name circ_switch: Info!$N$10
Name Local_currency: Info!$N$7
Name start_date: Info!$N$6
Name today_date: Info!$N$6

Sheet Welcome
A2: Renewable Energy Modeling
A5: This document is for training purposes only. Financial Edge accepts no responsibility or liability for any other purpose or usage.
A7: ="© "&YEAR(TODAY())&" Financial Edge Training " -> © 2024 Financial Edge Training

Sheet Info
A1: =Welcome!A2 -> Renewable Energy Modeling
A2: =RIGHT(CELL("filename",A1),LEN(CELL("filename",A1))-SEARCH("]",CELL("filename", A1))) -> Info
B4: Features | L4: Model Details
L5: Company name | N5: Sussex wind
L6: Date | N6: 54788
L7: Currency | N7: GBP
L8: Units | N8: Thousands
L9: Analyst Name | N9: Firstname Lastname
L10: Circular Switch | N10: 1
B13: Tab Structure | O13: Formatting
D14: Assumptions and outputs
D15: Operations | P15: Input
D16: Sources and uses | P16: Hard coded
D17: P&L and tax | P17: Formulas
D18: Balance sheet | P18: Line that will be deferred
D19: Cashflow statement | P19: Circular line
D20: Debt

Sheet Assumptions and Outputs
A1: =Info!A1 -> Renewable Energy Modeling
A2: =RIGHT(CELL("filename",A1),LEN(CELL("filename",A1))-SEARCH("]",CELL("filename", A1))) -> Assumptions and Outputs | C2: Input | D2: Input | F2: ='Assumptions and Outputs'!D11 -> 55153 | G2: =EDATE(F2,12) -> 55518 | H2: =EDATE(G2,12) -> 55884 | I2: =EDATE(H2,12) -> 56249 | J2: =EDATE(I2,12) -> 56614 | K2: =EDATE(J2,12) -> 56979 | L2: =EDATE(K2,12) -> 57345 | M2: =EDATE(L2,12) -> 57710 | N2: =EDATE(M2,12) -> 58075 | ... AA2: =EDATE(Z2,12) -> 62823
B3: ="all in "&Local_currency&" 000s unless stated" -> all in GBP 000s unless stated | L3: =IF(ISBLANK(K3),"",_xlfn.FORMULATEXT(K3))
L4: =IF(ISBLANK(K4),"",_xlfn.FORMULATEXT(K4))
A5: Assumptions | L5: =IF(ISBLANK(K5),"",_xlfn.FORMULATEXT(K5))
L6: =IF(ISBLANK(K6),"",_xlfn.FORMULATEXT(K6))
A7: General | L7: =IF(ISBLANK(K7),"",_xlfn.FORMULATEXT(K7))
B8: Inflation | D8: 0.04 | L8: =IF(ISBLANK(K8),"",_xlfn.FORMULATEXT(K8))
L9: =IF(ISBLANK(K9),"",_xlfn.FORMULATEXT(K9))
A10: Timing | L10: =IF(ISBLANK(K10),"",_xlfn.FORMULATEXT(K10))
B11: Capex starts in year ending | D11: 55153 | L11: =IF(ISBLANK(K11),"",_xlfn.FORMULATEXT(K11))
B12: Project starts in year ending | D12: 55884 | L12: =IF(ISBLANK(K12),"",_xlfn.FORMULATEXT(K12))
B13: Debt grace period ends | D13: 56249 | L13: =IF(ISBLANK(K13),"",_xlfn.FORMULATEXT(K13))
L14: =IF(ISBLANK(K14),"",_xlfn.FORMULATEXT(K14))
A15: Plant Capacity | L15: =IF(ISBLANK(K15),"",_xlfn.FORMULATEXT(K15))
B16: Maximum capacity | C16: MW | D16: 200 | L16: =IF(ISBLANK(K16),"",_xlfn.FORMULATEXT(K16))
B17: Percentage ramp-up in 1st year of operations | D17: 0.8 | L17: =IF(ISBLANK(K17),"",_xlfn.FORMULATEXT(K17))
B18: Turbine efficiency | C18: % Capacity | D18: 0.4 | L18: =IF(ISBLANK(K18),"",_xlfn.FORMULATEXT(K18))
B19: Hours per day | C19: Hours | D19: 24 | L19: =IF(ISBLANK(K19),"",_xlfn.FORMULATEXT(K19))
B20: Days per year | C20: Days | D20: 365 | L20: =IF(ISBLANK(K20),"",_xlfn.FORMULATEXT(K20))
B21: Outage - scheduled | C21: Hrs/yr | D21: 240 | L21: =IF(ISBLANK(K21),"",_xlfn.FORMULATEXT(K21))
B22: Outage - forced | C22: Hrs/yr | D22: 380 | L22: =IF(ISBLANK(K22),"",_xlfn.FORMULATEXT(K22))
L23: =IF(ISBLANK(K23),"",_xlfn.FORMULATEXT(K23))
A24: Customers | L24: =IF(ISBLANK(K24),"",_xlfn.FORMULATEXT(K24))
B25: Offtaker 1 name | D25: Government | L25: =IF(ISBLANK(K25),"",_xlfn.FORMULATEXT(K25))
B26: Offtaker 2 name | D26: HEC energy | L26: =IF(ISBLANK(K26),"",_xlfn.FORMULATEXT(K26))
B27: ="Electricity sales - "&D25 -> Electricity sales - Government | C27: % Total | D27: 0.55 | L27: =IF(ISBLANK(K27),"",_xlfn.FORMULATEXT(K27))
B28: ="Electricity sales - "&D26 -> Electricity sales - HEC energy | C28: % Total | D28: 0.25 | L28: =IF(ISBLANK(K28),"",_xlfn.FORMULATEXT(K28))
B29: Electricity sales - Industrial | C29: % Total | D29: =1-SUM(D27:D28) -> 0.2 | L29: =IF(ISBLANK(K29),"",_xlfn.FORMULATEXT(K29))
L30: =IF(ISBLANK(K30),"",_xlfn.FORMULATEXT(K30))
B31: Offtaker capacity charge agreement - Debt service | D31: 1 | L31: =IF(ISBLANK(K31),"",_xlfn.FORMULATEXT(K31))
B32: Offtaker capacity charge agreement - Fixed costs | D32: 0.6 | L32: =IF(ISBLANK(K32),"",_xlfn.FORMULATEXT(K32))
L33: =IF(ISBLANK(K33),"",_xlfn.FORMULATEXT(K33))
A34: Pricing | L34: =IF(ISBLANK(K34),"",_xlfn.FORMULATEXT(K34))
B35: =D25&" price in real terms per MWh" -> Government price in real terms per MWh | C35: £ | D35: 40 | L35: =IF(ISBLANK(K35),"",_xlfn.FORMULATEXT(K35))
B36: =D26&" price in real terms per MWh" -> HEC energy price in real terms per MWh | C36: £ | D36: 30 | L36: =IF(ISBLANK(K36),"",_xlfn.FORMULATEXT(K36))
B37: Industrial price in real terms per MWh | C37: £ | D37: 50 | L37: =IF(ISBLANK(K37),"",_xlfn.FORMULATEXT(K37))
L38: =IF(ISBLANK(K38),"",_xlfn.FORMULATEXT(K38))
A39: Costs | L39: =IF(ISBLANK(K39),"",_xlfn.FORMULATEXT(K39))
B40: Variable costs % of electricity revenues | D40: 0.15 | L40: =IF(ISBLANK(K40),"",_xlfn.FORMULATEXT(K40))
...

Sheet Operations
A1: =Info!A1 -> Renewable Energy Modeling
A2: =RIGHT(CELL("filename",A1),LEN(CELL("filename",A1))-SEARCH("]",CELL("filename", A1))) -> Operations | C2: Input | D2: Input | F2: ='Assumptions and Outputs'!D11 -> 55153 | G2: =EDATE(F2,12) -> 55518 | H2: =EDATE(G2,12) -> 55884 | I2: =EDATE(H2,12) -> 56249 | J2: =EDATE(I2,12) -> 56614 | K2: =EDATE(J2,12) -> 56979 | L2: =EDATE(K2,12) -> 57345 | M2: =EDATE(L2,12) -> 57710 | N2: =EDATE(M2,12) -> 58075 | ... AA2: =EDATE(Z2,12) -> 62823
B3: ="all in "&Local_currency&" 000s unless stated" -> all in GBP 000s unless stated | L3: =IF(ISBLANK(K3),"",_xlfn.FORMULATEXT(K3))
L4: =IF(ISBLANK(K4),"",_xlfn.FORMULATEXT(K4))
A5: Flags | L5: =IF(ISBLANK(K5),"",_xlfn.FORMULATEXT(K5))
B6: Project operational | C6: Yr end | D6: ='Assumptions and Outputs'!D12 -> 55884 | F6: =IF(F2>=$D$6,1,0) -> 0 | G6: =IF(G2>=$D$6,1,0) -> 0 | H6: =IF(H2>=$D$6,1,0) -> 1 | I6: =IF(I2>=$D$6,1,0) -> 1 | J6: =IF(J2>=$D$6,1,0) -> 1 | K6: =IF(K2>=$D$6,1,0) -> 1 | L6: =IF(L2>=$D$6,1,0) -> 1 | M6: =IF(M2>=$D$6,1,0) -> 1 | ... AA6: =IF(AA2>=$D$6,1,0) -> 1
B7: Project ramp up year 1 | F7: =IF(SUM($F$6:F6)=1,1,0) -> 0 | G7: =IF(SUM($F$6:G6)=1,1,0) -> 0 | H7: =IF(SUM($F$6:H6)=1,1,0) -> 1 | I7: =IF(SUM($F$6:I6)=1,1,0) -> 0 | J7: =IF(SUM($F$6:J6)=1,1,0) -> 0 | K7: =IF(SUM($F$6:K6)=1,1,0) -> 0 | L7: =IF(SUM($F$6:L6)=1,1,0) -> 0 | M7: =IF(SUM($F$6:M6)=1,1,0) -> 0 | ... AA7: =IF(SUM($F$6:AA6)=1,1,0) -> 0
A9: Inflation
B10: Inflation index with base of 1 | C10: Inflation | D10: ='Assumptions and Outputs'!D8 -> 0.04 | E10: 1 | F10: =(1+$D$10)*E10 -> 1.04 | G10: =(1+$D$10)*F10 -> 1.0816 | H10: =(1+$D$10)*G10 -> 1.124864 | I10: =(1+$D$10)*H10 -> 1.1698586 | J10: =(1+$D$10)*I10 -> 1.2166529 | K10: =(1+$D$10)*J10 -> 1.265319 | L10: =(1+$D$10)*K10 -> 1.3159318 | M10: =(1+$D$10)*L10 -> 1.3685691 | ... AA10: =(1+$D$10)*Z10 -> 2.3699188
A12: Capacity
B13: Project capacity % | C13: Ramp up | D13: ='Assumptions and Outputs'!D17 -> 0.8 | F13: =F6*IF(F7=1,$D$13,1) -> 0 | G13: =G6*IF(G7=1,$D$13,1) -> 0 | H13: =H6*IF(H7=1,$D$13,1) -> 0.8 | I13: =I6*IF(I7=1,$D$13,1) -> 1 | J13: =J6*IF(J7=1,$D$13,1) -> 1 | K13: =K6*IF(K7=1,$D$13,1) -> 1 | L13: =L6*IF(L7=1,$D$13,1) -> 1 | M13: =M6*IF(M7=1,$D$13,1) -> 1 | ... AA13: =AA6*IF(AA7=1,$D$13,1) -> 1
B14: Project capacity MW | C14: Max MW | D14: ='Assumptions and Outputs'!D16 -> 200 | F14: =$D$14*F13 -> 0 | G14: =$D$14*G13 -> 0 | H14: =$D$14*H13 -> 160 | I14: =$D$14*I13 -> 200 | J14: =$D$14*J13 -> 200 | K14: =$D$14*K13 -> 200 | L14: =$D$14*L13 -> 200 | M14: =$D$14*M13 -> 200 | ... AA14: =$D$14*AA13 -> 200
B15: Achieved total capacity MW | C15: Efficiency | D15: ='Assumptions and Outputs'!D18 -> 0.4 | F15: =$D$15*F14 -> 0 | G15: =$D$15*G14 -> 0 | H15: =$D$15*H14 -> 64 | I15: =$D$15*I14 -> 80 | J15: =$D$15*J14 -> 80 | K15: =$D$15*K14 -> 80 | L15: =$D$15*L14 -> 80 | M15: =$D$15*M14 -> 80 | ... AA15: =$D$15*AA14 -> 80
B17: Max operational hrs | F17: ='Assumptions and Outputs'!$D$20*'Assumptions and Outputs'!$D$19 -> 8760 | G17: ='Assumptions and Outputs'!$D$20*'Assumptions and Outputs'!$D$19 -> 8760 | H17: ='Assumptions and Outputs'!$D$20*'Assumptions and Outputs'!$D$19 -> 8760 | I17: ='Assumptions and Outputs'!$D$20*'Assumptions and Outputs'!$D$19 -> 8760 | J17: ='Assumptions and Outputs'!$D$20*'Assumptions and Outputs'!$D$19 -> 8760 | K17: ='Assumptions and Outputs'!$D$20*'Assumptions and Outputs'!$D$19 -> 8760 | L17: ='Assumptions and Outputs'!$D$20*'Assumptions and Outputs'!$D$19 -> 8760 | M17: ='Assumptions and Outputs'!$D$20*'Assumptions and Outputs'!$D$19 -> 8760 | ... AA17: ='Assumptions and Outputs'!$D$20*'Assumptions and Outputs'!$D$19 -> 8760
B18: Outage - scheduled hrs | C18: Hrs/yr | D18: ='Assumptions and Outputs'!D21 -> 240 | F18: =$D$18*-1 -> -240 | G18: =$D$18*-1 -> -240 | H18: =$D$18*-1 -> -240 | I18: =$D$18*-1 -> -240 | J18: =$D$18*-1 -> -240 | K18: =$D$18*-1 -> -240 | L18: =$D$18*-1 -> -240 | M18: =$D$18*-1 -> -240 | ... AA18: =$D$18*-1 -> -240
B19: Outage - forced hrs | C19: Hrs/yr | D19: ='Assumptions and Outputs'!D22 -> 380 | F19: =$D$19*-1 -> -380 | G19: =$D$19*-1 -> -380 | H19: =$D$19*-1 -> -380 | I19: =$D$19*-1 -> -380 | J19: =$D$19*-1 -> -380 | K19: =$D$19*-1 -> -380 | L19: =$D$19*-1 -> -380 | M19: =$D$19*-1 -> -380 | ... AA19: =$D$19*-1 -> -380
B20: Available hrs | F20: =SUM(F17:F19) -> 8140 | G20: =SUM(G17:G19) -> 8140 | H20: =SUM(H17:H19) -> 8140 | I20: =SUM(I17:I19) -> 8140 | J20: =SUM(J17:J19) -> 8140 | K20: =SUM(K17:K19) -> 8140 | L20: =SUM(L17:L19) -> 8140 | M20: =SUM(M17:M19) -> 8140 | ... AA20: =SUM(AA17:AA19) -> 8140
B22: Achieved MWh | F22: =F15*F20 -> 0 | G22: =G15*G20 -> 0 | H22: =H15*H20 -> 520960 | I22: =I15*I20 -> 651200 | J22: =J15*J20 -> 651200 | K22: =K15*K20 -> 651200 | L22: =L15*L20 -> 651200 | M22: =M15*M20 -> 651200 | ... AA22: =AA15*AA20 -> 651200
A24: Revenue
B25: Sales - Government Mwh | C25: % Total | D25: ='Assumptions and Outputs'!D27 -> 0.55 | F25: =$D25*F$22 -> 0 | G25: =$D25*G$22 -> 0 | H25: =$D25*H$22 -> 286528 | I25: =$D25*I$22 -> 358160 | J25: =$D25*J$22 -> 358160 | K25: =$D25*K$22 -> 358160 | L25: =$D25*L$22 -> 358160 | M25: =$D25*M$22 -> 358160 | ... AA25: =$D25*AA$22 -> 358160
B26: Sales - HEC energy MWh | C26: % Total | D26: ='Assumptions and Outputs'!D28 -> 0.25 | F26: =$D26*F$22 -> 0 | G26: =$D26*G$22 -> 0 | H26: =$D26*H$22 -> 130240 | I26: =$D26*I$22 -> 162800 | J26: =$D26*J$22 -> 162800 | K26: =$D26*K$22 -> 162800 | L26: =$D26*L$22 -> 162800 | M26: =$D26*M$22 -> 162800 | ... AA26: =$D26*AA$22 -> 162800
B27: Sales - Industrial MWh | C27: % Total | D27: ='Assumptions and Outputs'!D29 -> 0.2 | F27: =$D27*F$22 -> 0 | G27: =$D27*G$22 -> 0 | H27: =$D27*H$22 -> 104192 | I27: =$D27*I$22 -> 130240 | J27: =$D27*J$22 -> 130240 | K27: =$D27*K$22 -> 130240 | L27: =$D27*L$22 -> 130240 | M27: =$D27*M$22 -> 130240 | ... AA27: =$D27*AA$22 -> 130240
B29: Prices - Government per MWh | C29: Real price | D29: ='Assumptions and Outputs'!D35/1000 -> 0.04 | F29: =$D29*F$10 -> 0.0416 | G29: =$D29*G$10 -> 0.043264 | H29: =$D29*H$10 -> 0.04499456 | I29: =$D29*I$10 -> 0.046794342 | J29: =$D29*J$10 -> 0.048666116 | K29: =$D29*K$10 -> 0.050612761 | L29: =$D29*L$10 -> 0.052637271 | M29: =$D29*M$10 -> 0.054742762 | ... AA29: =$D29*AA$10 -> 0.094796752
B30: Prices - HEC energy per MWh | C30: Real price | D30: ='Assumptions and Outputs'!D36/1000 -> 0.03 | F30: =$D30*F$10 -> 0.0312 | G30: =$D30*G$10 -> 0.032448 | H30: =$D30*H$10 -> 0.03374592 | I30: =$D30*I$10 -> 0.035095757 | J30: =$D30*J$10 -> 0.036499587 | K30: =$D30*K$10 -> 0.037959571 | L30: =$D30*L$10 -> 0.039477953 | M30: =$D30*M$10 -> 0.041057072 | ... AA30: =$D30*AA$10 -> 0.071097564
B31: Prices - Industrial per MWh | C31: Real price | D31: ='Assumptions and Outputs'!D37/1000 -> 0.05 | F31: =$D31*F$10 -> 0.052 | G31: =$D31*G$10 -> 0.05408 | H31: =$D31*H$10 -> 0.0562432 | I31: =$D31*I$10 -> 0.058492928 | J31: =$D31*J$10 -> 0.060832645 | K31: =$D31*K$10 -> 0.063265951 | L31: =$D31*L$10 -> 0.065796589 | M31: =$D31*M$10 -> 0.068428453 | ... AA31: =$D31*AA$10 -> 0.11849594
B33: Sales - Government | F33: =F25*F29 -> 0 | G33: =G25*G29 -> 0 | H33: =H25*H29 -> 12892.201 | I33: =I25*I29 -> 16759.862 | J33: =J25*J29 -> 17430.256 | K33: =K25*K29 -> 18127.466 | L33: =L25*L29 -> 18852.565 | M33: =M25*M29 -> 19606.668 | ... AA33: =AA25*AA29 -> 33952.405
B34: Sales - HEC energy | F34: =F26*F30 -> 0 | G34: =G26*G30 -> 0 | H34: =H26*H30 -> 4395.0686 | I34: =I26*I30 -> 5713.5892 | J34: =J26*J30 -> 5942.1328 | K34: =K26*K30 -> 6179.8181 | L34: =L26*L30 -> 6427.0108 | M34: =M26*M30 -> 6684.0912 | ... AA34: =AA26*AA30 -> 11574.683
B35: Sales - Industrial | F35: =F27*F31 -> 0 | G35: =G27*G31 -> 0 | H35: =H27*H31 -> 5860.0915 | I35: =I27*I31 -> 7618.1189 | J35: =J27*J31 -> 7922.8437 | K35: =K27*K31 -> 8239.7574 | L35: =L27*L31 -> 8569.3477 | M35: =M27*M31 -> 8912.1217 | ... AA35: =AA27*AA31 -> 15432.911
B36: Electricity revenue | F36: =SUM(F33:F35) -> 0 | G36: =SUM(G33:G35) -> 0 | H36: =SUM(H33:H35) -> 23147.361 | I36: =SUM(I33:I35) -> 30091.57 | J36: =SUM(J33:J35) -> 31295.233 | K36: =SUM(K33:K35) -> 32547.042 | L36: =SUM(L33:L35) -> 33848.924 | M36: =SUM(M33:M35) -> 35202.881 | ... AA36: =SUM(AA33:AA35) -> 60959.999
B38: Capacity charge - debt service | C38: % Cover | D38: ='Assumptions and Outputs'!D31 -> 1 | F38: =IF(circ_switch=1,Debt!F59*-1,0) -> 0 | G38: =IF(circ_switch=1,Debt!G59*-1,0) -> 0 | H38: =IF(circ_switch=1,Debt!H59*-1,0) -> 5736.4806 | I38: =IF(circ_switch=1,Debt!I59*-1,0) -> 5736.4806 | J38: =IF(circ_switch=1,Debt!J59*-1,0) -> 13289.106 | K38: =IF(circ_switch=1,Debt!K59*-1,0) -> 12934.34 | L38: =IF(circ_switch=1,Debt!L59*-1,0) -> 12579.573 | M38: =IF(circ_switch=1,Debt!M59*-1,0) -> 12224.806 | ... AA38: =IF(circ_switch=1,Debt!AA59*-1,0) -> 2103.3762
B39: Capacity charge - fixed costs | C39: % Cover | D39: ='Assumptions and Outputs'!D32 -> 0.6 | F39: =F46*-1*$D$39 -> 0 | G39: =G46*-1*$D$39 -> 0 | H39: =H46*-1*$D$39 -> 13498.368 | I39: =I46*-1*$D$39 -> 14038.303 | J39: =J46*-1*$D$39 -> 14599.835 | K39: =K46*-1*$D$39 -> 15183.828 | L39: =L46*-1*$D$39 -> 15791.181 | M39: =M46*-1*$D$39 -> 16422.829 | ... AA39: =AA46*-1*$D$39 -> 28439.025
B40: Capacity charge revenue | F40: =SUM(F38:F39) -> 0 | G40: =SUM(G38:G39) -> 0 | H40: =SUM(H38:H39) -> 19234.849 | I40: =SUM(I38:I39) -> 19774.783 | J40: =SUM(J38:J39) -> 27888.941 | K40: =SUM(K38:K39) -> 28118.168 | L40: =SUM(L38:L39) -> 28370.754 | M40: =SUM(M38:M39) -> 28647.635 | ... AA40: =SUM(AA38:AA39) -> 30542.402
B42: Total revenue | F42: =F36+F40 -> 0 | G42: =G36+G40 -> 0 | H42: =H36+H40 -> 42382.21 | I42: =I36+I40 -> 49866.353 | J42: =J36+J40 -> 59184.174 | K42: =K36+K40 -> 60665.21 | L42: =L36+L40 -> 62219.678 | M42: =M36+M40 -> 63850.515 | ... AA42: =AA36+AA40 -> 91502.401
A44: Costs
B45: Variable costs | C45: % Elec rev | D45: ='Assumptions and Outputs'!D40 -> 0.15 | F45: =$D$45*F36*-1 -> 0 | G45: =$D$45*G36*-1 -> 0 | H45: =$D$45*H36*-1 -> -3472.1042 | I45: =$D$45*I36*-1 -> -4513.7355 | J45: =$D$45*J36*-1 -> -4694.2849 | K45: =$D$45*K36*-1 -> -4882.0563 | L45: =$D$45*L36*-1 -> -5077.3385 | M45: =$D$45*M36*-1 -> -5280.4321 | ... AA45: =$D$45*AA36*-1 -> -9143.9999
B46: Fixed costs | C46: Real cost | D46: ='Assumptions and Outputs'!D41 -> 20000 | F46: =$D$46*F10*F6*-1 -> 0 | G46: =$D$46*G10*G6*-1 -> 0 | H46: =$D$46*H10*H6*-1 -> -22497.28 | I46: =$D$46*I10*I6*-1 -> -23397.171 | J46: =$D$46*J10*J6*-1 -> -24333.058 | K46: =$D$46*K10*K6*-1 -> -25306.38 | L46: =$D$46*L10*L6*-1 -> -26318.636 | M46: =$D$46*M10*M6*-1 -> -27371.381 | ... AA46: =$D$46*AA10*AA6*-1 -> -47398.376
B47: Total costs | F47: =SUM(F45:F46) -> 0 | G47: =SUM(G45:G46) -> 0 | H47: =SUM(H45:H46) -> -25969.384 | I47: =SUM(I45:I46) -> -27910.907 | J47: =SUM(J45:J46) -> -29027.343 | K47: =SUM(K45:K46) -> -30188.437 | L47: =SUM(L45:L46) -> -31395.974 | M47: =SUM(M45:M46) -> -32651.813 | ... AA47: =SUM(AA45:AA46) -> -56542.376
A49: Outputs and ratios
B50: EBITDA | F50: =F42+F47 -> 0 | G50: =G42+G47 -> 0 | H50: =H42+H47 -> 16412.826 | I50: =I42+I47 -> 21955.446 | J50: =J42+J47 -> 30156.831 | K50: =K42+K47 -> 30476.773 | L50: =L42+L47 -> 30823.704 | M50: =M42+M47 -> 31198.702 | ... AA50: =AA42+AA47 -> 34960.025
B51: Average revenue per MWh | F51: =IFERROR(F36/F22,"na") -> na | G51: =IFERROR(G36/G22,"na") -> na | H51: =IFERROR(H36/H22,"na") -> 0.044432128 | I51: =IFERROR(I36/I22,"na") -> 0.046209413 | J51: =IFERROR(J36/J22,"na") -> 0.04805779 | K51: =IFERROR(K36/K22,"na") -> 0.049980101 | L51: =IFERROR(L36/L22,"na") -> 0.051979305 | M51: =IFERROR(M36/M22,"na") -> 0.054058477 | ... AA51: =IFERROR(AA36/AA22,"na") -> 0.093611792
...

Sheet Sources and Uses
A1: =Info!A1 -> Renewable Energy Modeling
A2: =RIGHT(CELL("filename",A1),LEN(CELL("filename",A1))-SEARCH("]",CELL("filename", A1))) -> Sources and Uses | C2: Input | D2: Input | F2: ='Assumptions and Outputs'!D11 -> 55153 | G2: =EDATE(F2,12) -> 55518 | H2: =EDATE(G2,12) -> 55884 | I2: =EDATE(H2,12) -> 56249 | J2: =EDATE(I2,12) -> 56614 | K2: =EDATE(J2,12) -> 56979 | L2: =EDATE(K2,12) -> 57345 | M2: =EDATE(L2,12) -> 57710 | N2: =EDATE(M2,12) -> 58075 | ... AA2: =EDATE(Z2,12) -> 62823
B3: ="all in "&Local_currency&" 000s unless stated" -> all in GBP 000s unless stated
A5: Flags
B6: Project operational | F6: =Operations!F6 -> 0 | G6: =Operations!G6 -> 0 | H6: =Operations!H6 -> 1 | I6: =Operations!I6 -> 1 | J6: =Operations!J6 -> 1 | K6: =Operations!K6 -> 1 | L6: =Operations!L6 -> 1 | M6: =Operations!M6 -> 1 | ... AA6: =Operations!AA6 -> 1
B7: Int during construction (IDC) | F7: =1-F6 -> 1 | G7: =1-G6 -> 1 | H7: =1-H6 -> 0 | I7: =1-I6 -> 0 | J7: =1-J6 -> 0 | K7: =1-K6 -> 0 | L7: =1-L6 -> 0 | M7: =1-M6 -> 0 | ... AA7: =1-AA6 -> 0
A9: Inflation
B10: Inflation index with base of 1 | F10: =Operations!F10 -> 1.04 | G10: =Operations!G10 -> 1.0816 | H10: =Operations!H10 -> 1.124864 | I10: =Operations!I10 -> 1.1698586 | J10: =Operations!J10 -> 1.2166529 | K10: =Operations!K10 -> 1.265319 | L10: =Operations!L10 -> 1.3159318 | M10: =Operations!M10 -> 1.3685691 | ... AA10: =Operations!AA10 -> 2.3699188
A12: Sources and uses summary
B13: Capex | F13: =F40 -> 44561.92 | G13: =G40 -> 190938.91 | H13: =H40 -> 0 | I13: =I40 -> 0 | J13: =J40 -> 0 | K13: =K40 -> 0 | L13: =L40 -> 0 | M13: =M40 -> 0 | ... AA13: =AA40 -> 0
B14: Int during construction (IDC) | F14: =F42 -> 0 | G14: =G42 -> 2868.2403 | H14: =H42 -> 0 | I14: =I42 -> 0 | J14: =J42 -> 0 | K14: =K42 -> 0 | L14: =L42 -> 0 | M14: =M42 -> 0 | ... AA14: =AA42 -> 0
B15: Debt Serv Res Acc buildup | F15: =F43 -> 0 | G15: =G43 -> 5736.4806 | H15: =H43 -> 0 | I15: =I43 -> 0 | J15: =J43 -> 0 | K15: =K43 -> 0 | L15: =L43 -> 0 | M15: =M43 -> 0 | ... AA15: =AA43 -> 0
B16: Total uses | F16: =SUM(F13:F15) -> 44561.92 | G16: =SUM(G13:G15) -> 199543.64 | H16: =SUM(H13:H15) -> 0 | I16: =SUM(I13:I15) -> 0 | J16: =SUM(J13:J15) -> 0 | K16: =SUM(K13:K15) -> 0 | L16: =SUM(L13:L15) -> 0 | M16: =SUM(M13:M15) -> 0 | ... AA16: =SUM(AA13:AA15) -> 0
B18: Equity issued | F18: =F60 -> 44561.92 | G18: =G60 -> 77490.858 | H18: =H60 -> 0 | I18: =I60 -> 0 | J18: =J60 -> 0 | K18: =K60 -> 0 | L18: =L60 -> 0 | M18: =M60 -> 0 | ... AA18: =AA60 -> 0
B19: Senior debt drawndown | F19: =F66 -> 0 | G19: =G66 -> 85436.944 | H19: =H66 -> 0 | I19: =I66 -> 0 | J19: =J66 -> 0 | K19: =K66 -> 0 | L19: =L66 -> 0 | M19: =M66 -> 0 | ... AA19: =AA66 -> 0
B20: Junior debt drawndown | F20: =F67 -> 0 | G20: =G67 -> 36615.833 | H20: =H67 -> 0 | I20: =I67 -> 0 | J20: =J67 -> 0 | K20: =K67 -> 0 | L20: =L67 -> 0 | M20: =M67 -> 0 | ... AA20: =AA67 -> 0
B21: Total sources | F21: =SUM(F18:F20) -> 44561.92 | G21: =SUM(G18:G20) -> 199543.64 | H21: =SUM(H18:H20) -> 0 | I21: =SUM(I18:I20) -> 0 | J21: =SUM(J18:J20) -> 0 | K21: =SUM(K18:K20) -> 0 | L21: =SUM(L18:L20) -> 0 | M21: =SUM(M18:M20) -> 0 | ... AA21: =SUM(AA18:AA20) -> 0
B23: Check | F23: =F21-F16 -> 0 | G23: =G21-G16 -> 0 | H23: =H21-H16 -> 0 | I23: =I21-I16 -> 0 | J23: =J21-J16 -> 0 | K23: =K21-K16 -> 0 | L23: =L21-L16 -> 0 | M23: =M21-M16 -> 0 | ... AA23: =AA21-AA16 -> 0
A25: Installed capacity
B26: Capex year | E26: 0 | F26: =E26+1 -> 1 | G26: =F26+1 -> 2 | H26: =G26+1 -> 3 | I26: =H26+1 -> 4 | J26: =I26+1 -> 5 | K26: =J26+1 -> 6 | L26: =K26+1 -> 7 | M26: =L26+1 -> 8 | ... AA26: =Z26+1 -> 22
B27: Capex % of total in year 1 | C27: ='Assumptions and Outputs'!C44 -> 1 | D27: ='Assumptions and Outputs'!D44 -> 0.2
B28: Capex % of total in year 2 | C28: ='Assumptions and Outputs'!C45 -> 2 | D28: ='Assumptions and Outputs'!D45 -> 0.8
B29: Capex % of total | F29: {=IFERROR(INDEX($D$27:$D$28,F26),0)} -> 0.2 | G29: {=IFERROR(INDEX($D$27:$D$28,G26),0)} -> 0.8 | H29: {=IFERROR(INDEX($D$27:$D$28,H26),0)} -> 0 | I29: {=IFERROR(INDEX($D$27:$D$28,I26),0)} -> 0 | J29: {=IFERROR(INDEX($D$27:$D$28,J26),0)} -> 0 | K29: {=IFERROR(INDEX($D$27:$D$28,K26),0)} -> 0 | L29: {=IFERROR(INDEX($D$27:$D$28,L26),0)} -> 0 | M29: {=IFERROR(INDEX($D$27:$D$28,M26),0)} -> 0 | ... AA29: {=IFERROR(INDEX($D$27:$D$28,AA26),0)} -> 0
B30: Installed capacity | C30: Max MW | D30: ='Assumptions and Outputs'!D16 -> 200 | F30: =$D$30*F29 -> 40 | G30: =$D$30*G29 -> 160 | H30: =$D$30*H29 -> 0 | I30: =$D$30*I29 -> 0 | J30: =$D$30*J29 -> 0 | K30: =$D$30*K29 -> 0 | L30: =$D$30*L29 -> 0 | M30: =$D$30*M29 -> 0 | ... AA30: =$D$30*AA29 -> 0
A32: Uses
B33: Capex per MW in USD 000s | C33: Real | D33: ='Assumptions and Outputs'!D48 -> 1300 | F33: =$D$33*F10 -> 1352 | G33: =$D$33*G10 -> 1406.08 | H33: =$D$33*H10 -> 1462.3232 | I33: =$D$33*I10 -> 1520.8161 | J33: =$D$33*J10 -> 1581.6488 | K33: =$D$33*K10 -> 1644.9147 | L33: =$D$33*L10 -> 1710.7113 | M33: =$D$33*M10 -> 1779.1398 | ... AA33: =$D$33*AA10 -> 3080.8944
B34: Capex per MW with overrun | C34: ='Assumptions and Outputs'!C49 -> % Capex | D34: ='Assumptions and Outputs'!D49 -> 0 | F34: =F33+$D$34*F33 -> 1352 | G34: =G33+$D$34*G33 -> 1406.08 | H34: =H33+$D$34*H33 -> 1462.3232 | I34: =I33+$D$34*I33 -> 1520.8161 | J34: =J33+$D$34*J33 -> 1581.6488 | K34: =K33+$D$34*K33 -> 1644.9147 | L34: =L33+$D$34*L33 -> 1710.7113 | M34: =M33+$D$34*M33 -> 1779.1398 | ... AA34: =AA33+$D$34*AA33 -> 3080.8944
B36: FX rate index | C36: Change/yr | D36: ='Assumptions and Outputs'!D51 -> 0.03 | E36: 1 | F36: =(1+$D$36)*E36 -> 1.03 | G36: =(1+$D$36)*F36 -> 1.0609 | H36: =(1+$D$36)*G36 -> 1.092727 | I36: =(1+$D$36)*H36 -> 1.1255088 | J36: =(1+$D$36)*I36 -> 1.1592741 | K36: =(1+$D$36)*J36 -> 1.1940523 | L36: =(1+$D$36)*K36 -> 1.2298739 | M36: =(1+$D$36)*L36 -> 1.2667701 | ... AA36: =(1+$D$36)*Z36 -> 1.9161034
B37: FX rate GBP/1USD | C37: Initial rate | D37: ='Assumptions and Outputs'!D50 -> 0.8 | F37: =$D$37*F36 -> 0.824 | G37: =$D$37*G36 -> 0.84872 | H37: =$D$37*H36 -> 0.8741816 | I37: =$D$37*I36 -> 0.90040705 | J37: =$D$37*J36 -> 0.92741926 | K37: =$D$37*K36 -> 0.95524184 | L37: =$D$37*L36 -> 0.98389909 | M37: =$D$37*M36 -> 1.0134161 | ... AA37: =$D$37*AA36 -> 1.5328827
B39: Capex per MW in GBP 000s | F39: =F34*F37 -> 1114.048 | G39: =G34*G37 -> 1193.3682 | H39: =H34*H37 -> 1278.336 | I39: =I34*I37 -> 1369.3536 | J39: =J34*J37 -> 1466.8515 | K39: =K34*K37 -> 1571.2914 | L39: =L34*L37 -> 1683.1673 | M39: =M34*M37 -> 1803.0088 | ... AA39: =AA34*AA37 -> 4722.6499
B40: Capex for installed capacity | F40: =F30*F39 -> 44561.92 | G40: =G30*G39 -> 190938.91 | H40: =H30*H39 -> 0 | I40: =I30*I39 -> 0 | J40: =J30*J39 -> 0 | K40: =K30*K39 -> 0 | L40: =L30*L39 -> 0 | M40: =M30*M39 -> 0 | ... AA40: =AA30*AA39 -> 0
B42: IDC (interest added to PPE) | F42: =IF(circ_switch=1,F74,0) -> 0 | G42: =IF(circ_switch=1,G74,0) -> 2868.2403 | H42: =IF(circ_switch=1,H74,0) -> 0 | I42: =IF(circ_switch=1,I74,0) -> 0 | J42: =IF(circ_switch=1,J74,0) -> 0 | K42: =IF(circ_switch=1,K74,0) -> 0 | L42: =IF(circ_switch=1,L74,0) -> 0 | M42: =IF(circ_switch=1,M74,0) -> 0 | ... AA42: =IF(circ_switch=1,AA74,0) -> 0
B43: Debt Serv Res Acc buildup | F43: =IF(AND(F7=1,circ_switch=1),Debt!E42-Debt!F42,0) -> 0 | G43: =IF(AND(G7=1,circ_switch=1),Debt!F42-Debt!G42,0) -> 5736.4806 | H43: =IF(AND(H7=1,circ_switch=1),Debt!G42-Debt!H42,0) -> 0 | I43: =IF(AND(I7=1,circ_switch=1),Debt!H42-Debt!I42,0) -> 0 | J43: =IF(AND(J7=1,circ_switch=1),Debt!I42-Debt!J42,0) -> 0 | K43: =IF(AND(K7=1,circ_switch=1),Debt!J42-Debt!K42,0) -> 0 | L43: =IF(AND(L7=1,circ_switch=1),Debt!K42-Debt!L42,0) -> 0 | M43: =IF(AND(M7=1,circ_switch=1),Debt!L42-Debt!M42,0) -> 0 | ... AA43: =IF(AND(AA7=1,circ_switch=1),Debt!Z42-Debt!AA42,0) -> 0
B45: Total funding need | F45: =F40+SUM(F42:F43) -> 44561.92 | G45: =G40+SUM(G42:G43) -> 199543.64 | H45: =H40+SUM(H42:H43) -> 0 | I45: =I40+SUM(I42:I43) -> 0 | J45: =J40+SUM(J42:J43) -> 0 | K45: =K40+SUM(K42:K43) -> 0 | L45: =L40+SUM(L42:L43) -> 0 | M45: =M40+SUM(M42:M43) -> 0 | ... AA45: =AA40+SUM(AA42:AA43) -> 0
A47: Capex/depreciation
B48: Beginning PPE | F48: =E51 -> 0 | G48: =F51 -> 44561.92 | H48: =G51 -> 238369.08 | I48: =H51 -> 226450.62 | J48: =I51 -> 214532.17 | K48: =J51 -> 202613.71 | L48: =K51 -> 190695.26 | M48: =L51 -> 178776.81 | ... AA48: =Z51 -> 11918.454
B49: Capex (including IDC) | C49: Total capex | D49: =SUM(F40:AA40)+SUM(F42:AA42) -> 238369.08 | F49: =F40+F42 -> 44561.92 | G49: =G40+G42 -> 193807.16 | H49: =H40+H42 -> 0 | I49: =I40+I42 -> 0 | J49: =J40+J42 -> 0 | K49: =K40+K42 -> 0 | L49: =L40+L42 -> 0 | M49: =M40+M42 -> 0 | ... AA49: =AA40+AA42 -> 0
B50: Depreciation | C50: ='Assumptions and Outputs'!C53 -> % Cost | D50: ='Assumptions and Outputs'!D53 -> 0.05 | F50: =MIN($D$49*$D$50,F48)*-1*F6 -> 0 | G50: =MIN($D$49*$D$50,G48)*-1*G6 -> 0 | H50: =MIN($D$49*$D$50,H48)*-1*H6 -> -11918.454 | I50: =MIN($D$49*$D$50,I48)*-1*I6 -> -11918.454 | J50: =MIN($D$49*$D$50,J48)*-1*J6 -> -11918.454 | K50: =MIN($D$49*$D$50,K48)*-1*K6 -> -11918.454 | L50: =MIN($D$49*$D$50,L48)*-1*L6 -> -11918.454 | M50: =MIN($D$49*$D$50,M48)*-1*M6 -> -11918.454 | ... AA50: =MIN($D$49*$D$50,AA48)*-1*AA6 -> -11918.454
B51: PPE at net book value | E51: 0 | F51: =SUM(F48:F50) -> 44561.92 | G51: =SUM(G48:G50) -> 238369.08 | H51: =SUM(H48:H50) -> 226450.62 | I51: =SUM(I48:I50) -> 214532.17 | J51: =SUM(J48:J50) -> 202613.71 | K51: =SUM(K48:K50) -> 190695.26 | L51: =SUM(L48:L50) -> 178776.81 | M51: =SUM(M48:M50) -> 166858.35 | ... AA51: =SUM(AA48:AA50) -> 0
A53: Equity financing
...

Sheet P&L and Tax
A1: =Info!A1 -> Renewable Energy Modeling
A2: =RIGHT(CELL("filename",A1),LEN(CELL("filename",A1))-SEARCH("]",CELL("filename", A1))) -> P&L and Tax | C2: Input | D2: Input | F2: ='Assumptions and Outputs'!D11 -> 55153 | G2: =EDATE(F2,12) -> 55518 | H2: =EDATE(G2,12) -> 55884 | I2: =EDATE(H2,12) -> 56249 | J2: =EDATE(I2,12) -> 56614 | K2: =EDATE(J2,12) -> 56979 | L2: =EDATE(K2,12) -> 57345 | M2: =EDATE(L2,12) -> 57710 | N2: =EDATE(M2,12) -> 58075 | ... AA2: =EDATE(Z2,12) -> 62823
B3: ="all in "&Local_currency&" 000s unless stated" -> all in GBP 000s unless stated | L3: =IF(ISBLANK(K3),"",_xlfn.FORMULATEXT(K3))
L4: =IF(ISBLANK(K4),"",_xlfn.FORMULATEXT(K4))
A5: Profit before tax | L5: =IF(ISBLANK(K5),"",_xlfn.FORMULATEXT(K5))
B6: EBITDA | F6: =Operations!F50 -> 0 | G6: =Operations!G50 -> 0 | H6: =Operations!H50 -> 16412.826 | I6: =Operations!I50 -> 21955.446 | J6: =Operations!J50 -> 30156.831 | K6: =Operations!K50 -> 30476.773 | L6: =Operations!L50 -> 30823.704 | M6: =Operations!M50 -> 31198.702 | ... AA6: =Operations!AA50 -> 34960.025
B7: Depreciation | F7: ='Sources and Uses'!F50 -> 0 | G7: ='Sources and Uses'!G50 -> 0 | H7: ='Sources and Uses'!H50 -> -11918.454 | I7: ='Sources and Uses'!I50 -> -11918.454 | J7: ='Sources and Uses'!J50 -> -11918.454 | K7: ='Sources and Uses'!K50 -> -11918.454 | L7: ='Sources and Uses'!L50 -> -11918.454 | M7: ='Sources and Uses'!M50 -> -11918.454 | ... AA7: ='Sources and Uses'!AA50 -> -11918.454
B8: Interest income | F8: =IF(circ_switch=1,Debt!F50,0) -> 0 | G8: =IF(circ_switch=1,Debt!G50,0) -> 28.664487 | H8: =IF(circ_switch=1,Debt!H50,0) -> 57.34689 | I8: =IF(circ_switch=1,Debt!I50,0) -> 95.127935 | J8: =IF(circ_switch=1,Debt!J50,0) -> 131.11723 | K8: =IF(circ_switch=1,Debt!K50,0) -> 127.56956 | L8: =IF(circ_switch=1,Debt!L50,0) -> 124.0219 | M8: =IF(circ_switch=1,Debt!M50,0) -> 120.47423 | ... AA8: =IF(circ_switch=1,Debt!AA50,0) -> 10.516881
B9: Interest expense | F9: =IF(circ_switch=1,Debt!F57,0) -> 0 | G9: =IF(circ_switch=1,Debt!G57,0) -> 0 | H9: =IF(circ_switch=1,Debt!H57,0) -> -5736.4806 | I9: =IF(circ_switch=1,Debt!I57,0) -> -5736.4806 | J9: =IF(circ_switch=1,Debt!J57,0) -> -5559.0972 | K9: =IF(circ_switch=1,Debt!K57,0) -> -5204.3304 | L9: =IF(circ_switch=1,Debt!L57,0) -> -4849.5637 | M9: =IF(circ_switch=1,Debt!M57,0) -> -4494.797 | ... AA9: =IF(circ_switch=1,Debt!AA57,0) -> -69.163241
B10: Profit before tax | F10: =SUM(F6:F9) -> 0 | G10: =SUM(G6:G9) -> 28.664487 | H10: =SUM(H6:H9) -> -1184.7617 | I10: =SUM(I6:I9) -> 4395.6401 | J10: =SUM(J6:J9) -> 12810.397 | K10: =SUM(K6:K9) -> 13481.559 | L10: =SUM(L6:L9) -> 14179.708 | M10: =SUM(M6:M9) -> 14905.926 | ... AA10: =SUM(AA6:AA9) -> 22982.925
A12: Thin capitalisation/BEPs
B13: Interest as a % of EBITDA | F13: =IFERROR(F9/F6*-1,"na") -> na | G13: =IFERROR(G9/G6*-1,"na") -> na | H13: =IFERROR(H9/H6*-1,"na") -> 0.34951206 | I13: =IFERROR(I9/I6*-1,"na") -> 0.26127825 | J13: =IFERROR(J9/J6*-1,"na") -> 0.18433957 | K13: =IFERROR(K9/K6*-1,"na") -> 0.17076383 | L13: =IFERROR(L9/L6*-1,"na") -> 0.15733228 | M13: =IFERROR(M9/M6*-1,"na") -> 0.14407 | ... AA13: =IFERROR(AA9/AA6*-1,"na") -> 0.0019783521
B14: Disallowed int as a % of EBITDA | C14: Limit | D14: ='Assumptions and Outputs'!D57 -> 0.3 | F14: =IFERROR(MAX(F13-$D$14,0),"na") -> na | G14: =IFERROR(MAX(G13-$D$14,0),"na") -> na | H14: =IFERROR(MAX(H13-$D$14,0),"na") -> 0.049512061 | I14: =IFERROR(MAX(I13-$D$14,0),"na") -> 0 | J14: =IFERROR(MAX(J13-$D$14,0),"na") -> 0 | K14: =IFERROR(MAX(K13-$D$14,0),"na") -> 0 | L14: =IFERROR(MAX(L13-$D$14,0),"na") -> 0 | M14: =IFERROR(MAX(M13-$D$14,0),"na") -> 0 | ... AA14: =IFERROR(MAX(AA13-$D$14,0),"na") -> 0
B15: Extra interest up to allowance | C15: Limit | D15: ='Assumptions and Outputs'!D57 -> 0.3 | F15: =IFERROR(MIN(F13-$D$14,0)*-1,"na") -> na | G15: =IFERROR(MIN(G13-$D$14,0)*-1,"na") -> na | H15: =IFERROR(MIN(H13-$D$14,0)*-1,"na") -> 0 | I15: =IFERROR(MIN(I13-$D$14,0)*-1,"na") -> 0.038721753 | J15: =IFERROR(MIN(J13-$D$14,0)*-1,"na") -> 0.11566043 | K15: =IFERROR(MIN(K13-$D$14,0)*-1,"na") -> 0.12923617 | L15: =IFERROR(MIN(L13-$D$14,0)*-1,"na") -> 0.14266772 | M15: =IFERROR(MIN(M13-$D$14,0)*-1,"na") -> 0.15593 | ... AA15: =IFERROR(MIN(AA13-$D$14,0)*-1,"na") -> 0.29802165
B17: Disallowed int beginning | F17: =E20 -> 0 | G17: =F20 -> 0 | H17: =G20 -> 0 | I17: =H20 -> 812.63283 | J17: =I20 -> 0 | K17: =J20 -> 0 | L17: =K20 -> 0 | M17: =L20 -> 0 | ... AA17: =Z20 -> 0
B18: Disallowed in year | F18: =IFERROR(F14*F6,0) -> 0 | G18: =IFERROR(G14*G6,0) -> 0 | H18: =IFERROR(H14*H6,0) -> 812.63283 | I18: =IFERROR(I14*I6,0) -> 0 | J18: =IFERROR(J14*J6,0) -> 0 | K18: =IFERROR(K14*K6,0) -> 0 | L18: =IFERROR(L14*L6,0) -> 0 | M18: =IFERROR(M14*M6,0) -> 0 | ... AA18: =IFERROR(AA14*AA6,0) -> 0
B19: Used in year | F19: =IFERROR(IF(F17>0,MIN(F17,F15*F6)*-1,0),0) -> 0 | G19: =IFERROR(IF(G17>0,MIN(G17,G15*G6)*-1,0),0) -> 0 | H19: =IFERROR(IF(H17>0,MIN(H17,H15*H6)*-1,0),0) -> 0 | I19: =IFERROR(IF(I17>0,MIN(I17,I15*I6)*-1,0),0) -> -812.63283 | J19: =IFERROR(IF(J17>0,MIN(J17,J15*J6)*-1,0),0) -> 0 | K19: =IFERROR(IF(K17>0,MIN(K17,K15*K6)*-1,0),0) -> 0 | L19: =IFERROR(IF(L17>0,MIN(L17,L15*L6)*-1,0),0) -> 0 | M19: =IFERROR(IF(M17>0,MIN(M17,M15*M6)*-1,0),0) -> 0 | ... AA19: =IFERROR(IF(AA17>0,MIN(AA17,AA15*AA6)*-1,0),0) -> 0
B20: Disallowed int ending | E20: 0 | F20: =SUM(F17:F19) -> 0 | G20: =SUM(G17:G19) -> 0 | H20: =SUM(H17:H19) -> 812.63283 | I20: =SUM(I17:I19) -> 0 | J20: =SUM(J17:J19) -> 0 | K20: =SUM(K17:K19) -> 0 | L20: =SUM(L17:L19) -> 0 | M20: =SUM(M17:M19) -> 0 | ... AA20: =SUM(AA17:AA19) -> 0
A22: Net operating losses (NOLs)
B23: PBT | F23: =F10 -> 0 | G23: =G10 -> 28.664487 | H23: =H10 -> -1184.7617 | I23: =I10 -> 4395.6401 | J23: =J10 -> 12810.397 | K23: =K10 -> 13481.559 | L23: =L10 -> 14179.708 | M23: =M10 -> 14905.926 | ... AA23: =AA10 -> 22982.925
B24: Thin capitalisation adjustment | F24: =SUM(F18:F19) -> 0 | G24: =SUM(G18:G19) -> 0 | H24: =SUM(H18:H19) -> 812.63283 | I24: =SUM(I18:I19) -> -812.63283 | J24: =SUM(J18:J19) -> 0 | K24: =SUM(K18:K19) -> 0 | L24: =SUM(L18:L19) -> 0 | M24: =SUM(M18:M19) -> 0 | ... AA24: =SUM(AA18:AA19) -> 0
B25: Taxable profits before NOLs | F25: =SUM(F23:F24) -> 0 | G25: =SUM(G23:G24) -> 28.664487 | H25: =SUM(H23:H24) -> -372.12884 | I25: =SUM(I23:I24) -> 3583.0072 | J25: =SUM(J23:J24) -> 12810.397 | K25: =SUM(K23:K24) -> 13481.559 | L25: =SUM(L23:L24) -> 14179.708 | M25: =SUM(M23:M24) -> 14905.926 | ... AA25: =SUM(AA23:AA24) -> 22982.925
B27: NOL carry fwd beginning | F27: =E30 -> 0 | G27: =F30 -> 0 | H27: =G30 -> 0 | I27: =H30 -> 372.12884 | J27: =I30 -> 0 | K27: =J30 -> 0 | L27: =K30 -> 0 | M27: =L30 -> 0 | ... AA27: =Z30 -> 0
B28: NOL created in year | F28: =MIN(F25,0)*-1 -> 0 | G28: =MIN(G25,0)*-1 -> 0 | H28: =MIN(H25,0)*-1 -> 372.12884 | I28: =MIN(I25,0)*-1 -> 0 | J28: =MIN(J25,0)*-1 -> 0 | K28: =MIN(K25,0)*-1 -> 0 | L28: =MIN(L25,0)*-1 -> 0 | M28: =MIN(M25,0)*-1 -> 0 | ... AA28: =MIN(AA25,0)*-1 -> 0
B29: NOL used in year | F29: =IF(F25>0,MIN(F25,F27)*-1,0) -> 0 | G29: =IF(G25>0,MIN(G25,G27)*-1,0) -> 0 | H29: =IF(H25>0,MIN(H25,H27)*-1,0) -> 0 | I29: =IF(I25>0,MIN(I25,I27)*-1,0) -> -372.12884 | J29: =IF(J25>0,MIN(J25,J27)*-1,0) -> 0 | K29: =IF(K25>0,MIN(K25,K27)*-1,0) -> 0 | L29: =IF(L25>0,MIN(L25,L27)*-1,0) -> 0 | M29: =IF(M25>0,MIN(M25,M27)*-1,0) -> 0 | ... AA29: =IF(AA25>0,MIN(AA25,AA27)*-1,0) -> 0
B30: NOL carry fwd ending | E30: 0 | F30: =SUM(F27:F29) -> 0 | G30: =SUM(G27:G29) -> 0 | H30: =SUM(H27:H29) -> 372.12884 | I30: =SUM(I27:I29) -> 0 | J30: =SUM(J27:J29) -> 0 | K30: =SUM(K27:K29) -> 0 | L30: =SUM(L27:L29) -> 0 | M30: =SUM(M27:M29) -> 0 | ... AA30: =SUM(AA27:AA29) -> 0
A32: Taxable profits
B33: Profit before tax | F33: =F10 -> 0 | G33: =G10 -> 28.664487 | H33: =H10 -> -1184.7617 | I33: =I10 -> 4395.6401 | J33: =J10 -> 12810.397 | K33: =K10 -> 13481.559 | L33: =L10 -> 14179.708 | M33: =M10 -> 14905.926 | ... AA33: =AA10 -> 22982.925
B34: Thin capitalisation adjustment | F34: =SUM(F18:F19) -> 0 | G34: =SUM(G18:G19) -> 0 | H34: =SUM(H18:H19) -> 812.63283 | I34: =SUM(I18:I19) -> -812.63283 | J34: =SUM(J18:J19) -> 0 | K34: =SUM(K18:K19) -> 0 | L34: =SUM(L18:L19) -> 0 | M34: =SUM(M18:M19) -> 0 | ... AA34: =SUM(AA18:AA19) -> 0
B35: NOL adjustment | F35: =SUM(F28:F29) -> 0 | G35: =SUM(G28:G29) -> 0 | H35: =SUM(H28:H29) -> 372.12884 | I35: =SUM(I28:I29) -> -372.12884 | J35: =SUM(J28:J29) -> 0 | K35: =SUM(K28:K29) -> 0 | L35: =SUM(L28:L29) -> 0 | M35: =SUM(M28:M29) -> 0 | ... AA35: =SUM(AA28:AA29) -> 0
B36: Taxable profit | F36: =SUM(F33:F35) -> 0 | G36: =SUM(G33:G35) -> 28.664487 | H36: =SUM(H33:H35) -> 0 | I36: =SUM(I33:I35) -> 3210.8784 | J36: =SUM(J33:J35) -> 12810.397 | K36: =SUM(K33:K35) -> 13481.559 | L36: =SUM(L33:L35) -> 14179.708 | M36: =SUM(M33:M35) -> 14905.926 | ... AA36: =SUM(AA33:AA35) -> 22982.925
B37: Tax expense | C37: Tax rate | D37: ='Assumptions and Outputs'!D56 -> 0.25 | F37: =$D$37*F36 -> 0 | G37: =$D$37*G36 -> 7.1661219 | H37: =$D$37*H36 -> 0 | I37: =$D$37*I36 -> 802.71959 | J37: =$D$37*J36 -> 3202.5993 | K37: =$D$37*K36 -> 3370.3896 | L37: =$D$37*L36 -> 3544.9271 | M37: =$D$37*M36 -> 3726.4814 | ... AA37: =$D$37*AA36 -> 5745.7313
A39: Profit after tax
B40: Profit before tax | F40: =F10 -> 0 | G40: =G10 -> 28.664487 | H40: =H10 -> -1184.7617 | I40: =I10 -> 4395.6401 | J40: =J10 -> 12810.397 | K40: =K10 -> 13481.559 | L40: =L10 -> 14179.708 | M40: =M10 -> 14905.926 | ... AA40: =AA10 -> 22982.925
B41: Tax expense | F41: =F37*-1 -> 0 | G41: =G37*-1 -> -7.1661219 | H41: =H37*-1 -> 0 | I41: =I37*-1 -> -802.71959 | J41: =J37*-1 -> -3202.5993 | K41: =K37*-1 -> -3370.3896 | L41: =L37*-1 -> -3544.9271 | M41: =M37*-1 -> -3726.4814 | ... AA41: =AA37*-1 -> -5745.7313
B42: Net income | F42: =SUM(F40:F41) -> 0 | G42: =SUM(G40:G41) -> 21.498366 | H42: =SUM(H40:H41) -> -1184.7617 | I42: =SUM(I40:I41) -> 3592.9205 | J42: =SUM(J40:J41) -> 9607.7979 | K42: =SUM(K40:K41) -> 10111.169 | L42: =SUM(L40:L41) -> 10634.781 | M42: =SUM(M40:M41) -> 11179.444 | ... AA42: =SUM(AA40:AA41) -> 17237.194
A44: Tax payable
B45: Tax paid on profits made in year | D45: ='Assumptions and Outputs'!D58 -> 0.5 | F45: =$D$45*F41 -> 0 | G45: =$D$45*G41 -> -3.5830609 | H45: =$D$45*H41 -> 0 | I45: =$D$45*I41 -> -401.3598 | J45: =$D$45*J41 -> -1601.2997 | K45: =$D$45*K41 -> -1685.1948 | L45: =$D$45*L41 -> -1772.4635 | M45: =$D$45*M41 -> -1863.2407 | ... AA45: =$D$45*AA41 -> -2872.8656
B46: Tax payable | D46: ='Assumptions and Outputs'!D59 -> 0.5 | F46: =$D$46*F41*-1 -> 0 | G46: =$D$46*G41*-1 -> 3.5830609 | H46: =$D$46*H41*-1 -> 0 | I46: =$D$46*I41*-1 -> 401.3598 | J46: =$D$46*J41*-1 -> 1601.2997 | K46: =$D$46*K41*-1 -> 1685.1948 | L46: =$D$46*L41*-1 -> 1772.4635 | M46: =$D$46*M41*-1 -> 1863.2407 | ... AA46: =$D$46*AA41*-1 -> 2872.8656
B48: Tax cashflow on profits made in year | F48: =F45 -> 0 | G48: =G45 -> -3.5830609 | H48: =H45 -> 0 | I48: =I45 -> -401.3598 | J48: =J45 -> -1601.2997 | K48: =K45 -> -1685.1948 | L48: =L45 -> -1772.4635 | M48: =M45 -> -1863.2407 | ... AA48: =AA45 -> -2872.8656
...

Sheet Balance sheet
A1: =Info!A1 -> Renewable Energy Modeling
A2: =RIGHT(CELL("filename",A1),LEN(CELL("filename",A1))-SEARCH("]",CELL("filename", A1))) -> Balance sheet | C2: Input | D2: Input | F2: ='Assumptions and Outputs'!D11 -> 55153 | G2: =EDATE(F2,12) -> 55518 | H2: =EDATE(G2,12) -> 55884 | I2: =EDATE(H2,12) -> 56249 | J2: =EDATE(I2,12) -> 56614 | K2: =EDATE(J2,12) -> 56979 | L2: =EDATE(K2,12) -> 57345 | M2: =EDATE(L2,12) -> 57710 | N2: =EDATE(M2,12) -> 58075 | ... AA2: =EDATE(Z2,12) -> 62823
B3: ="all in "&Local_currency&" 000s unless stated" -> all in GBP 000s unless stated | L3: =IF(ISBLANK(K3),"",_xlfn.FORMULATEXT(K3))
L4: =IF(ISBLANK(K4),"",_xlfn.FORMULATEXT(K4))
A5: Balance sheet calculations | L5: =IF(ISBLANK(K5),"",_xlfn.FORMULATEXT(K5))
B6: Beginning retained earnings | F6: =E9 -> 0 | G6: =F9 -> 0 | H6: =G9 -> 21.498366 | I6: =H9 -> -12646.577 | J6: =I9 -> -17080.003 | K6: =J9 -> -22204.841 | L6: =K9 -> -26904.63 | M6: =L9 -> -31609.393 | ... AA6: =Z9 -> -114447.38
B7: Net income | F7: ='P&L and Tax'!F42 -> 0 | G7: ='P&L and Tax'!G42 -> 21.498366 | H7: ='P&L and Tax'!H42 -> -1184.7617 | I7: ='P&L and Tax'!I42 -> 3592.9205 | J7: ='P&L and Tax'!J42 -> 9607.7979 | K7: ='P&L and Tax'!K42 -> 10111.169 | L7: ='P&L and Tax'!L42 -> 10634.781 | M7: ='P&L and Tax'!M42 -> 11179.444 | ... AA7: ='P&L and Tax'!AA42 -> 17237.194
B8: Dividends | F8: =Debt!F47 -> 0 | G8: =Debt!G47 -> 0 | H8: =Debt!H47 -> -11483.314 | I8: =Debt!I47 -> -8026.3464 | J8: =Debt!J47 -> -14732.635 | K8: =Debt!K47 -> -14810.959 | L8: =Debt!L47 -> -15339.544 | M8: =Debt!M47 -> -15889.378 | ... AA8: =Debt!AA47 -> -29478.828
B9: Ending retained earnings | E9: 0 | F9: =SUM(F6:F8) -> 0 | G9: =SUM(G6:G8) -> 21.498366 | H9: =SUM(H6:H8) -> -12646.577 | I9: =SUM(I6:I8) -> -17080.003 | J9: =SUM(J6:J8) -> -22204.841 | K9: =SUM(K6:K8) -> -26904.63 | L9: =SUM(L6:L8) -> -31609.393 | M9: =SUM(M6:M8) -> -36319.327 | ... AA9: =SUM(AA6:AA8) -> -126689.02
A11: Balance sheet
B12: Cash | F12: ='Cashflow statement'!F23 -> 0 | G12: ='Cashflow statement'!G23 -> 5761.562 | H12: ='Cashflow statement'!H23 -> 5793.8274 | I12: ='Cashflow statement'!I23 -> 13384.234 | J12: ='Cashflow statement'!J23 -> 13065.457 | K12: ='Cashflow statement'!K23 -> 12707.143 | L12: ='Cashflow statement'!L23 -> 12348.828 | M12: ='Cashflow statement'!M23 -> 11990.514 | ... AA12: ='Cashflow statement'!AA23 -> 10.516881
B13: Receivables | C13: ='Assumptions and Outputs'!C62 -> Days | D13: ='Assumptions and Outputs'!D62 -> 30 | F13: =$D$13/'Assumptions and Outputs'!$D$20*Operations!F42 -> 0 | G13: =$D$13/'Assumptions and Outputs'!$D$20*Operations!G42 -> 0 | H13: =$D$13/'Assumptions and Outputs'!$D$20*Operations!H42 -> 3483.4693 | I13: =$D$13/'Assumptions and Outputs'!$D$20*Operations!I42 -> 4098.6044 | J13: =$D$13/'Assumptions and Outputs'!$D$20*Operations!J42 -> 4864.4526 | K13: =$D$13/'Assumptions and Outputs'!$D$20*Operations!K42 -> 4986.1816 | L13: =$D$13/'Assumptions and Outputs'!$D$20*Operations!L42 -> 5113.9461 | M13: =$D$13/'Assumptions and Outputs'!$D$20*Operations!M42 -> 5247.9876 | ... AA13: =$D$13/'Assumptions and Outputs'!$D$20*Operations!AA42 -> 7520.7453
B14: PPE | F14: ='Sources and Uses'!F51 -> 44561.92 | G14: ='Sources and Uses'!G51 -> 238369.08 | H14: ='Sources and Uses'!H51 -> 226450.62 | I14: ='Sources and Uses'!I51 -> 214532.17 | J14: ='Sources and Uses'!J51 -> 202613.71 | K14: ='Sources and Uses'!K51 -> 190695.26 | L14: ='Sources and Uses'!L51 -> 178776.81 | M14: ='Sources and Uses'!M51 -> 166858.35 | ... AA14: ='Sources and Uses'!AA51 -> 0
B15: Total assets | F15: =SUM(F12:F14) -> 44561.92 | G15: =SUM(G12:G14) -> 244130.64 | H15: =SUM(H12:H14) -> 235727.92 | I15: =SUM(I12:I14) -> 232015.01 | J15: =SUM(J12:J14) -> 220543.62 | K15: =SUM(K12:K14) -> 208388.58 | L15: =SUM(L12:L14) -> 196239.58 | M15: =SUM(M12:M14) -> 184096.85 | ... AA15: =SUM(AA12:AA14) -> 7531.2622
B17: Tax payable | F17: ='P&L and Tax'!F46 -> 0 | G17: ='P&L and Tax'!G46 -> 3.5830609 | H17: ='P&L and Tax'!H46 -> 0 | I17: ='P&L and Tax'!I46 -> 401.3598 | J17: ='P&L and Tax'!J46 -> 1601.2997 | K17: ='P&L and Tax'!K46 -> 1685.1948 | L17: ='P&L and Tax'!L46 -> 1772.4635 | M17: ='P&L and Tax'!M46 -> 1863.2407 | ... AA17: ='P&L and Tax'!AA46 -> 2872.8656
B18: Trade payables | C18: ='Assumptions and Outputs'!C63 -> Days | D18: ='Assumptions and Outputs'!D63 -> 60 | F18: =$D$18/'Assumptions and Outputs'!$D$20*Operations!F47*-1 -> 0 | G18: =$D$18/'Assumptions and Outputs'!$D$20*Operations!G47*-1 -> 0 | H18: =$D$18/'Assumptions and Outputs'!$D$20*Operations!H47*-1 -> 4268.9399 | I18: =$D$18/'Assumptions and Outputs'!$D$20*Operations!I47*-1 -> 4588.0942 | J18: =$D$18/'Assumptions and Outputs'!$D$20*Operations!J47*-1 -> 4771.618 | K18: =$D$18/'Assumptions and Outputs'!$D$20*Operations!K47*-1 -> 4962.4827 | L18: =$D$18/'Assumptions and Outputs'!$D$20*Operations!L47*-1 -> 5160.982 | M18: =$D$18/'Assumptions and Outputs'!$D$20*Operations!M47*-1 -> 5367.4213 | ... AA18: =$D$18/'Assumptions and Outputs'!$D$20*Operations!AA47*-1 -> 9294.6371
B19: Senior debt | F19: =Debt!F24 -> 0 | G19: =Debt!G24 -> 85436.944 | H19: =Debt!H24 -> 85436.944 | I19: =Debt!I24 -> 85436.944 | J19: =Debt!J24 -> 79741.148 | K19: =Debt!K24 -> 74045.352 | L19: =Debt!L24 -> 68349.556 | M19: =Debt!M24 -> 62653.759 | ... AA19: =Debt!AA24 -> 0
B20: Junior debt | F20: =Debt!F32 -> 0 | G20: =Debt!G32 -> 36615.833 | H20: =Debt!H32 -> 36615.833 | I20: =Debt!I32 -> 36615.833 | J20: =Debt!J32 -> 34581.62 | K20: =Debt!K32 -> 32547.407 | L20: =Debt!L32 -> 30513.194 | M20: =Debt!M32 -> 28478.981 | ... AA20: =Debt!AA32 -> 0
B21: Total liabilities | F21: =SUM(F17:F20) -> 0 | G21: =SUM(G17:G20) -> 122056.36 | H21: =SUM(H17:H20) -> 126321.72 | I21: =SUM(I17:I20) -> 127042.23 | J21: =SUM(J17:J20) -> 120695.69 | K21: =SUM(K17:K20) -> 113240.44 | L21: =SUM(L17:L20) -> 105796.2 | M21: =SUM(M17:M20) -> 98363.403 | ... AA21: =SUM(AA17:AA20) -> 12167.503
B23: Equity | F23: ='Sources and Uses'!F61 -> 44561.92 | G23: ='Sources and Uses'!G61 -> 122052.78 | H23: ='Sources and Uses'!H61 -> 122052.78 | I23: ='Sources and Uses'!I61 -> 122052.78 | J23: ='Sources and Uses'!J61 -> 122052.78 | K23: ='Sources and Uses'!K61 -> 122052.78 | L23: ='Sources and Uses'!L61 -> 122052.78 | M23: ='Sources and Uses'!M61 -> 122052.78 | ... AA23: ='Sources and Uses'!AA61 -> 122052.78
B24: Retained earnings | F24: =F9 -> 0 | G24: =G9 -> 21.498366 | H24: =H9 -> -12646.577 | I24: =I9 -> -17080.003 | J24: =J9 -> -22204.841 | K24: =K9 -> -26904.63 | L24: =L9 -> -31609.393 | M24: =M9 -> -36319.327 | ... AA24: =AA9 -> -126689.02
B25: Total liabilities and equity | F25: =F21+SUM(F23:F24) -> 44561.92 | G25: =G21+SUM(G23:G24) -> 244130.64 | H25: =H21+SUM(H23:H24) -> 235727.92 | I25: =I21+SUM(I23:I24) -> 232015.01 | J25: =J21+SUM(J23:J24) -> 220543.62 | K25: =K21+SUM(K23:K24) -> 208388.58 | L25: =L21+SUM(L23:L24) -> 196239.58 | M25: =M21+SUM(M23:M24) -> 184096.85 | ... AA25: =AA21+SUM(AA23:AA24) -> 7531.2622
B27: Check | F27: =F25-F15 -> 0 | G27: =G25-G15 -> 0 | H27: =H25-H15 -> 0 | I27: =I25-I15 -> 0 | J27: =J25-J15 -> 0 | K27: =K25-K15 -> 0 | L27: =L25-L15 -> 0 | M27: =M25-M15 -> 0 | ... AA27: =AA25-AA15 -> 1.1823431e-10
L28: =IF(ISBLANK(K28),"",_xlfn.FORMULATEXT(K28))
A29: End | L29: =IF(ISBLANK(K29),"",_xlfn.FORMULATEXT(K29))
L30: =IF(ISBLANK(K30),"",_xlfn.FORMULATEXT(K30))
L31: =IF(ISBLANK(K31),"",_xlfn.FORMULATEXT(K31))
L32: =IF(ISBLANK(K32),"",_xlfn.FORMULATEXT(K32))
L33: =IF(ISBLANK(K33),"",_xlfn.FORMULATEXT(K33))
L34: =IF(ISBLANK(K34),"",_xlfn.FORMULATEXT(K34))
L35: =IF(ISBLANK(K35),"",_xlfn.FORMULATEXT(K35))
L36: =IF(ISBLANK(K36),"",_xlfn.FORMULATEXT(K36))
L37: =IF(ISBLANK(K37),"",_xlfn.FORMULATEXT(K37))
L38: =IF(ISBLANK(K38),"",_xlfn.FORMULATEXT(K38))
L39: =IF(ISBLANK(K39),"",_xlfn.FORMULATEXT(K39))

Sheet Cashflow statement
A1: =Info!A1 -> Renewable Energy Modeling
A2: =RIGHT(CELL("filename",A1),LEN(CELL("filename",A1))-SEARCH("]",CELL("filename", A1))) -> Cashflow statement | C2: Input | D2: Input | F2: ='Assumptions and Outputs'!D11 -> 55153 | G2: =EDATE(F2,12) -> 55518 | H2: =EDATE(G2,12) -> 55884 | I2: =EDATE(H2,12) -> 56249 | J2: =EDATE(I2,12) -> 56614 | K2: =EDATE(J2,12) -> 56979 | L2: =EDATE(K2,12) -> 57345 | M2: =EDATE(L2,12) -> 57710 | N2: =EDATE(M2,12) -> 58075 | ... AA2: =EDATE(Z2,12) -> 62823
B3: ="all in "&Local_currency&" 000s unless stated" -> all in GBP 000s unless stated | L3: =IF(ISBLANK(K3),"",_xlfn.FORMULATEXT(K3))
L4: =IF(ISBLANK(K4),"",_xlfn.FORMULATEXT(K4))
B5: Net income | F5: ='P&L and Tax'!F42 -> 0 | G5: ='P&L and Tax'!G42 -> 21.498366 | H5: ='P&L and Tax'!H42 -> -1184.7617 | I5: ='P&L and Tax'!I42 -> 3592.9205 | J5: ='P&L and Tax'!J42 -> 9607.7979 | K5: ='P&L and Tax'!K42 -> 10111.169 | L5: ='P&L and Tax'!L42 -> 10634.781 | M5: ='P&L and Tax'!M42 -> 11179.444 | ... AA5: ='P&L and Tax'!AA42 -> 17237.194
B6: Depreciation | F6: ='Sources and Uses'!F50*-1 -> 0 | G6: ='Sources and Uses'!G50*-1 -> 0 | H6: ='Sources and Uses'!H50*-1 -> 11918.454 | I6: ='Sources and Uses'!I50*-1 -> 11918.454 | J6: ='Sources and Uses'!J50*-1 -> 11918.454 | K6: ='Sources and Uses'!K50*-1 -> 11918.454 | L6: ='Sources and Uses'!L50*-1 -> 11918.454 | M6: ='Sources and Uses'!M50*-1 -> 11918.454 | ... AA6: ='Sources and Uses'!AA50*-1 -> 11918.454
B7: ="Change in "&'Balance sheet'!B13 -> Change in Receivables | F7: ='Balance sheet'!E13-'Balance sheet'!F13 -> 0 | G7: ='Balance sheet'!F13-'Balance sheet'!G13 -> 0 | H7: ='Balance sheet'!G13-'Balance sheet'!H13 -> -3483.4693 | I7: ='Balance sheet'!H13-'Balance sheet'!I13 -> -615.13505 | J7: ='Balance sheet'!I13-'Balance sheet'!J13 -> -765.84828 | K7: ='Balance sheet'!J13-'Balance sheet'!K13 -> -121.72898 | L7: ='Balance sheet'!K13-'Balance sheet'!L13 -> -127.7645 | M7: ='Balance sheet'!L13-'Balance sheet'!M13 -> -134.04143 | ... AA7: ='Balance sheet'!Z13-'Balance sheet'!AA13 -> -271.24089
B8: ="Change in "&'Balance sheet'!B18 -> Change in Trade payables | F8: ='Balance sheet'!F18-'Balance sheet'!E18 -> 0 | G8: ='Balance sheet'!G18-'Balance sheet'!F18 -> 0 | H8: ='Balance sheet'!H18-'Balance sheet'!G18 -> 4268.9399 | I8: ='Balance sheet'!I18-'Balance sheet'!H18 -> 319.15438 | J8: ='Balance sheet'!J18-'Balance sheet'!I18 -> 183.52377 | K8: ='Balance sheet'!K18-'Balance sheet'!J18 -> 190.86472 | L8: ='Balance sheet'!L18-'Balance sheet'!K18 -> 198.49931 | M8: ='Balance sheet'!M18-'Balance sheet'!L18 -> 206.43928 | ... AA8: ='Balance sheet'!AA18-'Balance sheet'!Z18 -> 357.48604
B9: ="Change in "&'Balance sheet'!B17 -> Change in Tax payable | F9: ='Balance sheet'!F17-'Balance sheet'!E17 -> 0 | G9: ='Balance sheet'!G17-'Balance sheet'!F17 -> 3.5830609 | H9: ='Balance sheet'!H17-'Balance sheet'!G17 -> -3.5830609 | I9: ='Balance sheet'!I17-'Balance sheet'!H17 -> 401.3598 | J9: ='Balance sheet'!J17-'Balance sheet'!I17 -> 1199.9399 | K9: ='Balance sheet'!K17-'Balance sheet'!J17 -> 83.895164 | L9: ='Balance sheet'!L17-'Balance sheet'!K17 -> 87.268709 | M9: ='Balance sheet'!M17-'Balance sheet'!L17 -> 90.777196 | ... AA9: ='Balance sheet'!AA17-'Balance sheet'!Z17 -> 156.56359
B10: Operating cashflows | F10: =SUM(F5:F9) -> 0 | G10: =SUM(G5:G9) -> 25.081427 | H10: =SUM(H5:H9) -> 11515.58 | I10: =SUM(I5:I9) -> 15616.753 | J10: =SUM(J5:J9) -> 22143.867 | K10: =SUM(K5:K9) -> 22182.654 | L10: =SUM(L5:L9) -> 22711.238 | M10: =SUM(M5:M9) -> 23261.073 | ... AA10: =SUM(AA5:AA9) -> 29398.456
B12: Capex | F12: ='Sources and Uses'!F49*-1 -> -44561.92 | G12: ='Sources and Uses'!G49*-1 -> -193807.16 | H12: ='Sources and Uses'!H49*-1 -> 0 | I12: ='Sources and Uses'!I49*-1 -> 0 | J12: ='Sources and Uses'!J49*-1 -> 0 | K12: ='Sources and Uses'!K49*-1 -> 0 | L12: ='Sources and Uses'!L49*-1 -> 0 | M12: ='Sources and Uses'!M49*-1 -> 0 | ... AA12: ='Sources and Uses'!AA49*-1 -> 0
B13: Investing cashflows | F13: =SUM(F12) -> -44561.92 | G13: =SUM(G12) -> -193807.16 | H13: =SUM(H12) -> 0 | I13: =SUM(I12) -> 0 | J13: =SUM(J12) -> 0 | K13: =SUM(K12) -> 0 | L13: =SUM(L12) -> 0 | M13: =SUM(M12) -> 0 | ... AA13: =SUM(AA12) -> 0
B15: Senior debt issuance/repayment | F15: =Debt!F24-Debt!E24 -> 0 | G15: =Debt!G24-Debt!F24 -> 85436.944 | H15: =Debt!H24-Debt!G24 -> 0 | I15: =Debt!I24-Debt!H24 -> 0 | J15: =Debt!J24-Debt!I24 -> -5695.7963 | K15: =Debt!K24-Debt!J24 -> -5695.7963 | L15: =Debt!L24-Debt!K24 -> -5695.7963 | M15: =Debt!M24-Debt!L24 -> -5695.7963 | ... AA15: =Debt!AA24-Debt!Z24 -> 0
B16: Junior debt issuance/repayment | F16: =Debt!F32-Debt!E32 -> 0 | G16: =Debt!G32-Debt!F32 -> 36615.833 | H16: =Debt!H32-Debt!G32 -> 0 | I16: =Debt!I32-Debt!H32 -> 0 | J16: =Debt!J32-Debt!I32 -> -2034.213 | K16: =Debt!K32-Debt!J32 -> -2034.213 | L16: =Debt!L32-Debt!K32 -> -2034.213 | M16: =Debt!M32-Debt!L32 -> -2034.213 | ... AA16: =Debt!AA32-Debt!Z32 -> -2034.213
B17: Equity issuance | F17: ='Sources and Uses'!F60 -> 44561.92 | G17: ='Sources and Uses'!G60 -> 77490.858 | H17: ='Sources and Uses'!H60 -> 0 | I17: ='Sources and Uses'!I60 -> 0 | J17: ='Sources and Uses'!J60 -> 0 | K17: ='Sources and Uses'!K60 -> 0 | L17: ='Sources and Uses'!L60 -> 0 | M17: ='Sources and Uses'!M60 -> 0 | ... AA17: ='Sources and Uses'!AA60 -> 0
B18: Dividends | F18: =Debt!F47 -> 0 | G18: =Debt!G47 -> 0 | H18: =Debt!H47 -> -11483.314 | I18: =Debt!I47 -> -8026.3464 | J18: =Debt!J47 -> -14732.635 | K18: =Debt!K47 -> -14810.959 | L18: =Debt!L47 -> -15339.544 | M18: =Debt!M47 -> -15889.378 | ... AA18: =Debt!AA47 -> -29478.828
B19: Financing cashflows | F19: =SUM(F15:F18) -> 44561.92 | G19: =SUM(G15:G18) -> 199543.64 | H19: =SUM(H15:H18) -> -11483.314 | I19: =SUM(I15:I18) -> -8026.3464 | J19: =SUM(J15:J18) -> -22462.644 | K19: =SUM(K15:K18) -> -22540.968 | L19: =SUM(L15:L18) -> -23069.553 | M19: =SUM(M15:M18) -> -23619.388 | ... AA19: =SUM(AA15:AA18) -> -31513.041
B21: Opening cash | F21: =E23 -> 0 | G21: =F23 -> 0 | H21: =G23 -> 5761.562 | I21: =H23 -> 5793.8274 | J21: =I23 -> 13384.234 | K21: =J23 -> 13065.457 | L21: =K23 -> 12707.143 | M21: =L23 -> 12348.828 | ... AA21: =Z23 -> 2125.1016
B22: Net cashflow | F22: =F10+F13+F19 -> 0 | G22: =G10+G13+G19 -> 5761.562 | H22: =H10+H13+H19 -> 32.265464 | I22: =I10+I13+I19 -> 7590.4069 | J22: =J10+J13+J19 -> -318.77745 | K22: =K10+K13+K19 -> -358.31441 | L22: =L10+L13+L19 -> -358.31441 | M22: =M10+M13+M19 -> -358.31441 | ... AA22: =AA10+AA13+AA19 -> -2114.5847
B23: Ending cash | E23: 0 | F23: =SUM(F21:F22) -> 0 | G23: =SUM(G21:G22) -> 5761.562 | H23: =SUM(H21:H22) -> 5793.8274 | I23: =SUM(I21:I22) -> 13384.234 | J23: =SUM(J21:J22) -> 13065.457 | K23: =SUM(K21:K22) -> 12707.143 | L23: =SUM(L21:L22) -> 12348.828 | M23: =SUM(M21:M22) -> 11990.514 | ... AA23: =SUM(AA21:AA22) -> 10.516881
L24: =IF(ISBLANK(K24),"",_xlfn.FORMULATEXT(K24))
A25: End | L25: =IF(ISBLANK(K25),"",_xlfn.FORMULATEXT(K25))
L26: =IF(ISBLANK(K26),"",_xlfn.FORMULATEXT(K26))
L27: =IF(ISBLANK(K27),"",_xlfn.FORMULATEXT(K27))
L28: =IF(ISBLANK(K28),"",_xlfn.FORMULATEXT(K28))
L29: =IF(ISBLANK(K29),"",_xlfn.FORMULATEXT(K29))
L30: =IF(ISBLANK(K30),"",_xlfn.FORMULATEXT(K30))
L31: =IF(ISBLANK(K31),"",_xlfn.FORMULATEXT(K31))
L32: =IF(ISBLANK(K32),"",_xlfn.FORMULATEXT(K32))
L33: =IF(ISBLANK(K33),"",_xlfn.FORMULATEXT(K33))
L34: =IF(ISBLANK(K34),"",_xlfn.FORMULATEXT(K34))
L35: =IF(ISBLANK(K35),"",_xlfn.FORMULATEXT(K35))
L36: =IF(ISBLANK(K36),"",_xlfn.FORMULATEXT(K36))
L37: =IF(ISBLANK(K37),"",_xlfn.FORMULATEXT(K37))
... L57: =IF(ISBLANK(K57),"",_xlfn.FORMULATEXT(K57))

Sheet Debt
A1: =Info!A1 -> Renewable Energy Modeling
A2: =RIGHT(CELL("filename",A1),LEN(CELL("filename",A1))-SEARCH("]",CELL("filename", A1))) -> Debt | C2: Input | D2: Input | F2: ='Assumptions and Outputs'!D11 -> 55153 | G2: =EDATE(F2,12) -> 55518 | H2: =EDATE(G2,12) -> 55884 | I2: =EDATE(H2,12) -> 56249 | J2: =EDATE(I2,12) -> 56614 | K2: =EDATE(J2,12) -> 56979 | L2: =EDATE(K2,12) -> 57345 | M2: =EDATE(L2,12) -> 57710 | N2: =EDATE(M2,12) -> 58075 | ... AA2: =EDATE(Z2,12) -> 62823
B3: ="all in "&Local_currency&" 000s unless stated" -> all in GBP 000s unless stated | L3: =IF(ISBLANK(K3),"",_xlfn.FORMULATEXT(K3))
L4: =IF(ISBLANK(K4),"",_xlfn.FORMULATEXT(K4))
A5: Flags | L5: =IF(ISBLANK(K5),"",_xlfn.FORMULATEXT(K5))
B6: Grace period | C6: Ending | D6: ='Assumptions and Outputs'!D13 -> 56249 | F6: =IF(F2>$D$6,0,1) -> 1 | G6: =IF(G2>$D$6,0,1) -> 1 | H6: =IF(H2>$D$6,0,1) -> 1 | I6: =IF(I2>$D$6,0,1) -> 1 | J6: =IF(J2>$D$6,0,1) -> 0 | K6: =IF(K2>$D$6,0,1) -> 0 | L6: =IF(L2>$D$6,0,1) -> 0 | M6: =IF(M2>$D$6,0,1) -> 0 | ... AA6: =IF(AA2>$D$6,0,1) -> 0
B7: Interest during construction (IDC) | F7: ='Sources and Uses'!F7 -> 1 | G7: ='Sources and Uses'!G7 -> 1 | H7: ='Sources and Uses'!H7 -> 0 | I7: ='Sources and Uses'!I7 -> 0 | J7: ='Sources and Uses'!J7 -> 0 | K7: ='Sources and Uses'!K7 -> 0 | L7: ='Sources and Uses'!L7 -> 0 | M7: ='Sources and Uses'!M7 -> 0 | ... AA7: ='Sources and Uses'!AA7 -> 0
B8: DSCR/LLCR/IC measured | F8: =1-F7 -> 0 | G8: =1-G7 -> 0 | H8: =1-H7 -> 1 | I8: =1-I7 -> 1 | J8: =1-J7 -> 1 | K8: =1-K7 -> 1 | L8: =1-L7 -> 1 | M8: =1-M7 -> 1 | ... AA8: =1-AA7 -> 1
A10: Debt cashflows
B11: EBITDA | F11: =Operations!F50 -> 0 | G11: =Operations!G50 -> 0 | H11: =Operations!H50 -> 16412.826 | I11: =Operations!I50 -> 21955.446 | J11: =Operations!J50 -> 30156.831 | K11: =Operations!K50 -> 30476.773 | L11: =Operations!L50 -> 30823.704 | M11: =Operations!M50 -> 31198.702 | ... AA11: =Operations!AA50 -> 34960.025
B12: Cash taxes | F12: ='P&L and Tax'!F50 -> 0 | G12: ='P&L and Tax'!G50 -> -3.5830609 | H12: ='P&L and Tax'!H50 -> -3.5830609 | I12: ='P&L and Tax'!I50 -> -401.3598 | J12: ='P&L and Tax'!J50 -> -2002.6595 | K12: ='P&L and Tax'!K50 -> -3286.4945 | L12: ='P&L and Tax'!L50 -> -3457.6583 | M12: ='P&L and Tax'!M50 -> -3635.7043 | ... AA12: ='P&L and Tax'!AA50 -> -5589.1677
B13: Change in receivables | F13: ='Cashflow statement'!F7 -> 0 | G13: ='Cashflow statement'!G7 -> 0 | H13: ='Cashflow statement'!H7 -> -3483.4693 | I13: ='Cashflow statement'!I7 -> -615.13505 | J13: ='Cashflow statement'!J7 -> -765.84828 | K13: ='Cashflow statement'!K7 -> -121.72898 | L13: ='Cashflow statement'!L7 -> -127.7645 | M13: ='Cashflow statement'!M7 -> -134.04143 | ... AA13: ='Cashflow statement'!AA7 -> -271.24089
B14: Change in trade payables | F14: ='Cashflow statement'!F8 -> 0 | G14: ='Cashflow statement'!G8 -> 0 | H14: ='Cashflow statement'!H8 -> 4268.9399 | I14: ='Cashflow statement'!I8 -> 319.15438 | J14: ='Cashflow statement'!J8 -> 183.52377 | K14: ='Cashflow statement'!K8 -> 190.86472 | L14: ='Cashflow statement'!L8 -> 198.49931 | M14: ='Cashflow statement'!M8 -> 206.43928 | ... AA14: ='Cashflow statement'!AA8 -> 357.48604
B15: Investing cashflows | F15: ='Cashflow statement'!F13 -> -44561.92 | G15: ='Cashflow statement'!G13 -> -193807.16 | H15: ='Cashflow statement'!H13 -> 0 | I15: ='Cashflow statement'!I13 -> 0 | J15: ='Cashflow statement'!J13 -> 0 | K15: ='Cashflow statement'!K13 -> 0 | L15: ='Cashflow statement'!L13 -> 0 | M15: ='Cashflow statement'!M13 -> 0 | ... AA15: ='Cashflow statement'!AA13 -> 0
B16: CF available for debt service (CFADS) | F16: =SUM(F11:F15) -> -44561.92 | G16: =SUM(G11:G15) -> -193810.74 | H16: =SUM(H11:H15) -> 17194.713 | I16: =SUM(I11:I15) -> 21258.106 | J16: =SUM(J11:J15) -> 27571.847 | K16: =SUM(K11:K15) -> 27259.414 | L16: =SUM(L11:L15) -> 27436.78 | M16: =SUM(M11:M15) -> 27635.396 | ... AA16: =SUM(AA11:AA15) -> 29457.103
B18: Beginning cash | F18: =E53 -> 0 | G18: =F53 -> 0 | H18: =G53 -> 5761.562 | I18: =H53 -> 5793.8274 | J18: =I53 -> 13384.234 | K18: =J53 -> 13065.457 | L18: =K53 -> 12707.143 | M18: =L53 -> 12348.828 | ... AA18: =Z53 -> 2125.1016
B19: Cash available for senior debt | F19: =F16+F18 -> -44561.92 | G19: =G16+G18 -> -193810.74 | H19: =H16+H18 -> 22956.275 | I19: =I16+I18 -> 27051.933 | J19: =J16+J18 -> 40956.081 | K19: =K16+K18 -> 40324.871 | L19: =L16+L18 -> 40143.923 | M19: =M16+M18 -> 39984.224 | ... AA19: =AA16+AA18 -> 31582.204
B21: Beginning senior debt | F21: =E24 -> 0 | G21: =F24 -> 0 | H21: =G24 -> 85436.944 | I21: =H24 -> 85436.944 | J21: =I24 -> 85436.944 | K21: =J24 -> 79741.148 | L21: =K24 -> 74045.352 | M21: =L24 -> 68349.556 | ... AA21: =Z24 -> 0
B22: Issuance of debt | C22: Total | D22: =SUM(F22:AA22) -> 85436.944 | F22: ='Sources and Uses'!F66 -> 0 | G22: ='Sources and Uses'!G66 -> 85436.944 | H22: ='Sources and Uses'!H66 -> 0 | I22: ='Sources and Uses'!I66 -> 0 | J22: ='Sources and Uses'!J66 -> 0 | K22: ='Sources and Uses'!K66 -> 0 | L22: ='Sources and Uses'!L66 -> 0 | M22: ='Sources and Uses'!M66 -> 0 | ... AA22: ='Sources and Uses'!AA66 -> 0
B23: Mandatory repayment | C23: ='Assumptions and Outputs'!C69 -> Years | D23: ='Assumptions and Outputs'!D69 -> 15 | F23: =MIN($D$22/$D$23,F21)*(1-F6)*-1 -> 0 | G23: =MIN($D$22/$D$23,G21)*(1-G6)*-1 -> 0 | H23: =MIN($D$22/$D$23,H21)*(1-H6)*-1 -> 0 | I23: =MIN($D$22/$D$23,I21)*(1-I6)*-1 -> 0 | J23: =MIN($D$22/$D$23,J21)*(1-J6)*-1 -> -5695.7963 | K23: =MIN($D$22/$D$23,K21)*(1-K6)*-1 -> -5695.7963 | L23: =MIN($D$22/$D$23,L21)*(1-L6)*-1 -> -5695.7963 | M23: =MIN($D$22/$D$23,M21)*(1-M6)*-1 -> -5695.7963 | ... AA23: =MIN($D$22/$D$23,AA21)*(1-AA6)*-1 -> 0
B24: Ending senior debt | E24: 0 | F24: =SUM(F21:F23) -> 0 | G24: =SUM(G21:G23) -> 85436.944 | H24: =SUM(H21:H23) -> 85436.944 | I24: =SUM(I21:I23) -> 85436.944 | J24: =SUM(J21:J23) -> 79741.148 | K24: =SUM(K21:K23) -> 74045.352 | L24: =SUM(L21:L23) -> 68349.556 | M24: =SUM(M21:M23) -> 62653.759 | ... AA24: =SUM(AA21:AA23) -> 0
B25: Interest | C25: ='Sources and Uses'!C72 -> Int rate | D25: ='Sources and Uses'!D72 -> 0.038 | F25: =$D$25*AVERAGE(E24,F24)*(1-F7)*-1 -> 0 | G25: =$D$25*AVERAGE(F24,G24)*(1-G7)*-1 -> 0 | H25: =$D$25*AVERAGE(G24,H24)*(1-H7)*-1 -> -3246.6039 | I25: =$D$25*AVERAGE(H24,I24)*(1-I7)*-1 -> -3246.6039 | J25: =$D$25*AVERAGE(I24,J24)*(1-J7)*-1 -> -3138.3838 | K25: =$D$25*AVERAGE(J24,K24)*(1-K7)*-1 -> -2921.9435 | L25: =$D$25*AVERAGE(K24,L24)*(1-L7)*-1 -> -2705.5032 | M25: =$D$25*AVERAGE(L24,M24)*(1-M7)*-1 -> -2489.063 | ... AA25: =$D$25*AVERAGE(Z24,AA24)*(1-AA7)*-1 -> 0
B27: Cash available for junior debt | F27: =F19+F22+F23+F25 -> -44561.92 | G27: =G19+G22+G23+G25 -> -108373.79 | H27: =H19+H22+H23+H25 -> 19709.671 | I27: =I19+I22+I23+I25 -> 23805.33 | J27: =J19+J22+J23+J25 -> 32121.901 | K27: =K19+K22+K23+K25 -> 31707.132 | L27: =L19+L22+L23+L25 -> 31742.623 | M27: =M19+M22+M23+M25 -> 31799.365 | ... AA27: =AA19+AA22+AA23+AA25 -> 31582.204
B29: Beginning junior debt | F29: =E32 -> 0 | G29: =F32 -> 0 | H29: =G32 -> 36615.833 | I29: =H32 -> 36615.833 | J29: =I32 -> 36615.833 | K29: =J32 -> 34581.62 | L29: =K32 -> 32547.407 | M29: =L32 -> 30513.194 | ... AA29: =Z32 -> 2034.213
B30: Issuance of debt | C30: Total | D30: =SUM(F30:AA30) -> 36615.833 | F30: ='Sources and Uses'!F67 -> 0 | G30: ='Sources and Uses'!G67 -> 36615.833 | H30: ='Sources and Uses'!H67 -> 0 | I30: ='Sources and Uses'!I67 -> 0 | J30: ='Sources and Uses'!J67 -> 0 | K30: ='Sources and Uses'!K67 -> 0 | L30: ='Sources and Uses'!L67 -> 0 | M30: ='Sources and Uses'!M67 -> 0 | ... AA30: ='Sources and Uses'!AA67 -> 0
